Workbook
Name wc7datafields: Events!$C$9:$AE$300

Sheet Region Info
G2: Game Obtainable | K2: Region Allowed | O2: Wonder Card Languages Available
C3: WC ID | D3: TID | E3: Event | F3: Type | G3: Sun | H3: Moon | I3: Ultra Sun | J3: Ultra Moon | K3: US | L3: EU | M3: JP | N3: KO | O3: ENG | P3: FRE | Q3: GER | R3: ITA | S3: JPN | T3: KOR | U3: SPA | V3: CHS | W3: CHT
B4: =if(E4="","",IMAGE(Lower(if(Events!F10="Pkmn",("https://projectpokemon.org/images/mini_sprites/"),"https://projectpokemon.org/images/items/")) & Lower(substitute(substitute(substitute(E4,")",""),"(","")," ","_") & ".png"), 3)) | C4: =IF(E4="","",Events!D10) -> 201 | D4: =IF(Events!E10=0,"",Events!E10) -> 161118 | E4: =IF(Events!G10=0,"",Events!G10) -> Comfey | F4: =IF(Events!T10=0,"",Events!T10) -> Local Wireless | G4: =IF(Events!U10=0,"",Events!U10) -> 1 | H4: =IF(Events!V10=0,"",Events!V10) -> 1 | K4: =IF(Events!Y10=0,"",Events!Y10) -> 1 | L4: =IF(Events!Z10=0,"",Events!Z10) -> 1 | M4: =IF(Events!AA10=0,"",Events!AA10) -> 1 | N4: =IF(Events!AB10=0,"",Events!AB10) -> 1 | O4: =IF(Events!K10=0,"",Events!K10) -> x | P4: =IF(Events!L10=0,"",Events!L10) -> x | Q4: =IF(Events!M10=0,"",Events!M10) -> x | R4: =IF(Events!N10=0,"",Events!N10) -> x | S4: =IF(Events!O10=0,"",Events!O10) -> R | T4: =IF(Events!P10=0,"",Events!P10) -> x | U4: =IF(Events!Q10=0,"",Events!Q10) -> x | V4: =IF(Events!R10=0,"",Events!R10) -> x | W4: =IF(Events!S10=0,"",Events!S10) -> x
B5: =if(E5="","",IMAGE(Lower(if(Events!F11="Pkmn",("https://projectpokemon.org/images/mini_sprites/"),"https://projectpokemon.org/images/items/")) & Lower(substitute(substitute(substitute(E5,")",""),"(","")," ","_") & ".png"), 3)) | C5: =IF(E5="","",Events!D11) -> 201 | D5: =IF(Events!E11=0,"",Events!E11) -> 161118 | E5: =IF(Events!G11=0,"",Events!G11) -> Eevee | F5: =IF(Events!T11=0,"",Events!T11) -> Local Wireless | G5: =IF(Events!U11=0,"",Events!U11) -> 1 | H5: =IF(Events!V11=0,"",Events!V11) -> 1 | K5: =IF(Events!Y11=0,"",Events!Y11) -> 1 | L5: =IF(Events!Z11=0,"",Events!Z11) -> 1 | M5: =IF(Events!AA11=0,"",Events!AA11) -> 1 | N5: =IF(Events!AB11=0,"",Events!AB11) -> 1 | O5: =IF(Events!K11=0,"",Events!K11) -> x | P5: =IF(Events!L11=0,"",Events!L11) -> x | Q5: =IF(Events!M11=0,"",Events!M11) -> x | R5: =IF(Events!N11=0,"",Events!N11) -> x | S5: =IF(Events!O11=0,"",Events!O11) -> R | T5: =IF(Events!P11=0,"",Events!P11) -> x | U5: =IF(Events!Q11=0,"",Events!Q11) -> x | V5: =IF(Events!R11=0,"",Events!R11) -> x | W5: =IF(Events!S11=0,"",Events!S11) -> x
B6: =if(E6="","",IMAGE(Lower(if(Events!F12="Pkmn",("https://projectpokemon.org/images/mini_sprites/"),"https://projectpokemon.org/images/items/")) & Lower(substitute(substitute(substitute(E6,")",""),"(","")," ","_") & ".png"), 3)) | C6: =IF(E6="","",Events!D12) -> 201 | D6: =IF(Events!E12=0,"",Events!E12) -> 161118 | E6: =IF(Events!G12=0,"",Events!G12) -> Pikachu | F6: =IF(Events!T12=0,"",Events!T12) -> Local Wireless | G6: =IF(Events!U12=0,"",Events!U12) -> 1 | H6: =IF(Events!V12=0,"",Events!V12) -> 1 | K6: =IF(Events!Y12=0,"",Events!Y12) -> 1 | L6: =IF(Events!Z12=0,"",Events!Z12) -> 1 | M6: =IF(Events!AA12=0,"",Events!AA12) -> 1 | N6: =IF(Events!AB12=0,"",Events!AB12) -> 1 | O6: =IF(Events!K12=0,"",Events!K12) -> x | P6: =IF(Events!L12=0,"",Events!L12) -> x | Q6: =IF(Events!M12=0,"",Events!M12) -> x | R6: =IF(Events!N12=0,"",Events!N12) -> x | S6: =IF(Events!O12=0,"",Events!O12) -> R | T6: =IF(Events!P12=0,"",Events!P12) -> x | U6: =IF(Events!Q12=0,"",Events!Q12) -> x | V6: =IF(Events!R12=0,"",Events!R12) -> x | W6: =IF(Events!S12=0,"",Events!S12) -> x
B7: =if(E7="","",IMAGE(Lower(if(Events!F13="Pkmn",("https://projectpokemon.org/images/mini_sprites/"),"https://projectpokemon.org/images/items/")) & Lower(substitute(substitute(substitute(E7,")",""),"(","")," ","_") & ".png"), 3)) | C7: =IF(E7="","",Events!D13) -> 202 | D7: =IF(Events!E13=0,"",Events!E13) -> - | E7: =IF(Events!G13=0,"",Events!G13) -> Revival Herb | F7: =IF(Events!T13=0,"",Events!T13) -> Serial Code | G7: =IF(Events!U13=0,"",Events!U13) -> 1 | H7: =IF(Events!V13=0,"",Events!V13) -> 1 | K7: =IF(Events!Y13=0,"",Events!Y13) | L7: =IF(Events!Z13=0,"",Events!Z13) -> 1 | M7: =IF(Events!AA13=0,"",Events!AA13) -> 1 | N7: =IF(Events!AB13=0,"",Events!AB13) | O7: =IF(Events!K13=0,"",Events!K13) -> Nil | P7: =IF(Events!L13=0,"",Events!L13) -> x | Q7: =IF(Events!M13=0,"",Events!M13) -> x | R7: =IF(Events!N13=0,"",Events!N13) -> x | S7: =IF(Events!O13=0,"",Events!O13) -> x | T7: =IF(Events!P13=0,"",Events!P13) -> x | U7: =IF(Events!Q13=0,"",Events!Q13) -> x | V7: =IF(Events!R13=0,"",Events!R13) -> x | W7: =IF(Events!S13=0,"",Events!S13) -> x
B8: =if(E8="","",IMAGE(Lower(if(Events!F14="Pkmn",("https://projectpokemon.org/images/mini_sprites/"),"https://projectpokemon.org/images/items/")) & Lower(substitute(substitute(substitute(E8,")",""),"(","")," ","_") & ".png"), 3)) | C8: =IF(E8="","",Events!D14) -> 203 | D8: =IF(Events!E14=0,"",Events!E14) -> 161201 | E8: =IF(Events!G14=0,"",Events!G14) -> Vulpix (Alolan) | F8: =IF(Events!T14=0,"",Events!T14) -> Local Wireless | G8: =IF(Events!U14=0,"",Events!U14) -> 1 | H8: =IF(Events!V14=0,"",Events!V14) -> 1 | K8: =IF(Events!Y14=0,"",Events!Y14) -> 1 | L8: =IF(Events!Z14=0,"",Events!Z14) -> 1 | M8: =IF(Events!AA14=0,"",Events!AA14) -> 1 | N8: =IF(Events!AB14=0,"",Events!AB14) -> 1 | O8: =IF(Events!K14=0,"",Events!K14) -> x | P8: =IF(Events!L14=0,"",Events!L14) -> x | Q8: =IF(Events!M14=0,"",Events!M14) -> x | R8: =IF(Events!N14=0,"",Events!N14) -> x | S8: =IF(Events!O14=0,"",Events!O14) -> R | T8: =IF(Events!P14=0,"",Events!P14) -> x | U8: =IF(Events!Q14=0,"",Events!Q14) -> x | V8: =IF(Events!R14=0,"",Events!R14) -> x | W8: =IF(Events!S14=0,"",Events!S14) -> x
B9: =if(E9="","",IMAGE(Lower(if(Events!F15="Pkmn",("https://projectpokemon.org/images/mini_sprites/"),"https://projectpokemon.org/images/items/")) & Lower(substitute(substitute(substitute(E9,")",""),"(","")," ","_") & ".png"), 3)) | C9: =IF(E9="","",Events!D15) -> 204 | D9: =IF(Events!E15=0,"",Events!E15) -> - | E9: =IF(Events!G15=0,"",Events!G15) -> Comet Shard | F9: =IF(Events!T15=0,"",Events!T15) -> Local Wireless | G9: =IF(Events!U15=0,"",Events!U15) -> 1 | H9: =IF(Events!V15=0,"",Events!V15) -> 1 | K9: =IF(Events!Y15=0,"",Events!Y15) -> 1 | L9: =IF(Events!Z15=0,"",Events!Z15) -> 1 | M9: =IF(Events!AA15=0,"",Events!AA15) -> 1 | N9: =IF(Events!AB15=0,"",Events!AB15) -> 1 | O9: =IF(Events!K15=0,"",Events!K15) -> x | P9: =IF(Events!L15=0,"",Events!L15) -> x | Q9: =IF(Events!M15=0,"",Events!M15) -> x | R9: =IF(Events!N15=0,"",Events!N15) -> x | S9: =IF(Events!O15=0,"",Events!O15) -> Nil | T9: =IF(Events!P15=0,"",Events!P15) -> x | U9: =IF(Events!Q15=0,"",Events!Q15) -> x | V9: =IF(Events!R15=0,"",Events!R15) -> x | W9: =IF(Events!S15=0,"",Events!S15) -> x
B10: =if(E10="","",IMAGE(Lower(if(Events!F16="Pkmn",("https://projectpokemon.org/images/mini_sprites/"),"https://projectpokemon.org/images/items/")) & Lower(substitute(substitute(substitute(E10,")",""),"(","")," ","_") & ".png"), 3)) | C10: =IF(E10="","",Events!D16) -> 204 | D10: =IF(Events!E16=0,"",Events!E16) -> - | E10: =IF(Events!G16=0,"",Events!G16) -> Full Heal | F10: =IF(Events!T16=0,"",Events!T16) -> Local Wireless | G10: =IF(Events!U16=0,"",Events!U16) -> 1 | H10: =IF(Events!V16=0,"",Events!V16) -> 1 | K10: =IF(Events!Y16=0,"",Events!Y16) -> 1 | L10: =IF(Events!Z16=0,"",Events!Z16) -> 1 | M10: =IF(Events!AA16=0,"",Events!AA16) -> 1 | N10: =IF(Events!AB16=0,"",Events!AB16) -> 1 | O10: =IF(Events!K16=0,"",Events!K16) -> x | P10: =IF(Events!L16=0,"",Events!L16) -> x | Q10: =IF(Events!M16=0,"",Events!M16) -> x | R10: =IF(Events!N16=0,"",Events!N16) -> x | S10: =IF(Events!O16=0,"",Events!O16) -> Nil | T10: =IF(Events!P16=0,"",Events!P16) -> x | U10: =IF(Events!Q16=0,"",Events!Q16) -> x | V10: =IF(Events!R16=0,"",Events!R16) -> x | W10: =IF(Events!S16=0,"",Events!S16) -> x
B11: =if(E11="","",IMAGE(Lower(if(Events!F17="Pkmn",("https://projectpokemon.org/images/mini_sprites/"),"https://projectpokemon.org/images/items/")) & Lower(substitute(substitute(substitute(E11,")",""),"(","")," ","_") & ".png"), 3)) | C11: =IF(E11="","",Events!D17) -> 204 | D11: =IF(Events!E17=0,"",Events!E17) -> - | E11: =IF(Events!G17=0,"",Events!G17) -> Full Restore | F11: =IF(Events!T17=0,"",Events!T17) -> Local Wireless | G11: =IF(Events!U17=0,"",Events!U17) -> 1 | H11: =IF(Events!V17=0,"",Events!V17) -> 1 | K11: =IF(Events!Y17=0,"",Events!Y17) -> 1 | L11: =IF(Events!Z17=0,"",Events!Z17) -> 1 | M11: =IF(Events!AA17=0,"",Events!AA17) -> 1 | N11: =IF(Events!AB17=0,"",Events!AB17) -> 1 | O11: =IF(Events!K17=0,"",Events!K17) -> x | P11: =IF(Events!L17=0,"",Events!L17) -> x | Q11: =IF(Events!M17=0,"",Events!M17) -> x | R11: =IF(Events!N17=0,"",Events!N17) -> x | S11: =IF(Events!O17=0,"",Events!O17) -> Nil | T11: =IF(Events!P17=0,"",Events!P17) -> x | U11: =IF(Events!Q17=0,"",Events!Q17) -> x | V11: =IF(Events!R17=0,"",Events!R17) -> x | W11: =IF(Events!S17=0,"",Events!S17) -> x
B12: =if(E12="","",IMAGE(Lower(if(Events!F18="Pkmn",("https://projectpokemon.org/images/mini_sprites/"),"https://projectpokemon.org/images/items/")) & Lower(substitute(substitute(substitute(E12,")",""),"(","")," ","_") & ".png"), 3)) | C12: =IF(E12="","",Events!D18) -> 204 | D12: =IF(Events!E18=0,"",Events!E18) -> - | E12: =IF(Events!G18=0,"",Events!G18) -> Heal Powder | F12: =IF(Events!T18=0,"",Events!T18) -> Local Wireless | G12: =IF(Events!U18=0,"",Events!U18) -> 1 | H12: =IF(Events!V18=0,"",Events!V18) -> 1 | K12: =IF(Events!Y18=0,"",Events!Y18) -> 1 | L12: =IF(Events!Z18=0,"",Events!Z18) -> 1 | M12: =IF(Events!AA18=0,"",Events!AA18) -> 1 | N12: =IF(Events!AB18=0,"",Events!AB18) -> 1 | O12: =IF(Events!K18=0,"",Events!K18) -> x | P12: =IF(Events!L18=0,"",Events!L18) -> x | Q12: =IF(Events!M18=0,"",Events!M18) -> x | R12: =IF(Events!N18=0,"",Events!N18) -> x | S12: =IF(Events!O18=0,"",Events!O18) -> Nil | T12: =IF(Events!P18=0,"",Events!P18) -> x | U12: =IF(Events!Q18=0,"",Events!Q18) -> x | V12: =IF(Events!R18=0,"",Events!R18) -> x | W12: =IF(Events!S18=0,"",Events!S18) -> x
B13: =if(E13="","",IMAGE(Lower(if(Events!F19="Pkmn",("https://projectpokemon.org/images/mini_sprites/"),"https://projectpokemon.org/images/items/")) & Lower(substitute(substitute(substitute(E13,")",""),"(","")," ","_") & ".png"), 3)) | C13: =IF(E13="","",Events!D19) -> 204 | D13: =IF(Events!E19=0,"",Events!E19) -> - | E13: =IF(Events!G19=0,"",Events!G19) -> Hyper Potion | F13: =IF(Events!T19=0,"",Events!T19) -> Local Wireless | G13: =IF(Events!U19=0,"",Events!U19) -> 1 | H13: =IF(Events!V19=0,"",Events!V19) -> 1 | K13: =IF(Events!Y19=0,"",Events!Y19) -> 1 | L13: =IF(Events!Z19=0,"",Events!Z19) -> 1 | M13: =IF(Events!AA19=0,"",Events!AA19) -> 1 | N13: =IF(Events!AB19=0,"",Events!AB19) -> 1 | O13: =IF(Events!K19=0,"",Events!K19) -> x | P13: =IF(Events!L19=0,"",Events!L19) -> x | Q13: =IF(Events!M19=0,"",Events!M19) -> x | R13: =IF(Events!N19=0,"",Events!N19) -> x | S13: =IF(Events!O19=0,"",Events!O19) -> Nil | T13: =IF(Events!P19=0,"",Events!P19) -> x | U13: =IF(Events!Q19=0,"",Events!Q19) -> x | V13: =IF(Events!R19=0,"",Events!R19) -> x | W13: =IF(Events!S19=0,"",Events!S19) -> x
B14: =if(E14="","",IMAGE(Lower(if(Events!F20="Pkmn",("https://projectpokemon.org/images/mini_sprites/"),"https://projectpokemon.org/images/items/")) & Lower(substitute(substitute(substitute(E14,")",""),"(","")," ","_") & ".png"), 3)) | C14: =IF(E14="","",Events!D20) -> 204 | D14: =IF(Events!E20=0,"",Events!E20) -> - | E14: =IF(Events!G20=0,"",Events!G20) -> Potion | F14: =IF(Events!T20=0,"",Events!T20) -> Local Wireless | G14: =IF(Events!U20=0,"",Events!U20) -> 1 | H14: =IF(Events!V20=0,"",Events!V20) -> 1 | K14: =IF(Events!Y20=0,"",Events!Y20) -> 1 | L14: =IF(Events!Z20=0,"",Events!Z20) -> 1 | M14: =IF(Events!AA20=0,"",Events!AA20) -> 1 | N14: =IF(Events!AB20=0,"",Events!AB20) -> 1 | O14: =IF(Events!K20=0,"",Events!K20) -> x | P14: =IF(Events!L20=0,"",Events!L20) -> x | Q14: =IF(Events!M20=0,"",Events!M20) -> x | R14: =IF(Events!N20=0,"",Events!N20) -> x | S14: =IF(Events!O20=0,"",Events!O20) -> Nil | T14: =IF(Events!P20=0,"",Events!P20) -> x | U14: =IF(Events!Q20=0,"",Events!Q20) -> x | V14: =IF(Events!R20=0,"",Events!R20) -> x | W14: =IF(Events!S20=0,"",Events!S20) -> x
B15: =if(E15="","",IMAGE(Lower(if(Events!F21="Pkmn",("https://projectpokemon.org/images/mini_sprites/"),"https://projectpokemon.org/images/items/")) & Lower(substitute(substitute(substitute(E15,")",""),"(","")," ","_") & ".png"), 3)) | C15: =IF(E15="","",Events!D21) -> 204 | D15: =IF(Events!E21=0,"",Events!E21) -> - | E15: =IF(Events!G21=0,"",Events!G21) -> Revive | F15: =IF(Events!T21=0,"",Events!T21) -> Local Wireless | G15: =IF(Events!U21=0,"",Events!U21) -> 1 | H15: =IF(Events!V21=0,"",Events!V21) -> 1 | K15: =IF(Events!Y21=0,"",Events!Y21) -> 1 | L15: =IF(Events!Z21=0,"",Events!Z21) -> 1 | M15: =IF(Events!AA21=0,"",Events!AA21) -> 1 | N15: =IF(Events!AB21=0,"",Events!AB21) -> 1 | O15: =IF(Events!K21=0,"",Events!K21) -> x | P15: =IF(Events!L21=0,"",Events!L21) -> x | Q15: =IF(Events!M21=0,"",Events!M21) -> x | R15: =IF(Events!N21=0,"",Events!N21) -> x | S15: =IF(Events!O21=0,"",Events!O21) -> Nil | T15: =IF(Events!P21=0,"",Events!P21) -> x | U15: =IF(Events!Q21=0,"",Events!Q21) -> x | V15: =IF(Events!R21=0,"",Events!R21) -> x | W15: =IF(Events!S21=0,"",Events!S21) -> x
... B150: =if(E150="","",IMAGE(Lower(if(Events!F156="Pkmn",("https://projectpokemon.org/images/mini_sprites/"),"https://projectpokemon.org/images/items/")) & Lower(substitute(substitute(substitute(E150,")",""),"(","")," ","_") & ".png"), 3)) | C150: =IF(E150="","",Events!D156) | D150: =IF(Events!E156=0,"",Events!E156) | E150: =IF(Events!G156=0,"",Events!G156) | F150: =IF(Events!T156=0,"",Events!T156) | G150: =IF(Events!U156=0,"",Events!U156) | H150: =IF(Events!V156=0,"",Events!V156) | K150: =IF(Events!Y156=0,"",Events!Y156) | L150: =IF(Events!Z156=0,"",Events!Z156) | M150: =IF(Events!AA156=0,"",Events!AA156) | N150: =IF(Events!AB156=0,"",Events!AB156) | O150: =IF(Events!K156=0,"",Events!K156) | P150: =IF(Events!L156=0,"",Events!L156) | Q150: =IF(Events!M156=0,"",Events!M156) | R150: =IF(Events!N156=0,"",Events!N156) | S150: =IF(Events!O156=0,"",Events!O156) | T150: =IF(Events!P156=0,"",Events!P156) | U150: =IF(Events!Q156=0,"",Events!Q156) | V150: =IF(Events!R156=0,"",Events!R156) | W150: =IF(Events!S156=0,"",Events!S156)

Sheet Upcoming and Missing Events
C2: Year and Type | D2: Detail | E2: Description | F2: Dates | G2: TID | H2: Distribution Type | I2: Languages Missing
B3: =image('Missing Wondercards'!W3,3 ) | C3: ='Missing Wondercards'!H3 -> Year 2017: Pkmn | D3: ='Missing Wondercards'!I3 -> Ho-Oh | E3: ='Missing Wondercards'!J3 -> CoroCoro Giveaway | F3: ='Missing Wondercards'!K3 -> Jul 15 - ? | G3: ='Missing Wondercards'!M3 -> ? | H3: ='Missing Wondercards'!N3 -> Serial Code | I3: ='Missing Wondercards'!O3 -> JPN
B4: =image('Missing Wondercards'!W4,3 ) | C4: ='Missing Wondercards'!H4 -> Year 2017: Pkmn | D4: ='Missing Wondercards'!I4 -> Jirachi | E4: ='Missing Wondercards'!J4 -> Tohoku Pokecen's Tanabata Jirachi | F4: ='Missing Wondercards'!K4 -> Aug 06 - Aug 13, 2017 | G4: ='Missing Wondercards'!M4 -> ? | H4: ='Missing Wondercards'!N4 -> Local Wireless | I4: ='Missing Wondercards'!O4 -> JPN
B5: =image('Missing Wondercards'!W5,3 ) | C5: ='Missing Wondercards'!H5 -> Year 2017: Pkmn | D5: ='Missing Wondercards'!I5 -> Salazzle | E5: ='Missing Wondercards'!J5 -> ? | F5: ='Missing Wondercards'!K5 -> ? - ? | G5: ='Missing Wondercards'!M5 -> ? | H5: ='Missing Wondercards'!N5 -> Serial Code | I5: ='Missing Wondercards'!O5 -> ENG & FRE & GER & ITA & SPA
B6: =image('Missing Wondercards'!W6,3 ) | C6: ='Missing Wondercards'!H6 | D6: ='Missing Wondercards'!I6 | E6: ='Missing Wondercards'!J6 | F6: ='Missing Wondercards'!K6 | G6: ='Missing Wondercards'!M6 | H6: ='Missing Wondercards'!N6 | I6: ='Missing Wondercards'!O6
B7: =image('Missing Wondercards'!W7,3 ) | C7: ='Missing Wondercards'!H7 | D7: ='Missing Wondercards'!I7 | E7: ='Missing Wondercards'!J7 | F7: ='Missing Wondercards'!K7 | G7: ='Missing Wondercards'!M7 | H7: ='Missing Wondercards'!N7 | I7: ='Missing Wondercards'!O7
B8: =image('Missing Wondercards'!W8,3 ) | C8: ='Missing Wondercards'!H8 | D8: ='Missing Wondercards'!I8 | E8: ='Missing Wondercards'!J8 | F8: ='Missing Wondercards'!K8 | G8: ='Missing Wondercards'!M8 | H8: ='Missing Wondercards'!N8 | I8: ='Missing Wondercards'!O8
B9: =image('Missing Wondercards'!W9,3 ) | C9: ='Missing Wondercards'!H9 | D9: ='Missing Wondercards'!I9 | E9: ='Missing Wondercards'!J9 | F9: ='Missing Wondercards'!K9 | G9: ='Missing Wondercards'!M9 | H9: ='Missing Wondercards'!N9 | I9: ='Missing Wondercards'!O9
B10: =image('Missing Wondercards'!W10,3 ) | C10: ='Missing Wondercards'!H10 | D10: ='Missing Wondercards'!I10 | E10: ='Missing Wondercards'!J10 | F10: ='Missing Wondercards'!K10 | G10: ='Missing Wondercards'!M10 | H10: ='Missing Wondercards'!N10 | I10: ='Missing Wondercards'!O10
B11: =image('Missing Wondercards'!W11,3 ) | C11: ='Missing Wondercards'!H11 | D11: ='Missing Wondercards'!I11 | E11: ='Missing Wondercards'!J11 | F11: ='Missing Wondercards'!K11 | G11: ='Missing Wondercards'!M11 | H11: ='Missing Wondercards'!N11 | I11: ='Missing Wondercards'!O11
B12: =image('Missing Wondercards'!W12,3 ) | C12: ='Missing Wondercards'!H12 | D12: ='Missing Wondercards'!I12 | E12: ='Missing Wondercards'!J12 | F12: ='Missing Wondercards'!K12 | G12: ='Missing Wondercards'!M12 | H12: ='Missing Wondercards'!N12 | I12: ='Missing Wondercards'!O12
B13: =image('Missing Wondercards'!W13,3 ) | C13: ='Missing Wondercards'!H13 | D13: ='Missing Wondercards'!I13 | E13: ='Missing Wondercards'!J13 | F13: ='Missing Wondercards'!K13 | G13: ='Missing Wondercards'!M13 | H13: ='Missing Wondercards'!N13 | I13: ='Missing Wondercards'!O13
B14: =image('Missing Wondercards'!W14,3 ) | C14: ='Missing Wondercards'!H14 | D14: ='Missing Wondercards'!I14 | E14: ='Missing Wondercards'!J14 | F14: ='Missing Wondercards'!K14 | G14: ='Missing Wondercards'!M14 | H14: ='Missing Wondercards'!N14 | I14: ='Missing Wondercards'!O14
... B58: =image('Missing Wondercards'!W58,3 ) | C58: ='Missing Wondercards'!H58 | D58: ='Missing Wondercards'!I58 | E58: ='Missing Wondercards'!J58 | F58: ='Missing Wondercards'!K58 | G58: ='Missing Wondercards'!M58 | H58: ='Missing Wondercards'!N58 | I58: ='Missing Wondercards'!O58

Sheet Events
F2: Legend:
G3: Represents Legitimacy unsure (Powersaves or Watermarked Wondercards)
G4: Legitimacy Confirmed (more or less)
F5: _ | G5: Underlined represents card is "used" (used wc6 editor to mark it as unused)
F6: x or ? | G6: x means does not exist | ? means either not contributed or unsure
F7: M or F or nil or R | G7: Gender of Pokemon (Male, Female, Genderless or Random)
D8: <------LEGEND is there (click on the + )
B9: =MAX(A:A) -> 390 | C9: Year | D9: WC7 ID | E9: TID | F9: Type | G9: Event and Card Color | H9: Description | J9: Bulbapedia Link | K9: ENG | L9: FRE | M9: GER | N9: ITA | O9: JPN | P9: KOR | Q9: SPA | R9: CHS | S9: CHT | T9: Type | U9: S | V9: M | W9: US | X9: UM | Y9: US | Z9: EU | AA9: JP | AB9: KO | AC9: UNIQUE | AD9: Date
A10: 1 | C10: 2016 | D10: 201 | E10: 161118 | F10: Pkmn | G10: Comfey | H10: Birthday Distribution @ PCs | K10: x | L10: x | M10: x | N10: x | O10: =HYPERLINK("https://projectpokemon.org/forums/files/file/1588-birthday-comfey-2017/","R") -> R | P10: x | Q10: x | R10: x | S10: x | T10: Local Wireless | U10: 1 | V10: 1 | Y10: 1 | Z10: 1 | AA10: 1 | AB10: 1 | AD10: =datevalue("2016-11-18") -> 42692 | AE10: - Nov 17, 2017 | AF10: =IF(OR($C10='Missing Wondercards'!$G$1,'Missing Wondercards'!$G$1="all")=TRUE,IF(SUM(AG10:AO10)>0,1,0),0) -> 0 | AG10: =IF(OR(K10="?",K10="Mx",K10="Fx",K10="Nilx",K10="Rx")=TRUE,1,0) -> 0 | AH10: =IF(OR(L10="?",L10="Mx",L10="Fx",L10="Nilx",L10="Rx")=TRUE,1,0) -> 0 | AI10: =IF(OR(M10="?",M10="Mx",M10="Fx",M10="Nilx",M10="Rx")=TRUE,1,0) -> 0 | AJ10: =IF(OR(N10="?",N10="Mx",N10="Fx",N10="Nilx",N10="Rx")=TRUE,1,0) -> 0 | AK10: =IF(OR(O10="?",O10="Mx",O10="Fx",O10="Nilx",O10="Rx")=TRUE,1,0) -> 0 | AL10: =IF(OR(P10="?",P10="Mx",P10="Fx",P10="Nilx",P10="Rx")=TRUE,1,0) -> 0 | AM10: =IF(OR(Q10="?",Q10="Mx",Q10="Fx",Q10="Nilx",Q10="Rx")=TRUE,1,0) -> 0 | AN10: =IF(OR(R10="?",R10="Mx",R10="Fx",R10="Nilx",R10="Rx")=TRUE,1,0) -> 0 | AO10: =IF(OR(S10="?",S10="Mx",S10="Fx",S10="Nilx",S10="Rx")=TRUE,1,0) -> 0
A11: 2 | C11: 2016 | D11: 201 | E11: 161118 | F11: Pkmn | G11: Eevee | H11: Birthday Distribution @ PCs | K11: x | L11: x | M11: x | N11: x | O11: =HYPERLINK("https://projectpokemon.org/forums/files/file/1587-birthday-eevee-2017/","R") -> R | P11: x | Q11: x | R11: x | S11: x | T11: Local Wireless | U11: 1 | V11: 1 | Y11: 1 | Z11: 1 | AA11: 1 | AB11: 1 | AD11: =datevalue("2016-11-18") -> 42692 | AE11: - Nov 17, 2017 | AF11: =IF(OR($C11='Missing Wondercards'!$G$1,'Missing Wondercards'!$G$1="all")=TRUE,IF(SUM(AG11:AO11)>0,1,0),0) -> 0 | AG11: =IF(OR(K11="?",K11="Mx",K11="Fx",K11="Nilx",K11="Rx")=TRUE,1,0) -> 0 | AH11: =IF(OR(L11="?",L11="Mx",L11="Fx",L11="Nilx",L11="Rx")=TRUE,1,0) -> 0 | AI11: =IF(OR(M11="?",M11="Mx",M11="Fx",M11="Nilx",M11="Rx")=TRUE,1,0) -> 0 | AJ11: =IF(OR(N11="?",N11="Mx",N11="Fx",N11="Nilx",N11="Rx")=TRUE,1,0) -> 0 | AK11: =IF(OR(O11="?",O11="Mx",O11="Fx",O11="Nilx",O11="Rx")=TRUE,1,0) -> 0 | AL11: =IF(OR(P11="?",P11="Mx",P11="Fx",P11="Nilx",P11="Rx")=TRUE,1,0) -> 0 | AM11: =IF(OR(Q11="?",Q11="Mx",Q11="Fx",Q11="Nilx",Q11="Rx")=TRUE,1,0) -> 0 | AN11: =IF(OR(R11="?",R11="Mx",R11="Fx",R11="Nilx",R11="Rx")=TRUE,1,0) -> 0 | AO11: =IF(OR(S11="?",S11="Mx",S11="Fx",S11="Nilx",S11="Rx")=TRUE,1,0) -> 0
A12: 3 | C12: 2016 | D12: 201 | E12: 161118 | F12: Pkmn | G12: Pikachu | H12: Birthday Distribution @ PCs | K12: x | L12: x | M12: x | N12: x | O12: =HYPERLINK("https://projectpokemon.org/forums/files/file/1586-birthday-pikachu-2017/","R") -> R | P12: x | Q12: x | R12: x | S12: x | T12: Local Wireless | U12: 1 | V12: 1 | Y12: 1 | Z12: 1 | AA12: 1 | AB12: 1 | AD12: =datevalue("2016-11-18") -> 42692 | AE12: - Nov 17, 2017 | AF12: =IF(OR($C12='Missing Wondercards'!$G$1,'Missing Wondercards'!$G$1="all")=TRUE,IF(SUM(AG12:AO12)>0,1,0),0) -> 0 | AG12: =IF(OR(K12="?",K12="Mx",K12="Fx",K12="Nilx",K12="Rx")=TRUE,1,0) -> 0 | AH12: =IF(OR(L12="?",L12="Mx",L12="Fx",L12="Nilx",L12="Rx")=TRUE,1,0) -> 0 | AI12: =IF(OR(M12="?",M12="Mx",M12="Fx",M12="Nilx",M12="Rx")=TRUE,1,0) -> 0 | AJ12: =IF(OR(N12="?",N12="Mx",N12="Fx",N12="Nilx",N12="Rx")=TRUE,1,0) -> 0 | AK12: =IF(OR(O12="?",O12="Mx",O12="Fx",O12="Nilx",O12="Rx")=TRUE,1,0) -> 0 | AL12: =IF(OR(P12="?",P12="Mx",P12="Fx",P12="Nilx",P12="Rx")=TRUE,1,0) -> 0 | AM12: =IF(OR(Q12="?",Q12="Mx",Q12="Fx",Q12="Nilx",Q12="Rx")=TRUE,1,0) -> 0 | AN12: =IF(OR(R12="?",R12="Mx",R12="Fx",R12="Nilx",R12="Rx")=TRUE,1,0) -> 0 | AO12: =IF(OR(S12="?",S12="Mx",S12="Fx",S12="Nilx",S12="Rx")=TRUE,1,0) -> 0
A13: 4 | C13: 2016 | D13: 202 | E13: - | F13: Item | G13: Revival Herb | H13: x8, HKTW Early Purchase Bonus | K13: Nil | L13: x | M13: x | N13: x | O13: x | P13: x | Q13: x | R13: x | S13: x | T13: Serial Code | U13: 1 | V13: 1 | Z13: 1 | AA13: 1 | AC13: HKTW | AD13: =datevalue("2016-11-18") -> 42692 | AE13: - ? | AF13: =IF(OR($C13='Missing Wondercards'!$G$1,'Missing Wondercards'!$G$1="all")=TRUE,IF(SUM(AG13:AO13)>0,1,0),0) -> 0 | AG13: =IF(OR(K13="?",K13="Mx",K13="Fx",K13="Nilx",K13="Rx")=TRUE,1,0) -> 0 | AH13: =IF(OR(L13="?",L13="Mx",L13="Fx",L13="Nilx",L13="Rx")=TRUE,1,0) -> 0 | AI13: =IF(OR(M13="?",M13="Mx",M13="Fx",M13="Nilx",M13="Rx")=TRUE,1,0) -> 0 | AJ13: =IF(OR(N13="?",N13="Mx",N13="Fx",N13="Nilx",N13="Rx")=TRUE,1,0) -> 0 | AK13: =IF(OR(O13="?",O13="Mx",O13="Fx",O13="Nilx",O13="Rx")=TRUE,1,0) -> 0 | AL13: =IF(OR(P13="?",P13="Mx",P13="Fx",P13="Nilx",P13="Rx")=TRUE,1,0) -> 0 | AM13: =IF(OR(Q13="?",Q13="Mx",Q13="Fx",Q13="Nilx",Q13="Rx")=TRUE,1,0) -> 0 | AN13: =IF(OR(R13="?",R13="Mx",R13="Fx",R13="Nilx",R13="Rx")=TRUE,1,0) -> 0 | AO13: =IF(OR(S13="?",S13="Mx",S13="Fx",S13="Nilx",S13="Rx")=TRUE,1,0) -> 0
A14: 5 | C14: 2016 | D14: 203 | E14: 161201 | F14: Pkmn | G14: Vulpix (Alolan) | H14: Celebrate Sapporo PC Opening | K14: x | L14: x | M14: x | N14: x | O14: =HYPERLINK("https://projectpokemon.org/forums/files/file/1512-sapporo-reopening-alolan-vulpix/","R") -> R | P14: x | Q14: x | R14: x | S14: x | T14: Local Wireless | U14: 1 | V14: 1 | Y14: 1 | Z14: 1 | AA14: 1 | AB14: 1 | AD14: =datevalue("2016-12-01") -> 42705 | AE14: - Mar 12, 2017 | AF14: =IF(OR($C14='Missing Wondercards'!$G$1,'Missing Wondercards'!$G$1="all")=TRUE,IF(SUM(AG14:AO14)>0,1,0),0) -> 0 | AG14: =IF(OR(K14="?",K14="Mx",K14="Fx",K14="Nilx",K14="Rx")=TRUE,1,0) -> 0 | AH14: =IF(OR(L14="?",L14="Mx",L14="Fx",L14="Nilx",L14="Rx")=TRUE,1,0) -> 0 | AI14: =IF(OR(M14="?",M14="Mx",M14="Fx",M14="Nilx",M14="Rx")=TRUE,1,0) -> 0 | AJ14: =IF(OR(N14="?",N14="Mx",N14="Fx",N14="Nilx",N14="Rx")=TRUE,1,0) -> 0 | AK14: =IF(OR(O14="?",O14="Mx",O14="Fx",O14="Nilx",O14="Rx")=TRUE,1,0) -> 0 | AL14: =IF(OR(P14="?",P14="Mx",P14="Fx",P14="Nilx",P14="Rx")=TRUE,1,0) -> 0 | AM14: =IF(OR(Q14="?",Q14="Mx",Q14="Fx",Q14="Nilx",Q14="Rx")=TRUE,1,0) -> 0 | AN14: =IF(OR(R14="?",R14="Mx",R14="Fx",R14="Nilx",R14="Rx")=TRUE,1,0) -> 0 | AO14: =IF(OR(S14="?",S14="Mx",S14="Fx",S14="Nilx",S14="Rx")=TRUE,1,0) -> 0
A15: 6 | C15: 2016 | D15: 204 | E15: - | F15: Item | G15: Comet Shard | H15: Mystery Items Giveaway @ PCs | K15: x | L15: x | M15: x | N15: x | O15: =HYPERLINK("https://projectpokemon.org/forums/files/file/1865-sapporo-reopening-items-present-comet-shard/","Nil") -> Nil | P15: x | Q15: x | R15: x | S15: x | T15: Local Wireless | U15: 1 | V15: 1 | Y15: 1 | Z15: 1 | AA15: 1 | AB15: 1 | AD15: =datevalue("2016-12-01") -> 42705 | AE15: - Jan 31, 2017 | AF15: =IF(OR($C15='Missing Wondercards'!$G$1,'Missing Wondercards'!$G$1="all")=TRUE,IF(SUM(AG15:AO15)>0,1,0),0) -> 0 | AG15: =IF(OR(K15="?",K15="Mx",K15="Fx",K15="Nilx",K15="Rx")=TRUE,1,0) -> 0 | AH15: =IF(OR(L15="?",L15="Mx",L15="Fx",L15="Nilx",L15="Rx")=TRUE,1,0) -> 0 | AI15: =IF(OR(M15="?",M15="Mx",M15="Fx",M15="Nilx",M15="Rx")=TRUE,1,0) -> 0 | AJ15: =IF(OR(N15="?",N15="Mx",N15="Fx",N15="Nilx",N15="Rx")=TRUE,1,0) -> 0 | AK15: =IF(OR(O15="?",O15="Mx",O15="Fx",O15="Nilx",O15="Rx")=TRUE,1,0) -> 0 | AL15: =IF(OR(P15="?",P15="Mx",P15="Fx",P15="Nilx",P15="Rx")=TRUE,1,0) -> 0 | AM15: =IF(OR(Q15="?",Q15="Mx",Q15="Fx",Q15="Nilx",Q15="Rx")=TRUE,1,0) -> 0 | AN15: =IF(OR(R15="?",R15="Mx",R15="Fx",R15="Nilx",R15="Rx")=TRUE,1,0) -> 0 | AO15: =IF(OR(S15="?",S15="Mx",S15="Fx",S15="Nilx",S15="Rx")=TRUE,1,0) -> 0
A16: 7 | C16: 2016 | D16: 204 | E16: - | F16: Item | G16: Full Heal | H16: Mystery Items Giveaway @ PCs | K16: x | L16: x | M16: x | N16: x | O16: =HYPERLINK("https://projectpokemon.org/forums/files/file/1513-sapporo-reopening-items-present-full-heal/","Nil") -> Nil | P16: x | Q16: x | R16: x | S16: x | T16: Local Wireless | U16: 1 | V16: 1 | Y16: 1 | Z16: 1 | AA16: 1 | AB16: 1 | AD16: =datevalue("2016-12-01") -> 42705 | AE16: - Jan 31, 2017 | AF16: =IF(OR($C16='Missing Wondercards'!$G$1,'Missing Wondercards'!$G$1="all")=TRUE,IF(SUM(AG16:AO16)>0,1,0),0) -> 0 | AG16: =IF(OR(K16="?",K16="Mx",K16="Fx",K16="Nilx",K16="Rx")=TRUE,1,0) -> 0 | AH16: =IF(OR(L16="?",L16="Mx",L16="Fx",L16="Nilx",L16="Rx")=TRUE,1,0) -> 0 | AI16: =IF(OR(M16="?",M16="Mx",M16="Fx",M16="Nilx",M16="Rx")=TRUE,1,0) -> 0 | AJ16: =IF(OR(N16="?",N16="Mx",N16="Fx",N16="Nilx",N16="Rx")=TRUE,1,0) -> 0 | AK16: =IF(OR(O16="?",O16="Mx",O16="Fx",O16="Nilx",O16="Rx")=TRUE,1,0) -> 0 | AL16: =IF(OR(P16="?",P16="Mx",P16="Fx",P16="Nilx",P16="Rx")=TRUE,1,0) -> 0 | AM16: =IF(OR(Q16="?",Q16="Mx",Q16="Fx",Q16="Nilx",Q16="Rx")=TRUE,1,0) -> 0 | AN16: =IF(OR(R16="?",R16="Mx",R16="Fx",R16="Nilx",R16="Rx")=TRUE,1,0) -> 0 | AO16: =IF(OR(S16="?",S16="Mx",S16="Fx",S16="Nilx",S16="Rx")=TRUE,1,0) -> 0
A17: 8 | C17: 2016 | D17: 204 | E17: - | F17: Item | G17: Full Restore | H17: Mystery Items Giveaway @ PCs | K17: x | L17: x | M17: x | N17: x | O17: =HYPERLINK("https://projectpokemon.org/forums/files/file/1514-sapporo-reopening-items-present-full-restore/","Nil") -> Nil | P17: x | Q17: x | R17: x | S17: x | T17: Local Wireless | U17: 1 | V17: 1 | Y17: 1 | Z17: 1 | AA17: 1 | AB17: 1 | AD17: =datevalue("2016-12-01") -> 42705 | AE17: - Jan 31, 2017 | AF17: =IF(OR($C17='Missing Wondercards'!$G$1,'Missing Wondercards'!$G$1="all")=TRUE,IF(SUM(AG17:AO17)>0,1,0),0) -> 0 | AG17: =IF(OR(K17="?",K17="Mx",K17="Fx",K17="Nilx",K17="Rx")=TRUE,1,0) -> 0 | AH17: =IF(OR(L17="?",L17="Mx",L17="Fx",L17="Nilx",L17="Rx")=TRUE,1,0) -> 0 | AI17: =IF(OR(M17="?",M17="Mx",M17="Fx",M17="Nilx",M17="Rx")=TRUE,1,0) -> 0 | AJ17: =IF(OR(N17="?",N17="Mx",N17="Fx",N17="Nilx",N17="Rx")=TRUE,1,0) -> 0 | AK17: =IF(OR(O17="?",O17="Mx",O17="Fx",O17="Nilx",O17="Rx")=TRUE,1,0) -> 0 | AL17: =IF(OR(P17="?",P17="Mx",P17="Fx",P17="Nilx",P17="Rx")=TRUE,1,0) -> 0 | AM17: =IF(OR(Q17="?",Q17="Mx",Q17="Fx",Q17="Nilx",Q17="Rx")=TRUE,1,0) -> 0 | AN17: =IF(OR(R17="?",R17="Mx",R17="Fx",R17="Nilx",R17="Rx")=TRUE,1,0) -> 0 | AO17: =IF(OR(S17="?",S17="Mx",S17="Fx",S17="Nilx",S17="Rx")=TRUE,1,0) -> 0
A18: 9 | C18: 2016 | D18: 204 | E18: - | F18: Item | G18: Heal Powder | H18: Mystery Items Giveaway @ PCs | K18: x | L18: x | M18: x | N18: x | O18: =HYPERLINK("https://projectpokemon.org/forums/files/file/1515-sapporo-reopening-items-present-heal-powder/","Nil") -> Nil | P18: x | Q18: x | R18: x | S18: x | T18: Local Wireless | U18: 1 | V18: 1 | Y18: 1 | Z18: 1 | AA18: 1 | AB18: 1 | AD18: =datevalue("2016-12-01") -> 42705 | AE18: - Jan 31, 2017 | AF18: =IF(OR($C18='Missing Wondercards'!$G$1,'Missing Wondercards'!$G$1="all")=TRUE,IF(SUM(AG18:AO18)>0,1,0),0) -> 0 | AG18: =IF(OR(K18="?",K18="Mx",K18="Fx",K18="Nilx",K18="Rx")=TRUE,1,0) -> 0 | AH18: =IF(OR(L18="?",L18="Mx",L18="Fx",L18="Nilx",L18="Rx")=TRUE,1,0) -> 0 | AI18: =IF(OR(M18="?",M18="Mx",M18="Fx",M18="Nilx",M18="Rx")=TRUE,1,0) -> 0 | AJ18: =IF(OR(N18="?",N18="Mx",N18="Fx",N18="Nilx",N18="Rx")=TRUE,1,0) -> 0 | AK18: =IF(OR(O18="?",O18="Mx",O18="Fx",O18="Nilx",O18="Rx")=TRUE,1,0) -> 0 | AL18: =IF(OR(P18="?",P18="Mx",P18="Fx",P18="Nilx",P18="Rx")=TRUE,1,0) -> 0 | AM18: =IF(OR(Q18="?",Q18="Mx",Q18="Fx",Q18="Nilx",Q18="Rx")=TRUE,1,0) -> 0 | AN18: =IF(OR(R18="?",R18="Mx",R18="Fx",R18="Nilx",R18="Rx")=TRUE,1,0) -> 0 | AO18: =IF(OR(S18="?",S18="Mx",S18="Fx",S18="Nilx",S18="Rx")=TRUE,1,0) -> 0
A19: 10 | C19: 2016 | D19: 204 | E19: - | F19: Item | G19: Hyper Potion | H19: Mystery Items Giveaway @ PCs | K19: x | L19: x | M19: x | N19: x | O19: =HYPERLINK("https://projectpokemon.org/forums/files/file/1516-sapporo-reopening-items-present-hyper-potion/","Nil") -> Nil | P19: x | Q19: x | R19: x | S19: x | T19: Local Wireless | U19: 1 | V19: 1 | Y19: 1 | Z19: 1 | AA19: 1 | AB19: 1 | AD19: =datevalue("2016-12-01") -> 42705 | AE19: - Jan 31, 2017 | AF19: =IF(OR($C19='Missing Wondercards'!$G$1,'Missing Wondercards'!$G$1="all")=TRUE,IF(SUM(AG19:AO19)>0,1,0),0) -> 0 | AG19: =IF(OR(K19="?",K19="Mx",K19="Fx",K19="Nilx",K19="Rx")=TRUE,1,0) -> 0 | AH19: =IF(OR(L19="?",L19="Mx",L19="Fx",L19="Nilx",L19="Rx")=TRUE,1,0) -> 0 | AI19: =IF(OR(M19="?",M19="Mx",M19="Fx",M19="Nilx",M19="Rx")=TRUE,1,0) -> 0 | AJ19: =IF(OR(N19="?",N19="Mx",N19="Fx",N19="Nilx",N19="Rx")=TRUE,1,0) -> 0 | AK19: =IF(OR(O19="?",O19="Mx",O19="Fx",O19="Nilx",O19="Rx")=TRUE,1,0) -> 0 | AL19: =IF(OR(P19="?",P19="Mx",P19="Fx",P19="Nilx",P19="Rx")=TRUE,1,0) -> 0 | AM19: =IF(OR(Q19="?",Q19="Mx",Q19="Fx",Q19="Nilx",Q19="Rx")=TRUE,1,0) -> 0 | AN19: =IF(OR(R19="?",R19="Mx",R19="Fx",R19="Nilx",R19="Rx")=TRUE,1,0) -> 0 | AO19: =IF(OR(S19="?",S19="Mx",S19="Fx",S19="Nilx",S19="Rx")=TRUE,1,0) -> 0
A20: 11 | C20: 2016 | D20: 204 | E20: - | F20: Item | G20: Potion | H20: Mystery Items Giveaway @ PCs | K20: x | L20: x | M20: x | N20: x | O20: =HYPERLINK("https://projectpokemon.org/forums/files/file/1517-sapporo-reopening-items-present-potion/","Nil") -> Nil | P20: x | Q20: x | R20: x | S20: x | T20: Local Wireless | U20: 1 | V20: 1 | Y20: 1 | Z20: 1 | AA20: 1 | AB20: 1 | AD20: =datevalue("2016-12-01") -> 42705 | AE20: - Jan 31, 2017 | AF20: =IF(OR($C20='Missing Wondercards'!$G$1,'Missing Wondercards'!$G$1="all")=TRUE,IF(SUM(AG20:AO20)>0,1,0),0) -> 0 | AG20: =IF(OR(K20="?",K20="Mx",K20="Fx",K20="Nilx",K20="Rx")=TRUE,1,0) -> 0 | AH20: =IF(OR(L20="?",L20="Mx",L20="Fx",L20="Nilx",L20="Rx")=TRUE,1,0) -> 0 | AI20: =IF(OR(M20="?",M20="Mx",M20="Fx",M20="Nilx",M20="Rx")=TRUE,1,0) -> 0 | AJ20: =IF(OR(N20="?",N20="Mx",N20="Fx",N20="Nilx",N20="Rx")=TRUE,1,0) -> 0 | AK20: =IF(OR(O20="?",O20="Mx",O20="Fx",O20="Nilx",O20="Rx")=TRUE,1,0) -> 0 | AL20: =IF(OR(P20="?",P20="Mx",P20="Fx",P20="Nilx",P20="Rx")=TRUE,1,0) -> 0 | AM20: =IF(OR(Q20="?",Q20="Mx",Q20="Fx",Q20="Nilx",Q20="Rx")=TRUE,1,0) -> 0 | AN20: =IF(OR(R20="?",R20="Mx",R20="Fx",R20="Nilx",R20="Rx")=TRUE,1,0) -> 0 | AO20: =IF(OR(S20="?",S20="Mx",S20="Fx",S20="Nilx",S20="Rx")=TRUE,1,0) -> 0
A21: 12 | C21: 2016 | D21: 204 | E21: - | F21: Item | G21: Revive | H21: Mystery Items Giveaway @ PCs | K21: x | L21: x | M21: x | N21: x | O21: =HYPERLINK("https://projectpokemon.org/forums/files/file/1518-sapporo-reopening-items-present-revive/","Nil") -> Nil | P21: x | Q21: x | R21: x | S21: x | T21: Local Wireless | U21: 1 | V21: 1 | Y21: 1 | Z21: 1 | AA21: 1 | AB21: 1 | AD21: =datevalue("2016-12-01") -> 42705 | AE21: - Jan 31, 2017 | AF21: =IF(OR($C21='Missing Wondercards'!$G$1,'Missing Wondercards'!$G$1="all")=TRUE,IF(SUM(AG21:AO21)>0,1,0),0) -> 0 | AG21: =IF(OR(K21="?",K21="Mx",K21="Fx",K21="Nilx",K21="Rx")=TRUE,1,0) -> 0 | AH21: =IF(OR(L21="?",L21="Mx",L21="Fx",L21="Nilx",L21="Rx")=TRUE,1,0) -> 0 | AI21: =IF(OR(M21="?",M21="Mx",M21="Fx",M21="Nilx",M21="Rx")=TRUE,1,0) -> 0 | AJ21: =IF(OR(N21="?",N21="Mx",N21="Fx",N21="Nilx",N21="Rx")=TRUE,1,0) -> 0 | AK21: =IF(OR(O21="?",O21="Mx",O21="Fx",O21="Nilx",O21="Rx")=TRUE,1,0) -> 0 | AL21: =IF(OR(P21="?",P21="Mx",P21="Fx",P21="Nilx",P21="Rx")=TRUE,1,0) -> 0 | AM21: =IF(OR(Q21="?",Q21="Mx",Q21="Fx",Q21="Nilx",Q21="Rx")=TRUE,1,0) -> 0 | AN21: =IF(OR(R21="?",R21="Mx",R21="Fx",R21="Nilx",R21="Rx")=TRUE,1,0) -> 0 | AO21: =IF(OR(S21="?",S21="Mx",S21="Fx",S21="Nilx",S21="Rx")=TRUE,1,0) -> 0
A22: 13 | C22: 2016 | D22: 205 | E22: - | F22: Item | G22: Choice Band | H22: Corocoro Rockruff Enhancement Tools | K22: x | L22: x | M22: x | N22: x | O22: =HYPERLINK("https://projectpokemon.org/forums/files/file/937-corocoro-rockruff-enhancement-items-choice-band/","Nil") -> Nil | P22: x | Q22: x | R22: x | S22: x | T22: Serial Code | U22: 1 | V22: 1 | AA22: 1 | AD22: =datevalue("2016-12-15") -> 42719 | AE22: - Feb 14, 2017 | AF22: =IF(OR($C22='Missing Wondercards'!$G$1,'Missing Wondercards'!$G$1="all")=TRUE,IF(SUM(AG22:AO22)>0,1,0),0) -> 0 | AG22: =IF(OR(K22="?",K22="Mx",K22="Fx",K22="Nilx",K22="Rx")=TRUE,1,0) -> 0 | AH22: =IF(OR(L22="?",L22="Mx",L22="Fx",L22="Nilx",L22="Rx")=TRUE,1,0) -> 0 | AI22: =IF(OR(M22="?",M22="Mx",M22="Fx",M22="Nilx",M22="Rx")=TRUE,1,0) -> 0 | AJ22: =IF(OR(N22="?",N22="Mx",N22="Fx",N22="Nilx",N22="Rx")=TRUE,1,0) -> 0 | AK22: =IF(OR(O22="?",O22="Mx",O22="Fx",O22="Nilx",O22="Rx")=TRUE,1,0) -> 0 | AL22: =IF(OR(P22="?",P22="Mx",P22="Fx",P22="Nilx",P22="Rx")=TRUE,1,0) -> 0 | AM22: =IF(OR(Q22="?",Q22="Mx",Q22="Fx",Q22="Nilx",Q22="Rx")=TRUE,1,0) -> 0 | AN22: =IF(OR(R22="?",R22="Mx",R22="Fx",R22="Nilx",R22="Rx")=TRUE,1,0) -> 0 | AO22: =IF(OR(S22="?",S22="Mx",S22="Fx",S22="Nilx",S22="Rx")=TRUE,1,0) -> 0
A23: 14 | C23: 2016 | D23: 205 | E23: - | F23: Item | G23: Choice Scarf | H23: Corocoro Rockruff Enhancement Tools | K23: x | L23: x | M23: x | N23: x | O23: =HYPERLINK("https://projectpokemon.org/forums/files/file/936-corocoro-rockruff-enhancement-items-choice-scarf/","Nil") -> Nil | P23: x | Q23: x | R23: x | S23: x | T23: Serial Code | U23: 1 | V23: 1 | AA23: 1 | AD23: =datevalue("2016-12-15") -> 42719 | AE23: - Feb 14, 2017 | AF23: =IF(OR($C23='Missing Wondercards'!$G$1,'Missing Wondercards'!$G$1="all")=TRUE,IF(SUM(AG23:AO23)>0,1,0),0) -> 0 | AG23: =IF(OR(K23="?",K23="Mx",K23="Fx",K23="Nilx",K23="Rx")=TRUE,1,0) -> 0 | AH23: =IF(OR(L23="?",L23="Mx",L23="Fx",L23="Nilx",L23="Rx")=TRUE,1,0) -> 0 | AI23: =IF(OR(M23="?",M23="Mx",M23="Fx",M23="Nilx",M23="Rx")=TRUE,1,0) -> 0 | AJ23: =IF(OR(N23="?",N23="Mx",N23="Fx",N23="Nilx",N23="Rx")=TRUE,1,0) -> 0 | AK23: =IF(OR(O23="?",O23="Mx",O23="Fx",O23="Nilx",O23="Rx")=TRUE,1,0) -> 0 | AL23: =IF(OR(P23="?",P23="Mx",P23="Fx",P23="Nilx",P23="Rx")=TRUE,1,0) -> 0 | AM23: =IF(OR(Q23="?",Q23="Mx",Q23="Fx",Q23="Nilx",Q23="Rx")=TRUE,1,0) -> 0 | AN23: =IF(OR(R23="?",R23="Mx",R23="Fx",R23="Nilx",R23="Rx")=TRUE,1,0) -> 0 | AO23: =IF(OR(S23="?",S23="Mx",S23="Fx",S23="Nilx",S23="Rx")=TRUE,1,0) -> 0
A24: 15 | C24: 2016 | D24: 206 | E24: - | F24: Item | G24: Bottle Cap | H24: Jump Festa 2017 | K24: x | L24: x | M24: x | N24: x | O24: =HYPERLINK("https://projectpokemon.org/forums/files/file/1953-jump-festa-2017-bottle-cap/","Nil") -> Nil | P24: x | Q24: x | R24: x | S24: x | T24: Local Wireless | U24: 1 | V24: 1 | Y24: 1 | Z24: 1 | AA24: 1 | AB24: 1 | AD24: =datevalue("2016-12-17") -> 42721 | AE24: - Dec 18, 2016 | AF24: =IF(OR($C24='Missing Wondercards'!$G$1,'Missing Wondercards'!$G$1="all")=TRUE,IF(SUM(AG24:AO24)>0,1,0),0) -> 0 | AG24: =IF(OR(K24="?",K24="Mx",K24="Fx",K24="Nilx",K24="Rx")=TRUE,1,0) -> 0 | AH24: =IF(OR(L24="?",L24="Mx",L24="Fx",L24="Nilx",L24="Rx")=TRUE,1,0) -> 0 | AI24: =IF(OR(M24="?",M24="Mx",M24="Fx",M24="Nilx",M24="Rx")=TRUE,1,0) -> 0 | AJ24: =IF(OR(N24="?",N24="Mx",N24="Fx",N24="Nilx",N24="Rx")=TRUE,1,0) -> 0 | AK24: =IF(OR(O24="?",O24="Mx",O24="Fx",O24="Nilx",O24="Rx")=TRUE,1,0) -> 0 | AL24: =IF(OR(P24="?",P24="Mx",P24="Fx",P24="Nilx",P24="Rx")=TRUE,1,0) -> 0 | AM24: =IF(OR(Q24="?",Q24="Mx",Q24="Fx",Q24="Nilx",Q24="Rx")=TRUE,1,0) -> 0 | AN24: =IF(OR(R24="?",R24="Mx",R24="Fx",R24="Nilx",R24="Rx")=TRUE,1,0) -> 0 | AO24: =IF(OR(S24="?",S24="Mx",S24="Fx",S24="Nilx",S24="Rx")=TRUE,1,0) -> 0
A25: 16 | C25: 2016 | D25: 210 | E25: - | F25: Item | G25: Gold Bottle Cap | H25: Purchase of Official Guide Book | K25: x | L25: x | M25: x | N25: x | O25: =HYPERLINK("https://projectpokemon.org/forums/files/file/939-guide-book-gold-bottle-cap/","Nil") -> Nil | P25: x | Q25: x | R25: x | S25: x | T25: Serial Code | U25: 1 | V25: 1 | AA25: 1 | AD25: =datevalue("2016-11-18") -> 42692 | AE25: - Jan 13, 2018 | AF25: =IF(OR($C25='Missing Wondercards'!$G$1,'Missing Wondercards'!$G$1="all")=TRUE,IF(SUM(AG25:AO25)>0,1,0),0) -> 0 | AG25: =IF(OR(K25="?",K25="Mx",K25="Fx",K25="Nilx",K25="Rx")=TRUE,1,0) -> 0 | AH25: =IF(OR(L25="?",L25="Mx",L25="Fx",L25="Nilx",L25="Rx")=TRUE,1,0) -> 0 | AI25: =IF(OR(M25="?",M25="Mx",M25="Fx",M25="Nilx",M25="Rx")=TRUE,1,0) -> 0 | AJ25: =IF(OR(N25="?",N25="Mx",N25="Fx",N25="Nilx",N25="Rx")=TRUE,1,0) -> 0 | AK25: =IF(OR(O25="?",O25="Mx",O25="Fx",O25="Nilx",O25="Rx")=TRUE,1,0) -> 0 | AL25: =IF(OR(P25="?",P25="Mx",P25="Fx",P25="Nilx",P25="Rx")=TRUE,1,0) -> 0 | AM25: =IF(OR(Q25="?",Q25="Mx",Q25="Fx",Q25="Nilx",Q25="Rx")=TRUE,1,0) -> 0 | AN25: =IF(OR(R25="?",R25="Mx",R25="Fx",R25="Nilx",R25="Rx")=TRUE,1,0) -> 0 | AO25: =IF(OR(S25="?",S25="Mx",S25="Fx",S25="Nilx",S25="Rx")=TRUE,1,0) -> 0
A26: 17 | C26: 2016 | D26: 1101 | E26: - | F26: Item | G26: Big Nugget | H26: Korean League 2016-17 WINTER | K26: x | L26: x | M26: x | N26: x | O26: x | P26: Nil | Q26: x | R26: x | S26: x | T26: Infrared | U26: 1 | V26: 1 | Y26: 1 | Z26: 1 | AA26: 1 | AB26: 1 | AD26: =datevalue("2016-12-17") -> 42721 | AE26: - Dec 18, 2016 | AF26: =IF(OR($C26='Missing Wondercards'!$G$1,'Missing Wondercards'!$G$1="all")=TRUE,IF(SUM(AG26:AO26)>0,1,0),0) -> 0 | AG26: =IF(OR(K26="?",K26="Mx",K26="Fx",K26="Nilx",K26="Rx")=TRUE,1,0) -> 0 | AH26: =IF(OR(L26="?",L26="Mx",L26="Fx",L26="Nilx",L26="Rx")=TRUE,1,0) -> 0 | AI26: =IF(OR(M26="?",M26="Mx",M26="Fx",M26="Nilx",M26="Rx")=TRUE,1,0) -> 0 | AJ26: =IF(OR(N26="?",N26="Mx",N26="Fx",N26="Nilx",N26="Rx")=TRUE,1,0) -> 0 | AK26: =IF(OR(O26="?",O26="Mx",O26="Fx",O26="Nilx",O26="Rx")=TRUE,1,0) -> 0 | AL26: =IF(OR(P26="?",P26="Mx",P26="Fx",P26="Nilx",P26="Rx")=TRUE,1,0) -> 0 | AM26: =IF(OR(Q26="?",Q26="Mx",Q26="Fx",Q26="Nilx",Q26="Rx")=TRUE,1,0) -> 0 | AN26: =IF(OR(R26="?",R26="Mx",R26="Fx",R26="Nilx",R26="Rx")=TRUE,1,0) -> 0 | AO26: =IF(OR(S26="?",S26="Mx",S26="Fx",S26="Nilx",S26="Rx")=TRUE,1,0) -> 0
A27: 18 | C27: 2016 | D27: 1601 | E27: Yours | F27: Pkmn | G27: Munchlax | H27: Happy hour, Snorlium Z, game launch promo | K27: R | L27: R | M27: R | N27: R | O27: R | P27: R | Q27: R | R27: x | S27: x | T27: Online | U27: 1 | V27: 1 | Y27: 1 | Z27: 1 | AA27: 1 | AB27: 1 | AD27: =datevalue("2016-11-18") -> 42692 | AE27: - Jan 11, 2017 | AF27: =IF(OR($C27='Missing Wondercards'!$G$1,'Missing Wondercards'!$G$1="all")=TRUE,IF(SUM(AG27:AO27)>0,1,0),0) -> 0 | AG27: =IF(OR(K27="?",K27="Mx",K27="Fx",K27="Nilx",K27="Rx")=TRUE,1,0) -> 0 | AH27: =IF(OR(L27="?",L27="Mx",L27="Fx",L27="Nilx",L27="Rx")=TRUE,1,0) -> 0 | AI27: =IF(OR(M27="?",M27="Mx",M27="Fx",M27="Nilx",M27="Rx")=TRUE,1,0) -> 0 | AJ27: =IF(OR(N27="?",N27="Mx",N27="Fx",N27="Nilx",N27="Rx")=TRUE,1,0) -> 0 | AK27: =IF(OR(O27="?",O27="Mx",O27="Fx",O27="Nilx",O27="Rx")=TRUE,1,0) -> 0 | AL27: =IF(OR(P27="?",P27="Mx",P27="Fx",P27="Nilx",P27="Rx")=TRUE,1,0) -> 0 | AM27: =IF(OR(Q27="?",Q27="Mx",Q27="Fx",Q27="Nilx",Q27="Rx")=TRUE,1,0) -> 0 | AN27: =IF(OR(R27="?",R27="Mx",R27="Fx",R27="Nilx",R27="Rx")=TRUE,1,0) -> 0 | AO27: =IF(OR(S27="?",S27="Mx",S27="Fx",S27="Nilx",S27="Rx")=TRUE,1,0) -> 0
A28: 19 | C28: 2016 | D28: 1602 | E28: - | F28: Item | G28: Quick Ball | H28: x12, for digital purchase of games | K28: M | L28: M | M28: M | N28: M | O28: M | P28: x | Q28: M | R28: x | S28: x | T28: Serial Code | U28: 1 | V28: 1 | Y28: 1 | Z28: 1 | AA28: 1 | AD28: =datevalue("2016-11-18") -> 42692 | AE28: - Nov 30, 2017 | AF28: =IF(OR($C28='Missing Wondercards'!$G$1,'Missing Wondercards'!$G$1="all")=TRUE,IF(SUM(AG28:AO28)>0,1,0),0) -> 0 | AG28: =IF(OR(K28="?",K28="Mx",K28="Fx",K28="Nilx",K28="Rx")=TRUE,1,0) -> 0 | AH28: =IF(OR(L28="?",L28="Mx",L28="Fx",L28="Nilx",L28="Rx")=TRUE,1,0) -> 0 | AI28: =IF(OR(M28="?",M28="Mx",M28="Fx",M28="Nilx",M28="Rx")=TRUE,1,0) -> 0 | AJ28: =IF(OR(N28="?",N28="Mx",N28="Fx",N28="Nilx",N28="Rx")=TRUE,1,0) -> 0 | AK28: =IF(OR(O28="?",O28="Mx",O28="Fx",O28="Nilx",O28="Rx")=TRUE,1,0) -> 0 | AL28: =IF(OR(P28="?",P28="Mx",P28="Fx",P28="Nilx",P28="Rx")=TRUE,1,0) -> 0 | AM28: =IF(OR(Q28="?",Q28="Mx",Q28="Fx",Q28="Nilx",Q28="Rx")=TRUE,1,0) -> 0 | AN28: =IF(OR(R28="?",R28="Mx",R28="Fx",R28="Nilx",R28="Rx")=TRUE,1,0) -> 0 | AO28: =IF(OR(S28="?",S28="Mx",S28="Fx",S28="Nilx",S28="Rx")=TRUE,1,0) -> 0
A29: 20 | C29: 2016 | D29: 1603 | E29: - | F29: Item | G29: Poke Ball | H29: x100, for physical dual-pack purchase | K29: M | L29: M | M29: x | N29: x | O29: M | P29: M | Q29: M | R29: x | S29: x | T29: Serial Code | U29: 1 | V29: 1 | Y29: 1 | Z29: 1 | AA29: 1 | AB29: 1 | AD29: =datevalue("2016-11-18") -> 42692 | AE29: - Nov 30, 2017 | AF29: =IF(OR($C29='Missing Wondercards'!$G$1,'Missing Wondercards'!$G$1="all")=TRUE,IF(SUM(AG29:AO29)>0,1,0),0) -> 0 | AG29: =IF(OR(K29="?",K29="Mx",K29="Fx",K29="Nilx",K29="Rx")=TRUE,1,0) -> 0 | AH29: =IF(OR(L29="?",L29="Mx",L29="Fx",L29="Nilx",L29="Rx")=TRUE,1,0) -> 0 | AI29: =IF(OR(M29="?",M29="Mx",M29="Fx",M29="Nilx",M29="Rx")=TRUE,1,0) -> 0 | AJ29: =IF(OR(N29="?",N29="Mx",N29="Fx",N29="Nilx",N29="Rx")=TRUE,1,0) -> 0 | AK29: =IF(OR(O29="?",O29="Mx",O29="Fx",O29="Nilx",O29="Rx")=TRUE,1,0) -> 0 | AL29: =IF(OR(P29="?",P29="Mx",P29="Fx",P29="Nilx",P29="Rx")=TRUE,1,0) -> 0 | AM29: =IF(OR(Q29="?",Q29="Mx",Q29="Fx",Q29="Nilx",Q29="Rx")=TRUE,1,0) -> 0 | AN29: =IF(OR(R29="?",R29="Mx",R29="Fx",R29="Nilx",R29="Rx")=TRUE,1,0) -> 0 | AO29: =IF(OR(S29="?",S29="Mx",S29="Fx",S29="Nilx",S29="Rx")=TRUE,1,0) -> 0
A30: 21 | C30: 2016 | D30: 2040 | E30: - | F30: Item | G30: Stardust | H30: x3, from Demo | K30: Nil | L30: Nil | M30: Nil | N30: Nil | O30: Nil | P30: Nil | Q30: Nil | R30: Nil | S30: Nil | T30: Demo | U30: 1 | V30: 1 | Y30: 1 | Z30: 1 | AA30: 1 | AB30: 1 | AD30: No end date (simply transfer from demo) | AF30: =IF(OR($C30='Missing Wondercards'!$G$1,'Missing Wondercards'!$G$1="all")=TRUE,IF(SUM(AG30:AO30)>0,1,0),0) -> 0 | AG30: =IF(OR(K30="?",K30="Mx",K30="Fx",K30="Nilx",K30="Rx")=TRUE,1,0) -> 0 | AH30: =IF(OR(L30="?",L30="Mx",L30="Fx",L30="Nilx",L30="Rx")=TRUE,1,0) -> 0 | AI30: =IF(OR(M30="?",M30="Mx",M30="Fx",M30="Nilx",M30="Rx")=TRUE,1,0) -> 0 | AJ30: =IF(OR(N30="?",N30="Mx",N30="Fx",N30="Nilx",N30="Rx")=TRUE,1,0) -> 0 | AK30: =IF(OR(O30="?",O30="Mx",O30="Fx",O30="Nilx",O30="Rx")=TRUE,1,0) -> 0 | AL30: =IF(OR(P30="?",P30="Mx",P30="Fx",P30="Nilx",P30="Rx")=TRUE,1,0) -> 0 | AM30: =IF(OR(Q30="?",Q30="Mx",Q30="Fx",Q30="Nilx",Q30="Rx")=TRUE,1,0) -> 0 | AN30: =IF(OR(R30="?",R30="Mx",R30="Fx",R30="Nilx",R30="Rx")=TRUE,1,0) -> 0 | AO30: =IF(OR(S30="?",S30="Mx",S30="Fx",S30="Nilx",S30="Rx")=TRUE,1,0) -> 0
A31: 22 | C31: 2016 | D31: 2041 | E31: - | F31: Item | G31: Star Piece | H31: x1, from Demo | K31: Nil | L31: Nil | M31: Nil | N31: Nil | O31: Nil | P31: Nil | Q31: Nil | R31: Nil | S31: Nil | T31: Demo | U31: 1 | V31: 1 | Y31: 1 | Z31: 1 | AA31: 1 | AB31: 1 | AD31: No end date (simply transfer from demo) | AF31: =IF(OR($C31='Missing Wondercards'!$G$1,'Missing Wondercards'!$G$1="all")=TRUE,IF(SUM(AG31:AO31)>0,1,0),0) -> 0 | AG31: =IF(OR(K31="?",K31="Mx",K31="Fx",K31="Nilx",K31="Rx")=TRUE,1,0) -> 0 | AH31: =IF(OR(L31="?",L31="Mx",L31="Fx",L31="Nilx",L31="Rx")=TRUE,1,0) -> 0 | AI31: =IF(OR(M31="?",M31="Mx",M31="Fx",M31="Nilx",M31="Rx")=TRUE,1,0) -> 0 | AJ31: =IF(OR(N31="?",N31="Mx",N31="Fx",N31="Nilx",N31="Rx")=TRUE,1,0) -> 0 | AK31: =IF(OR(O31="?",O31="Mx",O31="Fx",O31="Nilx",O31="Rx")=TRUE,1,0) -> 0 | AL31: =IF(OR(P31="?",P31="Mx",P31="Fx",P31="Nilx",P31="Rx")=TRUE,1,0) -> 0 | AM31: =IF(OR(Q31="?",Q31="Mx",Q31="Fx",Q31="Nilx",Q31="Rx")=TRUE,1,0) -> 0 | AN31: =IF(OR(R31="?",R31="Mx",R31="Fx",R31="Nilx",R31="Rx")=TRUE,1,0) -> 0 | AO31: =IF(OR(S31="?",S31="Mx",S31="Fx",S31="Nilx",S31="Rx")=TRUE,1,0) -> 0
A32: 23 | C32: 2016 | D32: 2042 | E32: - | F32: Item | G32: Nugget | H32: x1, from Demo | K32: Nil | L32: Nil | M32: Nil | N32: Nil | O32: Nil | P32: Nil | Q32: Nil | R32: Nil | S32: Nil | T32: Demo | U32: 1 | V32: 1 | Y32: 1 | Z32: 1 | AA32: 1 | AB32: 1 | AD32: No end date (simply transfer from demo) | AF32: =IF(OR($C32='Missing Wondercards'!$G$1,'Missing Wondercards'!$G$1="all")=TRUE,IF(SUM(AG32:AO32)>0,1,0),0) -> 0 | AG32: =IF(OR(K32="?",K32="Mx",K32="Fx",K32="Nilx",K32="Rx")=TRUE,1,0) -> 0 | AH32: =IF(OR(L32="?",L32="Mx",L32="Fx",L32="Nilx",L32="Rx")=TRUE,1,0) -> 0 | AI32: =IF(OR(M32="?",M32="Mx",M32="Fx",M32="Nilx",M32="Rx")=TRUE,1,0) -> 0 | AJ32: =IF(OR(N32="?",N32="Mx",N32="Fx",N32="Nilx",N32="Rx")=TRUE,1,0) -> 0 | AK32: =IF(OR(O32="?",O32="Mx",O32="Fx",O32="Nilx",O32="Rx")=TRUE,1,0) -> 0 | AL32: =IF(OR(P32="?",P32="Mx",P32="Fx",P32="Nilx",P32="Rx")=TRUE,1,0) -> 0 | AM32: =IF(OR(Q32="?",Q32="Mx",Q32="Fx",Q32="Nilx",Q32="Rx")=TRUE,1,0) -> 0 | AN32: =IF(OR(R32="?",R32="Mx",R32="Fx",R32="Nilx",R32="Rx")=TRUE,1,0) -> 0 | AO32: =IF(OR(S32="?",S32="Mx",S32="Fx",S32="Nilx",S32="Rx")=TRUE,1,0) -> 0
A33: 24 | C33: 2016 | D33: 2043 | E33: - | F33: Item | G33: Pretty Wing | H33: x10, from Demo | K33: Nil | L33: Nil | M33: Nil | N33: Nil | O33: Nil | P33: Nil | Q33: Nil | R33: Nil | S33: Nil | T33: Demo | U33: 1 | V33: 1 | Y33: 1 | Z33: 1 | AA33: 1 | AB33: 1 | AD33: No end date (simply transfer from demo) | AF33: =IF(OR($C33='Missing Wondercards'!$G$1,'Missing Wondercards'!$G$1="all")=TRUE,IF(SUM(AG33:AO33)>0,1,0),0) -> 0 | AG33: =IF(OR(K33="?",K33="Mx",K33="Fx",K33="Nilx",K33="Rx")=TRUE,1,0) -> 0 | AH33: =IF(OR(L33="?",L33="Mx",L33="Fx",L33="Nilx",L33="Rx")=TRUE,1,0) -> 0 | AI33: =IF(OR(M33="?",M33="Mx",M33="Fx",M33="Nilx",M33="Rx")=TRUE,1,0) -> 0 | AJ33: =IF(OR(N33="?",N33="Mx",N33="Fx",N33="Nilx",N33="Rx")=TRUE,1,0) -> 0 | AK33: =IF(OR(O33="?",O33="Mx",O33="Fx",O33="Nilx",O33="Rx")=TRUE,1,0) -> 0 | AL33: =IF(OR(P33="?",P33="Mx",P33="Fx",P33="Nilx",P33="Rx")=TRUE,1,0) -> 0 | AM33: =IF(OR(Q33="?",Q33="Mx",Q33="Fx",Q33="Nilx",Q33="Rx")=TRUE,1,0) -> 0 | AN33: =IF(OR(R33="?",R33="Mx",R33="Fx",R33="Nilx",R33="Rx")=TRUE,1,0) -> 0 | AO33: =IF(OR(S33="?",S33="Mx",S33="Fx",S33="Nilx",S33="Rx")=TRUE,1,0) -> 0
A34: 25 | C34: 2016 | D34: 2044 | E34: - | F34: Item | G34: Balm Mushroom | H34: x1, from Demo | K34: Nil | L34: Nil | M34: Nil | N34: Nil | O34: Nil | P34: Nil | Q34: Nil | R34: Nil | S34: Nil | T34: Demo | U34: 1 | V34: 1 | Y34: 1 | Z34: 1 | AA34: 1 | AB34: 1 | AD34: No end date (simply transfer from demo) | AF34: =IF(OR($C34='Missing Wondercards'!$G$1,'Missing Wondercards'!$G$1="all")=TRUE,IF(SUM(AG34:AO34)>0,1,0),0) -> 0 | AG34: =IF(OR(K34="?",K34="Mx",K34="Fx",K34="Nilx",K34="Rx")=TRUE,1,0) -> 0 | AH34: =IF(OR(L34="?",L34="Mx",L34="Fx",L34="Nilx",L34="Rx")=TRUE,1,0) -> 0 | AI34: =IF(OR(M34="?",M34="Mx",M34="Fx",M34="Nilx",M34="Rx")=TRUE,1,0) -> 0 | AJ34: =IF(OR(N34="?",N34="Mx",N34="Fx",N34="Nilx",N34="Rx")=TRUE,1,0) -> 0 | AK34: =IF(OR(O34="?",O34="Mx",O34="Fx",O34="Nilx",O34="Rx")=TRUE,1,0) -> 0 | AL34: =IF(OR(P34="?",P34="Mx",P34="Fx",P34="Nilx",P34="Rx")=TRUE,1,0) -> 0 | AM34: =IF(OR(Q34="?",Q34="Mx",Q34="Fx",Q34="Nilx",Q34="Rx")=TRUE,1,0) -> 0 | AN34: =IF(OR(R34="?",R34="Mx",R34="Fx",R34="Nilx",R34="Rx")=TRUE,1,0) -> 0 | AO34: =IF(OR(S34="?",S34="Mx",S34="Fx",S34="Nilx",S34="Rx")=TRUE,1,0) -> 0
A35: 26 | C35: 2016 | D35: 2045 | E35: - | F35: Item | G35: Comet Shard | H35: x1, from Demo | K35: Nil | L35: Nil | M35: Nil | N35: Nil | O35: Nil | P35: Nil | Q35: Nil | R35: Nil | S35: Nil | T35: Demo | U35: 1 | V35: 1 | Y35: 1 | Z35: 1 | AA35: 1 | AB35: 1 | AD35: No end date (simply transfer from demo) | AF35: =IF(OR($C35='Missing Wondercards'!$G$1,'Missing Wondercards'!$G$1="all")=TRUE,IF(SUM(AG35:AO35)>0,1,0),0) -> 0 | AG35: =IF(OR(K35="?",K35="Mx",K35="Fx",K35="Nilx",K35="Rx")=TRUE,1,0) -> 0 | AH35: =IF(OR(L35="?",L35="Mx",L35="Fx",L35="Nilx",L35="Rx")=TRUE,1,0) -> 0 | AI35: =IF(OR(M35="?",M35="Mx",M35="Fx",M35="Nilx",M35="Rx")=TRUE,1,0) -> 0 | AJ35: =IF(OR(N35="?",N35="Mx",N35="Fx",N35="Nilx",N35="Rx")=TRUE,1,0) -> 0 | AK35: =IF(OR(O35="?",O35="Mx",O35="Fx",O35="Nilx",O35="Rx")=TRUE,1,0) -> 0 | AL35: =IF(OR(P35="?",P35="Mx",P35="Fx",P35="Nilx",P35="Rx")=TRUE,1,0) -> 0 | AM35: =IF(OR(Q35="?",Q35="Mx",Q35="Fx",Q35="Nilx",Q35="Rx")=TRUE,1,0) -> 0 | AN35: =IF(OR(R35="?",R35="Mx",R35="Fx",R35="Nilx",R35="Rx")=TRUE,1,0) -> 0 | AO35: =IF(OR(S35="?",S35="Mx",S35="Fx",S35="Nilx",S35="Rx")=TRUE,1,0) -> 0
A36: 27 | C36: 2016 | D36: 2046 | E36: 131017 | F36: Pkmn | G36: Ash-Greninja | H36: From Demo | K36: M | L36: M | M36: M | N36: M | O36: M | P36: M | Q36: M | R36: M | S36: M | T36: Demo | U36: 1 | V36: 1 | Y36: 1 | Z36: 1 | AA36: 1 | AB36: 1 | AD36: No end date (simply transfer from demo) | AF36: =IF(OR($C36='Missing Wondercards'!$G$1,'Missing Wondercards'!$G$1="all")=TRUE,IF(SUM(AG36:AO36)>0,1,0),0) -> 0 | AG36: =IF(OR(K36="?",K36="Mx",K36="Fx",K36="Nilx",K36="Rx")=TRUE,1,0) -> 0 | AH36: =IF(OR(L36="?",L36="Mx",L36="Fx",L36="Nilx",L36="Rx")=TRUE,1,0) -> 0 | AI36: =IF(OR(M36="?",M36="Mx",M36="Fx",M36="Nilx",M36="Rx")=TRUE,1,0) -> 0 | AJ36: =IF(OR(N36="?",N36="Mx",N36="Fx",N36="Nilx",N36="Rx")=TRUE,1,0) -> 0 | AK36: =IF(OR(O36="?",O36="Mx",O36="Fx",O36="Nilx",O36="Rx")=TRUE,1,0) -> 0 | AL36: =IF(OR(P36="?",P36="Mx",P36="Fx",P36="Nilx",P36="Rx")=TRUE,1,0) -> 0 | AM36: =IF(OR(Q36="?",Q36="Mx",Q36="Fx",Q36="Nilx",Q36="Rx")=TRUE,1,0) -> 0 | AN36: =IF(OR(R36="?",R36="Mx",R36="Fx",R36="Nilx",R36="Rx")=TRUE,1,0) -> 0 | AO36: =IF(OR(S36="?",S36="Mx",S36="Fx",S36="Nilx",S36="Rx")=TRUE,1,0) -> 0
A37: 28 | C37: 2016 | D37: 2047 | E37: - | F37: BPs | G37: Battle Points | H37: PGL Battle of Alola | K37: Nil | L37: Nil | M37: Nil | N37: Nil | O37: Nil | P37: Nil | Q37: Nil | R37: x | S37: x | T37: Serial Code | U37: 1 | V37: 1 | Y37: 1 | Z37: 1 | AA37: 1 | AB37: 1 | AD37: =datevalue("2016-12-22") -> 42726 | AE37: - Jan 30, 2017 | AF37: =IF(OR($C37='Missing Wondercards'!$G$1,'Missing Wondercards'!$G$1="all")=TRUE,IF(SUM(AG37:AO37)>0,1,0),0) -> 0 | AG37: =IF(OR(K37="?",K37="Mx",K37="Fx",K37="Nilx",K37="Rx")=TRUE,1,0) -> 0 | AH37: =IF(OR(L37="?",L37="Mx",L37="Fx",L37="Nilx",L37="Rx")=TRUE,1,0) -> 0 | AI37: =IF(OR(M37="?",M37="Mx",M37="Fx",M37="Nilx",M37="Rx")=TRUE,1,0) -> 0 | AJ37: =IF(OR(N37="?",N37="Mx",N37="Fx",N37="Nilx",N37="Rx")=TRUE,1,0) -> 0 | AK37: =IF(OR(O37="?",O37="Mx",O37="Fx",O37="Nilx",O37="Rx")=TRUE,1,0) -> 0 | AL37: =IF(OR(P37="?",P37="Mx",P37="Fx",P37="Nilx",P37="Rx")=TRUE,1,0) -> 0 | AM37: =IF(OR(Q37="?",Q37="Mx",Q37="Fx",Q37="Nilx",Q37="Rx")=TRUE,1,0) -> 0 | AN37: =IF(OR(R37="?",R37="Mx",R37="Fx",R37="Nilx",R37="Rx")=TRUE,1,0) -> 0 | AO37: =IF(OR(S37="?",S37="Mx",S37="Fx",S37="Nilx",S37="Rx")=TRUE,1,0) -> 0
A38: 29 | C38: 2017 | D38: 0 | E38: - | F38: Item | G38: Mewnium Z | H38: Pokemon Bank Sun Moon Support | K38: Nil | L38: x | M38: x | N38: x | O38: x | P38: x | Q38: x | R38: x | S38: x | T38: Pokemon Bank | U38: 1 | V38: 1 | Y38: 1 | Z38: 1 | AA38: 1 | AB38: 1 | AD38: =datevalue("2017-1-25") -> 42760 | AE38: - Oct 2, 2017 | AF38: =IF(OR($C38='Missing Wondercards'!$G$1,'Missing Wondercards'!$G$1="all")=TRUE,IF(SUM(AG38:AO38)>0,1,0),0) -> 0 | AG38: =IF(OR(K38="?",K38="Mx",K38="Fx",K38="Nilx",K38="Rx")=TRUE,1,0) -> 0 | AH38: =IF(OR(L38="?",L38="Mx",L38="Fx",L38="Nilx",L38="Rx")=TRUE,1,0) -> 0 | AI38: =IF(OR(M38="?",M38="Mx",M38="Fx",M38="Nilx",M38="Rx")=TRUE,1,0) -> 0 | AJ38: =IF(OR(N38="?",N38="Mx",N38="Fx",N38="Nilx",N38="Rx")=TRUE,1,0) -> 0 | AK38: =IF(OR(O38="?",O38="Mx",O38="Fx",O38="Nilx",O38="Rx")=TRUE,1,0) -> 0 | AL38: =IF(OR(P38="?",P38="Mx",P38="Fx",P38="Nilx",P38="Rx")=TRUE,1,0) -> 0 | AM38: =IF(OR(Q38="?",Q38="Mx",Q38="Fx",Q38="Nilx",Q38="Rx")=TRUE,1,0) -> 0 | AN38: =IF(OR(R38="?",R38="Mx",R38="Fx",R38="Nilx",R38="Rx")=TRUE,1,0) -> 0 | AO38: =IF(OR(S38="?",S38="Mx",S38="Fx",S38="Nilx",S38="Rx")=TRUE,1,0) -> 0
A39: 30 | C39: 2017 | D39: 207 | E39: - | F39: Item | G39: Big Nugget | H39: WHF'17 Winter | K39: x | L39: x | M39: x | N39: x | O39: Nil | P39: x | Q39: x | R39: x | S39: x | T39: Local Wireless | U39: 1 | V39: 1 | Y39: 1 | Z39: 1 | AA39: 1 | AB39: 1 | AD39: =datevalue("2017-1-22") -> 42757 | AE39: , Jan 28 - 28, Feb 5, Feb 12, 2017 | AF39: =IF(OR($C39='Missing Wondercards'!$G$1,'Missing Wondercards'!$G$1="all")=TRUE,IF(SUM(AG39:AO39)>0,1,0),0) -> 0 | AG39: =IF(OR(K39="?",K39="Mx",K39="Fx",K39="Nilx",K39="Rx")=TRUE,1,0) -> 0 | AH39: =IF(OR(L39="?",L39="Mx",L39="Fx",L39="Nilx",L39="Rx")=TRUE,1,0) -> 0 | AI39: =IF(OR(M39="?",M39="Mx",M39="Fx",M39="Nilx",M39="Rx")=TRUE,1,0) -> 0 | AJ39: =IF(OR(N39="?",N39="Mx",N39="Fx",N39="Nilx",N39="Rx")=TRUE,1,0) -> 0 | AK39: =IF(OR(O39="?",O39="Mx",O39="Fx",O39="Nilx",O39="Rx")=TRUE,1,0) -> 0 | AL39: =IF(OR(P39="?",P39="Mx",P39="Fx",P39="Nilx",P39="Rx")=TRUE,1,0) -> 0 | AM39: =IF(OR(Q39="?",Q39="Mx",Q39="Fx",Q39="Nilx",Q39="Rx")=TRUE,1,0) -> 0 | AN39: =IF(OR(R39="?",R39="Mx",R39="Fx",R39="Nilx",R39="Rx")=TRUE,1,0) -> 0 | AO39: =IF(OR(S39="?",S39="Mx",S39="Fx",S39="Nilx",S39="Rx")=TRUE,1,0) -> 0
A40: 31 | C40: 2017 | D40: 208 | E40: - | F40: Item | G40: Rare Candy | H40: Pulverizing Pancake Battle Rare Candy | K40: x | L40: x | M40: x | N40: x | O40: Nil | P40: x | Q40: x | R40: x | S40: x | T40: Serial Code | U40: 1 | V40: 1 | AA40: 1 | AD40: =datevalue("2017-1-14") -> 42749 | AE40: - Jan 31, 2018 | AF40: =IF(OR($C40='Missing Wondercards'!$G$1,'Missing Wondercards'!$G$1="all")=TRUE,IF(SUM(AG40:AO40)>0,1,0),0) -> 0 | AG40: =IF(OR(K40="?",K40="Mx",K40="Fx",K40="Nilx",K40="Rx")=TRUE,1,0) -> 0 | AH40: =IF(OR(L40="?",L40="Mx",L40="Fx",L40="Nilx",L40="Rx")=TRUE,1,0) -> 0 | AI40: =IF(OR(M40="?",M40="Mx",M40="Fx",M40="Nilx",M40="Rx")=TRUE,1,0) -> 0 | AJ40: =IF(OR(N40="?",N40="Mx",N40="Fx",N40="Nilx",N40="Rx")=TRUE,1,0) -> 0 | AK40: =IF(OR(O40="?",O40="Mx",O40="Fx",O40="Nilx",O40="Rx")=TRUE,1,0) -> 0 | AL40: =IF(OR(P40="?",P40="Mx",P40="Fx",P40="Nilx",P40="Rx")=TRUE,1,0) -> 0 | AM40: =IF(OR(Q40="?",Q40="Mx",Q40="Fx",Q40="Nilx",Q40="Rx")=TRUE,1,0) -> 0 | AN40: =IF(OR(R40="?",R40="Mx",R40="Fx",R40="Nilx",R40="Rx")=TRUE,1,0) -> 0 | AO40: =IF(OR(S40="?",S40="Mx",S40="Fx",S40="Nilx",S40="Rx")=TRUE,1,0) -> 0
A41: 32 | C41: 2017 | D41: 211 | E41: - | F41: Item | G41: Aspear Berry | H41: Pokemon Center Alolan Vulpix Items | K41: x | L41: x | M41: x | N41: x | O41: Nil | P41: x | Q41: x | R41: x | S41: x | T41: Local Wireless | U41: 1 | V41: 1 | Y41: 1 | Z41: 1 | AA41: 1 | AB41: 1 | AD41: =datevalue("2017-2-1") -> 42767 | AE41: - Mar 12, 2017 | AF41: =IF(OR($C41='Missing Wondercards'!$G$1,'Missing Wondercards'!$G$1="all")=TRUE,IF(SUM(AG41:AO41)>0,1,0),0) -> 0 | AG41: =IF(OR(K41="?",K41="Mx",K41="Fx",K41="Nilx",K41="Rx")=TRUE,1,0) -> 0 | AH41: =IF(OR(L41="?",L41="Mx",L41="Fx",L41="Nilx",L41="Rx")=TRUE,1,0) -> 0 | AI41: =IF(OR(M41="?",M41="Mx",M41="Fx",M41="Nilx",M41="Rx")=TRUE,1,0) -> 0 | AJ41: =IF(OR(N41="?",N41="Mx",N41="Fx",N41="Nilx",N41="Rx")=TRUE,1,0) -> 0 | AK41: =IF(OR(O41="?",O41="Mx",O41="Fx",O41="Nilx",O41="Rx")=TRUE,1,0) -> 0 | AL41: =IF(OR(P41="?",P41="Mx",P41="Fx",P41="Nilx",P41="Rx")=TRUE,1,0) -> 0 | AM41: =IF(OR(Q41="?",Q41="Mx",Q41="Fx",Q41="Nilx",Q41="Rx")=TRUE,1,0) -> 0 | AN41: =IF(OR(R41="?",R41="Mx",R41="Fx",R41="Nilx",R41="Rx")=TRUE,1,0) -> 0 | AO41: =IF(OR(S41="?",S41="Mx",S41="Fx",S41="Nilx",S41="Rx")=TRUE,1,0) -> 0
...

Sheet Credits
B1: * Note: I only credited the first contribution of that species + wc ID + gender + language. Later entries are not credited, else it'll drive me (and perhaps readers) nuts
B3: User | C3: wc id | D3: Contributions | E3: Date | F3: ENG | G3: FRE | H3: GER | I3: ITA | J3: SPA | K3: JPN | L3: KOR | M3: CHS | N3: CHT
B4: theSLAYER | C4: 2040 | D4: Stardust | E4: 42692 | F4: =F$3 -> ENG | G4: =G$3 -> FRE | H4: =H$3 -> GER | I4: =I$3 -> ITA | J4: =J$3 -> SPA | K4: =K$3 -> JPN | L4: =L$3 -> KOR | M4: =M$3 -> CHS | N4: =N$3 -> CHT
B5: theSLAYER | C5: 2041 | D5: Star Piece | E5: 42692 | F5: =F$3 -> ENG | G5: =G$3 -> FRE | H5: =H$3 -> GER | I5: =I$3 -> ITA | J5: =J$3 -> SPA | K5: =K$3 -> JPN | L5: =L$3 -> KOR | M5: =M$3 -> CHS | N5: =N$3 -> CHT
B6: theSLAYER | C6: 2042 | D6: Nugget | E6: 42692 | F6: =F$3 -> ENG | G6: =G$3 -> FRE | H6: =H$3 -> GER | I6: =I$3 -> ITA | J6: =J$3 -> SPA | K6: =K$3 -> JPN | L6: =L$3 -> KOR | M6: =M$3 -> CHS | N6: =N$3 -> CHT
B7: theSLAYER | C7: 2043 | D7: Pretty Wing | E7: 42692 | F7: =F$3 -> ENG | G7: =G$3 -> FRE | H7: =H$3 -> GER | I7: =I$3 -> ITA | J7: =J$3 -> SPA | K7: =K$3 -> JPN | L7: =L$3 -> KOR | M7: =M$3 -> CHS | N7: =N$3 -> CHT
B8: theSLAYER | C8: 2044 | D8: Balm Mushroom | E8: 42692 | F8: =F$3 -> ENG | G8: =G$3 -> FRE | H8: =H$3 -> GER | I8: =I$3 -> ITA | J8: =J$3 -> SPA | K8: =K$3 -> JPN | L8: =L$3 -> KOR | M8: =M$3 -> CHS | N8: =N$3 -> CHT
B9: theSLAYER | C9: 2045 | D9: Comet Shard | E9: 42692 | F9: =F$3 -> ENG | G9: =G$3 -> FRE | H9: =H$3 -> GER | I9: =I$3 -> ITA | J9: =J$3 -> SPA | K9: =K$3 -> JPN | L9: =L$3 -> KOR | M9: =M$3 -> CHS | N9: =N$3 -> CHT
B10: theSLAYER | C10: 2046 | D10: Ash-Greninja | E10: 42692 | F10: =F$3 -> ENG | G10: =G$3 -> FRE | H10: =H$3 -> GER | I10: =I$3 -> ITA | J10: =J$3 -> SPA | K10: =K$3 -> JPN | L10: =L$3 -> KOR | M10: =M$3 -> CHS | N10: =N$3 -> CHT
B11: theSLAYER | C11: 1602 | D11: Quick Ball | E11: 42692 | F11: =F$3 -> ENG | G11: =G$3 -> FRE | H11: =H$3 -> GER | I11: =I$3 -> ITA | J11: =J$3 -> SPA | K11: =K$3 -> JPN
B12: theSLAYER | C12: 1603 | D12: Poke Ball | E12: 42692 | F12: =F$3 -> ENG | G12: =G$3 -> FRE | J12: =J$3 -> SPA | K12: =K$3 -> JPN | L12: =L$3 -> KOR
B13: theSLAYER | C13: 202 | D13: Revival Herb | E13: 42692 | F13: =F$3 -> ENG
B14: theSLAYER | C14: 201 | D14: Munchlax | E14: 42692 | F14: =F$3 -> ENG | G14: =G$3 -> FRE | H14: =H$3 -> GER | I14: =I$3 -> ITA | J14: =J$3 -> SPA | K14: =K$3 -> JPN | L14: =L$3 -> KOR
B15: theSLAYER | C15: 205 | D15: Choice Band | E15: 42719 | K15: =K$3 -> JPN
B16: theSLAYER | C16: 205 | D16: Choice Scarf | E16: 42719 | K16: =K$3 -> JPN
B17: theSLAYER | C17: 210 | D17: Gold Bottle Cap | E17: 42719 | K17: =K$3 -> JPN
B18: Rei Keima | C18: 2047 | D18: Battle Points x50 | E18: 42726 | F18: ENG
