Workbook
Name wc7datafields: Events!$C$9:$AE$300

Sheet Region Info
G2: Game Obtainable | K2: Region Allowed | O2: Wonder Card Languages Available
C3: WC ID | D3: TID | E3: Event | F3: Type | G3: Sun | H3: Moon | I3: Ultra Sun | J3: Ultra Moon | K3: US | L3: EU | M3: JP | N3: KO | O3: ENG | P3: FRE | Q3: GER | R3: ITA | S3: JPN | T3: KOR | U3: SPA | V3: CHS | W3: CHT
B4: =if(E4="","",IMAGE(Lower(if(Events!F10="Pkmn",("https://projectpokemon.org/images/mini_sprites/"),"https://projectpokemon.org/images/items/")) & Lower(substitute(substitute(substitute(E4,")",""),"(","")," ","_") & ".png"), 3)) | C4: =IF(E4="","",Events!D10) -> 201 | D4: =IF(Events!E10=0,"",Events!E10) -> 161118 | E4: =IF(Events!G10=0,"",Events!G10) -> Comfey | F4: =IF(Events!T10=0,"",Events!T10) -> Local Wireless | G4: =IF(Events!U10=0,"",Events!U10) -> 1 | H4: =IF(Events!V10=0,"",Events!V10) -> 1 | K4: =IF(Events!Y10=0,"",Events!Y10) -> 1 | L4: =IF(Events!Z10=0,"",Events!Z10) -> 1 | M4: =IF(Events!AA10=0,"",Events!AA10) -> 1 | N4: =IF(Events!AB10=0,"",Events!AB10) -> 1 | O4: =IF(Events!K10=0,"",Events!K10) -> x | P4: =IF(Events!L10=0,"",Events!L10) -> x | Q4: =IF(Events!M10=0,"",Events!M10) -> x | R4: =IF(Events!N10=0,"",Events!N10) -> x | S4: =IF(Events!O10=0,"",Events!O10) -> R | T4: =IF(Events!P10=0,"",Events!P10) -> x | U4: =IF(Events!Q10=0,"",Events!Q10) -> x | V4: =IF(Events!R10=0,"",Events!R10) -> x | W4: =IF(Events!S10=0,"",Events!S10) -> x
B5: =if(E5="","",IMAGE(Lower(if(Events!F11="Pkmn",("https://projectpokemon.org/images/mini_sprites/"),"https://projectpokemon.org/images/items/")) & Lower(substitute(substitute(substitute(E5,")",""),"(","")," ","_") & ".png"), 3)) | C5: =IF(E5="","",Events!D11) -> 201 | D5: =IF(Events!E11=0,"",Events!E11) -> 161118 | E5: =IF(Events!G11=0,"",Events!G11) -> Eevee | F5: =IF(Events!T11=0,"",Events!T11) -> Local Wireless | G5: =IF(Events!U11=0,"",Events!U11) -> 1 | H5: =IF(Events!V11=0,"",Events!V11) -> 1 | K5: =IF(Events!Y11=0,"",Events!Y11) -> 1 | L5: =IF(Events!Z11=0,"",Events!Z11) -> 1 | M5: =IF(Events!AA11=0,"",Events!AA11) -> 1 | N5: =IF(Events!AB11=0,"",Events!AB11) -> 1 | O5: =IF(Events!K11=0,"",Events!K11) -> x | P5: =IF(Events!L11=0,"",Events!L11) -> x | Q5: =IF(Events!M11=0,"",Events!M11) -> x | R5: =IF(Events!N11=0,"",Events!N11) -> x | S5: =IF(Events!O11=0,"",Events!O11) -> R | T5: =IF(Events!P11=0,"",Events!P11) -> x | U5: =IF(Events!Q11=0,"",Events!Q11) -> x | V5: =IF(Events!R11=0,"",Events!R11) -> x | W5: =IF(Events!S11=0,"",Events!S11) -> x
B6: =if(E6="","",IMAGE(Lower(if(Events!F12="Pkmn",("https://projectpokemon.org/images/mini_sprites/"),"https://projectpokemon.org/images/items/")) & Lower(substitute(substitute(substitute(E6,")",""),"(","")," ","_") & ".png"), 3)) | C6: =IF(E6="","",Events!D12) -> 201 | D6: =IF(Events!E12=0,"",Events!E12) -> 161118 | E6: =IF(Events!G12=0,"",Events!G12) -> Pikachu | F6: =IF(Events!T12=0,"",Events!T12) -> Local Wireless | G6: =IF(Events!U12=0,"",Events!U12) -> 1 | H6: =IF(Events!V12=0,"",Events!V12) -> 1 | K6: =IF(Events!Y12=0,"",Events!Y12) -> 1 | L6: =IF(Events!Z12=0,"",Events!Z12) -> 1 | M6: =IF(Events!AA12=0,"",Events!AA12) -> 1 | N6: =IF(Events!AB12=0,"",Events!AB12) -> 1 | O6: =IF(Events!K12=0,"",Events!K12) -> x | P6: =IF(Events!L12=0,"",Events!L12) -> x | Q6: =IF(Events!M12=0,"",Events!M12) -> x | R6: =IF(Events!N12=0,"",Events!N12) -> x | S6: =IF(Events!O12=0,"",Events!O12) -> R | T6: =IF(Events!P12=0,"",Events!P12) -> x | U6: =IF(Events!Q12=0,"",Events!Q12) -> x | V6: =IF(Events!R12=0,"",Events!R12) -> x | W6: =IF(Events!S12=0,"",Events!S12) -> x
B7: =if(E7="","",IMAGE(Lower(if(Events!F13="Pkmn",("https://projectpokemon.org/images/mini_sprites/"),"https://projectpokemon.org/images/items/")) & Lower(substitute(substitute(substitute(E7,")",""),"(","")," ","_") & ".png"), 3)) | C7: =IF(E7="","",Events!D13) -> 202 | D7: =IF(Events!E13=0,"",Events!E13) -> - | E7: =IF(Events!G13=0,"",Events!G13) -> Revival Herb | F7: =IF(Events!T13=0,"",Events!T13) -> Serial Code | G7: =IF(Events!U13=0,"",Events!U13) -> 1 | H7: =IF(Events!V13=0,"",Events!V13) -> 1 | K7: =IF(Events!Y13=0,"",Events!Y13) | L7: =IF(Events!Z13=0,"",Events!Z13) -> 1 | M7: =IF(Events!AA13=0,"",Events!AA13) -> 1 | N7: =IF(Events!AB13=0,"",Events!AB13) | O7: =IF(Events!K13=0,"",Events!K13) -> Nil | P7: =IF(Events!L13=0,"",Events!L13) -> x | Q7: =IF(Events!M13=0,"",Events!M13) -> x | R7: =IF(Events!N13=0,"",Events!N13) -> x | S7: =IF(Events!O13=0,"",Events!O13) -> x | T7: =IF(Events!P13=0,"",Events!P13) -> x | U7: =IF(Events!Q13=0,"",Events!Q13) -> x | V7: =IF(Events!R13=0,"",Events!R13) -> x | W7: =IF(Events!S13=0,"",Events!S13) -> x
B8: =if(E8="","",IMAGE(Lower(if(Events!F14="Pkmn",("https://projectpokemon.org/images/mini_sprites/"),"https://projectpokemon.org/images/items/")) & Lower(substitute(substitute(substitute(E8,")",""),"(","")," ","_") & ".png"), 3)) | C8: =IF(E8="","",Events!D14) -> 203 | D8: =IF(Events!E14=0,"",Events!E14) -> 161201 | E8: =IF(Events!G14=0,"",Events!G14) -> Vulpix (Alolan) | F8: =IF(Events!T14=0,"",Events!T14) -> Local Wireless | G8: =IF(Events!U14=0,"",Events!U14) -> 1 | H8: =IF(Events!V14=0,"",Events!V14) -> 1 | K8: =IF(Events!Y14=0,"",Events!Y14) -> 1 | L8: =IF(Events!Z14=0,"",Events!Z14) -> 1 | M8: =IF(Events!AA14=0,"",Events!AA14) -> 1 | N8: =IF(Events!AB14=0,"",Events!AB14) -> 1 | O8: =IF(Events!K14=0,"",Events!K14) -> x | P8: =IF(Events!L14=0,"",Events!L14) -> x | Q8: =IF(Events!M14=0,"",Events!M14) -> x | R8: =IF(Events!N14=0,"",Events!N14) -> x | S8: =IF(Events!O14=0,"",Events!O14) -> R | T8: =IF(Events!P14=0,"",Events!P14) -> x | U8: =IF(Events!Q14=0,"",Events!Q14) -> x | V8: =IF(Events!R14=0,"",Events!R14) -> x | W8: =IF(Events!S14=0,"",Events!S14) -> x
B9: =if(E9="","",IMAGE(Lower(if(Events!F15="Pkmn",("https://projectpokemon.org/images/mini_sprites/"),"https://projectpokemon.org/images/items/")) & Lower(substitute(substitute(substitute(E9,")",""),"(","")," ","_") & ".png"), 3)) | C9: =IF(E9="","",Events!D15) -> 204 | D9: =IF(Events!E15=0,"",Events!E15) -> - | E9: =IF(Events!G15=0,"",Events!G15) -> Comet Shard | F9: =IF(Events!T15=0,"",Events!T15) -> Local Wireless | G9: =IF(Events!U15=0,"",Events!U15) -> 1 | H9: =IF(Events!V15=0,"",Events!V15) -> 1 | K9: =IF(Events!Y15=0,"",Events!Y15) -> 1 | L9: =IF(Events!Z15=0,"",Events!Z15) -> 1 | M9: =IF(Events!AA15=0,"",Events!AA15) -> 1 | N9: =IF(Events!AB15=0,"",Events!AB15) -> 1 | O9: =IF(Events!K15=0,"",Events!K15) -> x | P9: =IF(Events!L15=0,"",Events!L15) -> x | Q9: =IF(Events!M15=0,"",Events!M15) -> x | R9: =IF(Events!N15=0,"",Events!N15) -> x | S9: =IF(Events!O15=0,"",Events!O15) -> Nil | T9: =IF(Events!P15=0,"",Events!P15) -> x | U9: =IF(Events!Q15=0,"",Events!Q15) -> x | V9: =IF(Events!R15=0,"",Events!R15) -> x | W9: =IF(Events!S15=0,"",Events!S15) -> x
B10: =if(E10="","",IMAGE(Lower(if(Events!F16="Pkmn",("https://projectpokemon.org/images/mini_sprites/"),"https://projectpokemon.org/images/items/")) & Lower(substitute(substitute(substitute(E10,")",""),"(","")," ","_") & ".png"), 3)) | C10: =IF(E10="","",Events!D16) -> 204 | D10: =IF(Events!E16=0,"",Events!E16) -> - | E10: =IF(Events!G16=0,"",Events!G16) -> Full Heal | F10: =IF(Events!T16=0,"",Events!T16) -> Local Wireless | G10: =IF(Events!U16=0,"",Events!U16) -> 1 | H10: =IF(Events!V16=0,"",Events!V16) -> 1 | K10: =IF(Events!Y16=0,"",Events!Y16) -> 1 | L10: =IF(Events!Z16=0,"",Events!Z16) -> 1 | M10: =IF(Events!AA16=0,"",Events!AA16) -> 1 | N10: =IF(Events!AB16=0,"",Events!AB16) -> 1 | O10: =IF(Events!K16=0,"",Events!K16) -> x | P10: =IF(Events!L16=0,"",Events!L16) -> x | Q10: =IF(Events!M16=0,"",Events!M16) -> x | R10: =IF(Events!N16=0,"",Events!N16) -> x | S10: =IF(Events!O16=0,"",Events!O16) -> Nil | T10: =IF(Events!P16=0,"",Events!P16) -> x | U10: =IF(Events!Q16=0,"",Events!Q16) -> x | V10: =IF(Events!R16=0,"",Events!R16) -> x | W10: =IF(Events!S16=0,"",Events!S16) -> x
B11: =if(E11="","",IMAGE(Lower(if(Events!F17="Pkmn",("https://projectpokemon.org/images/mini_sprites/"),"https://projectpokemon.org/images/items/")) & Lower(substitute(substitute(substitute(E11,")",""),"(","")," ","_") & ".png"), 3)) | C11: =IF(E11="","",Events!D17) -> 204 | D11: =IF(Events!E17=0,"",Events!E17) -> - | E11: =IF(Events!G17=0,"",Events!G17) -> Full Restore | F11: =IF(Events!T17=0,"",Events!T17) -> Local Wireless | G11: =IF(Events!U17=0,"",Events!U17) -> 1 | H11: =IF(Events!V17=0,"",Events!V17) -> 1 | K11: =IF(Events!Y17=0,"",Events!Y17) -> 1 | L11: =IF(Events!Z17=0,"",Events!Z17) -> 1 | M11: =IF(Events!AA17=0,"",Events!AA17) -> 1 | N11: =IF(Events!AB17=0,"",Events!AB17) -> 1 | O11: =IF(Events!K17=0,"",Events!K17) -> x | P11: =IF(Events!L17=0,"",Events!L17) -> x | Q11: =IF(Events!M17=0,"",Events!M17) -> x | R11: =IF(Events!N17=0,"",Events!N17) -> x | S11: =IF(Events!O17=0,"",Events!O17) -> Nil | T11: =IF(Events!P17=0,"",Events!P17) -> x | U11: =IF(Events!Q17=0,"",Events!Q17) -> x | V11: =IF(Events!R17=0,"",Events!R17) -> x | W11: =IF(Events!S17=0,"",Events!S17) -> x
B12: =if(E12="","",IMAGE(Lower(if(Events!F18="Pkmn",("https://projectpokemon.org/images/mini_sprites/"),"https://projectpokemon.org/images/items/")) & Lower(substitute(substitute(substitute(E12,")",""),"(","")," ","_") & ".png"), 3)) | C12: =IF(E12="","",Events!D18) -> 204 | D12: =IF(Events!E18=0,"",Events!E18) -> - | E12: =IF(Events!G18=0,"",Events!G18) -> Heal Powder | F12: =IF(Events!T18=0,"",Events!T18) -> Local Wireless | G12: =IF(Events!U18=0,"",Events!U18) -> 1 | H12: =IF(Events!V18=0,"",Events!V18) -> 1 | K12: =IF(Events!Y18=0,"",Events!Y18) -> 1 | L12: =IF(Events!Z18=0,"",Events!Z18) -> 1 | M12: =IF(Events!AA18=0,"",Events!AA18) -> 1 | N12: =IF(Events!AB18=0,"",Events!AB18) -> 1 | O12: =IF(Events!K18=0,"",Events!K18) -> x | P12: =IF(Events!L18=0,"",Events!L18) -> x | Q12: =IF(Events!M18=0,"",Events!M18) -> x | R12: =IF(Events!N18=0,"",Events!N18) -> x | S12: =IF(Events!O18=0,"",Events!O18) -> Nil | T12: =IF(Events!P18=0,"",Events!P18) -> x | U12: =IF(Events!Q18=0,"",Events!Q18) -> x | V12: =IF(Events!R18=0,"",Events!R18) -> x | W12: =IF(Events!S18=0,"",Events!S18) -> x
B13: =if(E13="","",IMAGE(Lower(if(Events!F19="Pkmn",("https://projectpokemon.org/images/mini_sprites/"),"https://projectpokemon.org/images/items/")) & Lower(substitute(substitute(substitute(E13,")",""),"(","")," ","_") & ".png"), 3)) | C13: =IF(E13="","",Events!D19) -> 204 | D13: =IF(Events!E19=0,"",Events!E19) -> - | E13: =IF(Events!G19=0,"",Events!G19) -> Hyper Potion | F13: =IF(Events!T19=0,"",Events!T19) -> Local Wireless | G13: =IF(Events!U19=0,"",Events!U19) -> 1 | H13: =IF(Events!V19=0,"",Events!V19) -> 1 | K13: =IF(Events!Y19=0,"",Events!Y19) -> 1 | L13: =IF(Events!Z19=0,"",Events!Z19) -> 1 | M13: =IF(Events!AA19=0,"",Events!AA19) -> 1 | N13: =IF(Events!AB19=0,"",Events!AB19) -> 1 | O13: =IF(Events!K19=0,"",Events!K19) -> x | P13: =IF(Events!L19=0,"",Events!L19) -> x | Q13: =IF(Events!M19=0,"",Events!M19) -> x | R13: =IF(Events!N19=0,"",Events!N19) -> x | S13: =IF(Events!O19=0,"",Events!O19) -> Nil | T13: =IF(Events!P19=0,"",Events!P19) -> x | U13: =IF(Events!Q19=0,"",Events!Q19) -> x | V13: =IF(Events!R19=0,"",Events!R19) -> x | W13: =IF(Events!S19=0,"",Events!S19) -> x
B14: =if(E14="","",IMAGE(Lower(if(Events!F20="Pkmn",("https://projectpokemon.org/images/mini_sprites/"),"https://projectpokemon.org/images/items/")) & Lower(substitute(substitute(substitute(E14,")",""),"(","")," ","_") & ".png"), 3)) | C14: =IF(E14="","",Events!D20) -> 204 | D14: =IF(Events!E20=0,"",Events!E20) -> - | E14: =IF(Events!G20=0,"",Events!G20) -> Potion | F14: =IF(Events!T20=0,"",Events!T20) -> Local Wireless | G14: =IF(Events!U20=0,"",Events!U20) -> 1 | H14: =IF(Events!V20=0,"",Events!V20) -> 1 | K14: =IF(Events!Y20=0,"",Events!Y20) -> 1 | L14: =IF(Events!Z20=0,"",Events!Z20) -> 1 | M14: =IF(Events!AA20=0,"",Events!AA20) -> 1 | N14: =IF(Events!AB20=0,"",Events!AB20) -> 1 | O14: =IF(Events!K20=0,"",Events!K20) -> x | P14: =IF(Events!L20=0,"",Events!L20) -> x | Q14: =IF(Events!M20=0,"",Events!M20) -> x | R14: =IF(Events!N20=0,"",Events!N20) -> x | S14: =IF(Events!O20=0,"",Events!O20) -> Nil | T14: =IF(Events!P20=0,"",Events!P20) -> x | U14: =IF(Events!Q20=0,"",Events!Q20) -> x | V14: =IF(Events!R20=0,"",Events!R20) -> x | W14: =IF(Events!S20=0,"",Events!S20) -> x
B15: =if(E15="","",IMAGE(Lower(if(Events!F21="Pkmn",("https://projectpokemon.org/images/mini_sprites/"),"https://projectpokemon.org/images/items/")) & Lower(substitute(substitute(substitute(E15,")",""),"(","")," ","_") & ".png"), 3)) | C15: =IF(E15="","",Events!D21) -> 204 | D15: =IF(Events!E21=0,"",Events!E21) -> - | E15: =IF(Events!G21=0,"",Events!G21) -> Revive | F15: =IF(Events!T21=0,"",Events!T21) -> Local Wireless | G15: =IF(Events!U21=0,"",Events!U21) -> 1 | H15: =IF(Events!V21=0,"",Events!V21) -> 1 | K15: =IF(Events!Y21=0,"",Events!Y21) -> 1 | L15: =IF(Events!Z21=0,"",Events!Z21) -> 1 | M15: =IF(Events!AA21=0,"",Events!AA21) -> 1 | N15: =IF(Events!AB21=0,"",Events!AB21) -> 1 | O15: =IF(Events!K21=0,"",Events!K21) -> x | P15: =IF(Events!L21=0,"",Events!L21) -> x | Q15: =IF(Events!M21=0,"",Events!M21) -> x | R15: =IF(Events!N21=0,"",Events!N21) -> x | S15: =IF(Events!O21=0,"",Events!O21) -> Nil | T15: =IF(Events!P21=0,"",Events!P21) -> x | U15: =IF(Events!Q21=0,"",Events!Q21) -> x | V15: =IF(Events!R21=0,"",Events!R21) -> x | W15: =IF(Events!S21=0,"",Events!S21) -> x
... B150: =if(E150="","",IMAGE(Lower(if(Events!F156="Pkmn",("https://projectpokemon.org/images/mini_sprites/"),"https://projectpokemon.org/images/items/")) & Lower(substitute(substitute(substitute(E150,")",""),"(","")," ","_") & ".png"), 3)) | C150: =IF(E150="","",Events!D156) | D150: =IF(Events!E156=0,"",Events!E156) | E150: =IF(Events!G156=0,"",Events!G156) | F150: =IF(Events!T156=0,"",Events!T156) | G150: =IF(Events!U156=0,"",Events!U156) | H150: =IF(Events!V156=0,"",Events!V156) | K150: =IF(Events!Y156=0,"",Events!Y156) | L150: =IF(Events!Z156=0,"",Events!Z156) | M150: =IF(Events!AA156=0,"",Events!AA156) | N150: =IF(Events!AB156=0,"",Events!AB156) | O150: =IF(Events!K156=0,"",Events!K156) | P150: =IF(Events!L156=0,"",Events!L156) | Q150: =IF(Events!M156=0,"",Events!M156) | R150: =IF(Events!N156=0,"",Events!N156) | S150: =IF(Events!O156=0,"",Events!O156) | T150: =IF(Events!P156=0,"",Events!P156) | U150: =IF(Events!Q156=0,"",Events!Q156) | V150: =IF(Events!R156=0,"",Events!R156) | W150: =IF(Events!S156=0,"",Events!S156)

Sheet Upcoming and Missing Events
C2: Year and Type | D2: Detail | E2: Description | F2: Dates | G2: TID | H2: Distribution Type | I2: Languages Missing
B3: =image('Missing Wondercards'!W3,3 ) | C3: ='Missing Wondercards'!H3 -> Year 2017: Pkmn | D3: ='Missing Wondercards'!I3 -> Ho-Oh | E3: ='Missing Wondercards'!J3 -> CoroCoro Giveaway | F3: ='Missing Wondercards'!K3 -> Jul 15 - ? | G3: ='Missing Wondercards'!M3 -> ? | H3: ='Missing Wondercards'!N3 -> Serial Code | I3: ='Missing Wondercards'!O3 -> JPN
B4: =image('Missing Wondercards'!W4,3 ) | C4: ='Missing Wondercards'!H4 -> Year 2017: Pkmn | D4: ='Missing Wondercards'!I4 -> Jirachi | E4: ='Missing Wondercards'!J4 -> Tohoku Pokecen's Tanabata Jirachi | F4: ='Missing Wondercards'!K4 -> Aug 06 - Aug 13, 2017 | G4: ='Missing Wondercards'!M4 -> ? | H4: ='Missing Wondercards'!N4 -> Local Wireless | I4: ='Missing Wondercards'!O4 -> JPN
B5: =image('Missing Wondercards'!W5,3 ) | C5: ='Missing Wondercards'!H5 -> Year 2017: Pkmn | D5: ='Missing Wondercards'!I5 -> Salazzle | E5: ='Missing Wondercards'!J5 -> ? | F5: ='Missing Wondercards'!K5 -> ? - ? | G5: ='Missing Wondercards'!M5 -> ? | H5: ='Missing Wondercards'!N5 -> Serial Code | I5: ='Missing Wondercards'!O5 -> ENG & FRE & GER & ITA & SPA
B6: =image('Missing Wondercards'!W6,3 ) | C6: ='Missing Wondercards'!H6 | D6: ='Missing Wondercards'!I6 | E6: ='Missing Wondercards'!J6 | F6: ='Missing Wondercards'!K6 | G6: ='Missing Wondercards'!M6 | H6: ='Missing Wondercards'!N6 | I6: ='Missing Wondercards'!O6
B7: =image('Missing Wondercards'!W7,3 ) | C7: ='Missing Wondercards'!H7 | D7: ='Missing Wondercards'!I7 | E7: ='Missing Wondercards'!J7 | F7: ='Missing Wondercards'!K7 | G7: ='Missing Wondercards'!M7 | H7: ='Missing Wondercards'!N7 | I7: ='Missing Wondercards'!O7
B8: =image('Missing Wondercards'!W8,3 ) | C8: ='Missing Wondercards'!H8 | D8: ='Missing Wondercards'!I8 | E8: ='Missing Wondercards'!J8 | F8: ='Missing Wondercards'!K8 | G8: ='Missing Wondercards'!M8 | H8: ='Missing Wondercards'!N8 | I8: ='Missing Wondercards'!O8
B9: =image('Missing Wondercards'!W9,3 ) | C9: ='Missing Wondercards'!H9 | D9: ='Missing Wondercards'!I9 | E9: ='Missing Wondercards'!J9 | F9: ='Missing Wondercards'!K9 | G9: ='Missing Wondercards'!M9 | H9: ='Missing Wondercards'!N9 | I9: ='Missing Wondercards'!O9
B10: =image('Missing Wondercards'!W10,3 ) | C10: ='Missing Wondercards'!H10 | D10: ='Missing Wondercards'!I10 | E10: ='Missing Wondercards'!J10 | F10: ='Missing Wondercards'!K10 | G10: ='Missing Wondercards'!M10 | H10: ='Missing Wondercards'!N10 | I10: ='Missing Wondercards'!O10
B11: =image('Missing Wondercards'!W11,3 ) | C11: ='Missing Wondercards'!H11 | D11: ='Missing Wondercards'!I11 | E11: ='Missing Wondercards'!J11 | F11: ='Missing Wondercards'!K11 | G11: ='Missing Wondercards'!M11 | H11: ='Missing Wondercards'!N11 | I11: ='Missing Wondercards'!O11
B12: =image('Missing Wondercards'!W12,3 ) | C12: ='Missing Wondercards'!H12 | D12: ='Missing Wondercards'!I12 | E12: ='Missing Wondercards'!J12 | F12: ='Missing Wondercards'!K12 | G12: ='Missing Wondercards'!M12 | H12: ='Missing Wondercards'!N12 | I12: ='Missing Wondercards'!O12
B13: =image('Missing Wondercards'!W13,3 ) | C13: ='Missing Wondercards'!H13 | D13: ='Missing Wondercards'!I13 | E13: ='Missing Wondercards'!J13 | F13: ='Missing Wondercards'!K13 | G13: ='Missing Wondercards'!M13 | H13: ='Missing Wondercards'!N13 | I13: ='Missing Wondercards'!O13
B14: =image('Missing Wondercards'!W14,3 ) | C14: ='Missing Wondercards'!H14 | D14: ='Missing Wondercards'!I14 | E14: ='Missing Wondercards'!J14 | F14: ='Missing Wondercards'!K14 | G14: ='Missing Wondercards'!M14 | H14: ='Missing Wondercards'!N14 | I14: ='Missing Wondercards'!O14
... B58: =image('Missing Wondercards'!W58,3 ) | C58: ='Missing Wondercards'!H58 | D58: ='Missing Wondercards'!I58 | E58: ='Missing Wondercards'!J58 | F58: ='Missing Wondercards'!K58 | G58: ='Missing Wondercards'!M58 | H58: ='Missing Wondercards'!N58 | I58: ='Missing Wondercards'!O58

Sheet Events
F2: Legend:
G3: Represents Legitimacy unsure (Powersaves or Watermarked Wondercards)
G4: Legitimacy Confirmed (more or less)
F5: _ | G5: Underlined represents card is "used" (used wc6 editor to mark it as unused)
F6: x or ? | G6: x means does not exist | ? means either not contributed or unsure
F7: M or F or nil or R | G7: Gender of Pokemon (Male, Female, Genderless or Random)
D8: <------LEGEND is there (click on the + )
B9: =MAX(A:A) -> 390 | C9: Year | D9: WC7 ID | E9: TID | F9: Type | G9: Event and Card Color | H9: Description | J9: Bulbapedia Link | K9: ENG | L9: FRE | M9: GER | N9: ITA | O9: JPN | P9: KOR | Q9: SPA | R9: CHS | S9: CHT | T9: Type | U9: S | V9: M | W9: US | X9: UM | Y9: US | Z9: EU | AA9: JP | AB9: KO | AC9: UNIQUE | AD9: Date
A10: 1 | C10: 2016 | D10: 201 | E10: 161118 | F10: Pkmn | G10: Comfey | H10: Birthday Distribution @ PCs | K10: x | L10: x | M10: x | N10: x | O10: =HYPERLINK("https://projectpokemon.org/forums/files/file/1588-birthday-comfey-2017/","R") -> R | P10: x | Q10: x | R10: x | S10: x | T10: Local Wireless | U10: 1 | V10: 1 | Y10: 1 | Z10: 1 | AA10: 1 | AB10: 1 | AD10: =datevalue("2016-11-18") -> 42692 | AE10: - Nov 17, 2017 | AF10: =IF(OR($C10='Missing Wondercards'!$G$1,'Missing Wondercards'!$G$1="all")=TRUE,IF(SUM(AG10:AO10)>0,1,0),0) -> 0 | AG10: =IF(OR(K10="?",K10="Mx",K10="Fx",K10="Nilx",K10="Rx")=TRUE,1,0) -> 0 | AH10: =IF(OR(L10="?",L10="Mx",L10="Fx",L10="Nilx",L10="Rx")=TRUE,1,0) -> 0 | AI10: =IF(OR(M10="?",M10="Mx",M10="Fx",M10="Nilx",M10="Rx")=TRUE,1,0) -> 0 | AJ10: =IF(OR(N10="?",N10="Mx",N10="Fx",N10="Nilx",N10="Rx")=TRUE,1,0) -> 0 | AK10: =IF(OR(O10="?",O10="Mx",O10="Fx",O10="Nilx",O10="Rx")=TRUE,1,0) -> 0 | AL10: =IF(OR(P10="?",P10="Mx",P10="Fx",P10="Nilx",P10="Rx")=TRUE,1,0) -> 0 | AM10: =IF(OR(Q10="?",Q10="Mx",Q10="Fx",Q10="Nilx",Q10="Rx")=TRUE,1,0) -> 0 | AN10: =IF(OR(R10="?",R10="Mx",R10="Fx",R10="Nilx",R10="Rx")=TRUE,1,0) -> 0 | AO10: =IF(OR(S10="?",S10="Mx",S10="Fx",S10="Nilx",S10="Rx")=TRUE,1,0) -> 0
A11: 2 | C11: 2016 | D11: 201 | E11: 161118 | F11: Pkmn | G11: Eevee | H11: Birthday Distribution @ PCs | K11: x | L11: x | M11: x | N11: x | O11: =HYPERLINK("https://projectpokemon.org/forums/files/file/1587-birthday-eevee-2017/","R") -> R | P11: x | Q11: x | R11: x | S11: x | T11: Local Wireless | U11: 1 | V11: 1 | Y11: 1 | Z11: 1 | AA11: 1 | AB11: 1 | AD11: =datevalue("2016-11-18") -> 42692 | AE11: - Nov 17, 2017 | AF11: =IF(OR($C11='Missing Wondercards'!$G$1,'Missing Wondercards'!$G$1="all")=TRUE,IF(SUM(AG11:AO11)>0,1,0),0) -> 0 | AG11: =IF(OR(K11="?",K11="Mx",K11="Fx",K11="Nilx",K11="Rx")=TRUE,1,0) -> 0 | AH11: =IF(OR(L11="?",L11="Mx",L11="Fx",L11="Nilx",L11="Rx")=TRUE,1,0) -> 0 | AI11: =IF(OR(M11="?",M11="Mx",M11="Fx",M11="Nilx",M11="Rx")=TRUE,1,0) -> 0 | AJ11: =IF(OR(N11="?",N11="Mx",N11="Fx",N11="Nilx",N11="Rx")=TRUE,1,0) -> 0 | AK11: =IF(OR(O11="?",O11="Mx",O11="Fx",O11="Nilx",O11="Rx")=TRUE,1,0) -> 0 | AL11: =IF(OR(P11="?",P11="Mx",P11="Fx",P11="Nilx",P11="Rx")=TRUE,1,0) -> 0 | AM11: =IF(OR(Q11="?",Q11="Mx",Q11="Fx",Q11="Nilx",Q11="Rx")=TRUE,1,0) -> 0 | AN11: =IF(OR(R11="?",R11="Mx",R11="Fx",R11="Nilx",R11="Rx")=TRUE,1,0) -> 0 | AO11: =IF(OR(S11="?",S11="Mx",S11="Fx",S11="Nilx",S11="Rx")=TRUE,1,0) -> 0
A12: 3 | C12: 2016 | D12: 201 | E12: 161118 | F12: Pkmn | G12: Pikachu | H12: Birthday Distribution @ PCs | K12: x | L12: x | M12: x | N12: x | O12: =HYPERLINK("https://projectpokemon.org/forums/files/file/1586-birthday-pikachu-2017/","R") -> R | P12: x | Q12: x | R12: x | S12: x | T12: Local Wireless | U12: 1 | V12: 1 | Y12: 1 | Z12: 1 | AA12: 1 | AB12: 1 | AD12: =datevalue("2016-11-18") -> 42692 | AE12: - Nov 17, 2017 | AF12: =IF(OR($C12='Missing Wondercards'!$G$1,'Missing Wondercards'!$G$1="all")=TRUE,IF(SUM(AG12:AO12)>0,1,0),0) -> 0 | AG12: =IF(OR(K12="?",K12="Mx",K12="Fx",K12="Nilx",K12="Rx")=TRUE,1,0) -> 0 | AH12: =IF(OR(L12="?",L12="Mx",L12="Fx",L12="Nilx",L12="Rx")=TRUE,1,0) -> 0 | AI12: =IF(OR(M12="?",M12="Mx",M12="Fx",M12="Nilx",M12="Rx")=TRUE,1,0) -> 0 | AJ12: =IF(OR(N12="?",N12="Mx",N12="Fx",N12="Nilx",N12="Rx")=TRUE,1,0) -> 0 | AK12: =IF(OR(O12="?",O12="Mx",O12="Fx",O12="Nilx",O12="Rx")=TRUE,1,0) -> 0 | AL12: =IF(OR(P12="?",P12="Mx",P12="Fx",P12="Nilx",P12="Rx")=TRUE,1,0) -> 0 | AM12: =IF(OR(Q12="?",Q12="Mx",Q12="Fx",Q12="Nilx",Q12="Rx")=TRUE,1,0) -> 0 | AN12: =IF(OR(R12="?",R12="Mx",R12="Fx",R12="Nilx",R12="Rx")=TRUE,1,0) -> 0 | AO12: =IF(OR(S12="?",S12="Mx",S12="Fx",S12="Nilx",S12="Rx")=TRUE,1,0) -> 0
A13: 4 | C13: 2016 | D13: 202 | E13: - | F13: Item | G13: Revival Herb | H13: x8, HKTW Early Purchase Bonus | K13: Nil | L13: x | M13: x | N13: x | O13: x | P13: x | Q13: x | R13: x | S13: x | T13: Serial Code | U13: 1 | V13: 1 | Z13: 1 | AA13: 1 | AC13: HKTW | AD13: =datevalue("2016-11-18") -> 42692 | AE13: - ? | AF13: =IF(OR($C13='Missing Wondercards'!$G$1,'Missing Wondercards'!$G$1="all")=TRUE,IF(SUM(AG13:AO13)>0,1,0),0) -> 0 | AG13: =IF(OR(K13="?",K13="Mx",K13="Fx",K13="Nilx",K13="Rx")=TRUE,1,0) -> 0 | AH13: =IF(OR(L13="?",L13="Mx",L13="Fx",L13="Nilx",L13="Rx")=TRUE,1,0) -> 0 | AI13: =IF(OR(M13="?",M13="Mx",M13="Fx",M13="Nilx",M13="Rx")=TRUE,1,0) -> 0 | AJ13: =IF(OR(N13="?",N13="Mx",N13="Fx",N13="Nilx",N13="Rx")=TRUE,1,0) -> 0 | AK13: =IF(OR(O13="?",O13="Mx",O13="Fx",O13="Nilx",O13="Rx")=TRUE,1,0) -> 0 | AL13: =IF(OR(P13="?",P13="Mx",P13="Fx",P13="Nilx",P13="Rx")=TRUE,1,0) -> 0 | AM13: =IF(OR(Q13="?",Q13="Mx",Q13="Fx",Q13="Nilx",Q13="Rx")=TRUE,1,0) -> 0 | AN13: =IF(OR(R13="?",R13="Mx",R13="Fx",R13="Nilx",R13="Rx")=TRUE,1,0) -> 0 | AO13: =IF(OR(S13="?",S13="Mx",S13="Fx",S13="Nilx",S13="Rx")=TRUE,1,0) -> 0
A14: 5 | C14: 2016 | D14: 203 | E14: 161201 | F14: Pkmn | G14: Vulpix (Alolan) | H14: Celebrate Sapporo PC Opening | K14: x | L14: x | M14: x | N14: x | O14: =HYPERLINK("https://projectpokemon.org/forums/files/file/1512-sapporo-reopening-alolan-vulpix/","R") -> R | P14: x | Q14: x | R14: x | S14: x | T14: Local Wireless | U14: 1 | V14: 1 | Y14: 1 | Z14: 1 | AA14: 1 | AB14: 1 | AD14: =datevalue("2016-12-01") -> 42705 | AE14: - Mar 12, 2017 | AF14: =IF(OR($C14='Missing Wondercards'!$G$1,'Missing Wondercards'!$G$1="all")=TRUE,IF(SUM(AG14:AO14)>0,1,0),0) -> 0 | AG14: =IF(OR(K14="?",K14="Mx",K14="Fx",K14="Nilx",K14="Rx")=TRUE,1,0) -> 0 | AH14: =IF(OR(L14="?",L14="Mx",L14="Fx",L14="Nilx",L14="Rx")=TRUE,1,0) -> 0 | AI14: =IF(OR(M14="?",M14="Mx",M14="Fx",M14="Nilx",M14="Rx")=TRUE,1,0) -> 0 | AJ14: =IF(OR(N14="?",N14="Mx",N14="Fx",N14="Nilx",N14="Rx")=TRUE,1,0) -> 0 | AK14: =IF(OR(O14="?",O14="Mx",O14="Fx",O14="Nilx",O14="Rx")=TRUE,1,0) -> 0 | AL14: =IF(OR(P14="?",P14="Mx",P14="Fx",P14="Nilx",P14="Rx")=TRUE,1,0) -> 0 | AM14: =IF(OR(Q14="?",Q14="Mx",Q14="Fx",Q14="Nilx",Q14="Rx")=TRUE,1,0) -> 0 | AN14: =IF(OR(R14="?",R14="Mx",R14="Fx",R14="Nilx",R14="Rx")=TRUE,1,0) -> 0 | AO14: =IF(OR(S14="?",S14="Mx",S14="Fx",S14="Nilx",S14="Rx")=TRUE,1,0) -> 0
A15: 6 | C15: 2016 | D15: 204 | E15: - | F15: Item | G15: Comet Shard | H15: Mystery Items Giveaway @ PCs | K15: x | L15: x | M15: x | N15: x | O15: =HYPERLINK("https://projectpokemon.org/forums/files/file/1865-sapporo-reopening-items-present-comet-shard/","Nil") -> Nil | P15: x | Q15: x | R15: x | S15: x | T15: Local Wireless | U15: 1 | V15: 1 | Y15: 1 | Z15: 1 | AA15: 1 | AB15: 1 | AD15: =datevalue("2016-12-01") -> 42705 | AE15: - Jan 31, 2017 | AF15: =IF(OR($C15='Missing Wondercards'!$G$1,'Missing Wondercards'!$G$1="all")=TRUE,IF(SUM(AG15:AO15)>0,1,0),0) -> 0 | AG15: =IF(OR(K15="?",K15="Mx",K15="Fx",K15="Nilx",K15="Rx")=TRUE,1,0) -> 0 | AH15: =IF(OR(L15="?",L15="Mx",L15="Fx",L15="Nilx",L15="Rx")=TRUE,1,0) -> 0 | AI15: =IF(OR(M15="?",M15="Mx",M15="Fx",M15="Nilx",M15="Rx")=TRUE,1,0) -> 0 | AJ15: =IF(OR(N15="?",N15="Mx",N15="Fx",N15="Nilx",N15="Rx")=TRUE,1,0) -> 0 | AK15: =IF(OR(O15="?",O15="Mx",O15="Fx",O15="Nilx",O15="Rx")=TRUE,1,0) -> 0 | AL15: =IF(OR(P15="?",P15="Mx",P15="Fx",P15="Nilx",P15="Rx")=TRUE,1,0) -> 0 | AM15: =IF(OR(Q15="?",Q15="Mx",Q15="Fx",Q15="Nilx",Q15="Rx")=TRUE,1,0) -> 0 | AN15: =IF(OR(R15="?",R15="Mx",R15="Fx",R15="Nilx",R15="Rx")=TRUE,1,0) -> 0 | AO15: =IF(OR(S15="?",S15="Mx",S15="Fx",S15="Nilx",S15="Rx")=TRUE,1,0) -> 0
A16: 7 | C16: 2016 | D16: 204 | E16: - | F16: Item | G16: Full Heal | H16: Mystery Items Giveaway @ PCs | K16: x | L16: x | M16: x | N16: x | O16: =HYPERLINK("https://projectpokemon.org/forums/files/file/1513-sapporo-reopening-items-present-full-heal/","Nil") -> Nil | P16: x | Q16: x | R16: x | S16: x | T16: Local Wireless | U16: 1 | V16: 1 | Y16: 1 | Z16: 1 | AA16: 1 | AB16: 1 | AD16: =datevalue("2016-12-01") -> 42705 | AE16: - Jan 31, 2017 | AF16: =IF(OR($C16='Missing Wondercards'!$G$1,'Missing Wondercards'!$G$1="all")=TRUE,IF(SUM(AG16:AO16)>0,1,0),0) -> 0 | AG16: =IF(OR(K16="?",K16="Mx",K16="Fx",K16="Nilx",K16="Rx")=TRUE,1,0) -> 0 | AH16: =IF(OR(L16="?",L16="Mx",L16="Fx",L16="Nilx",L16="Rx")=TRUE,1,0) -> 0 | AI16: =IF(OR(M16="?",M16="Mx",M16="Fx",M16="Nilx",M16="Rx")=TRUE,1,0) -> 0 | AJ16: =IF(OR(N16="?",N16="Mx",N16="Fx",N16="Nilx",N16="Rx")=TRUE,1,0) -> 0 | AK16: =IF(OR(O16="?",O16="Mx",O16="Fx",O16="Nilx",O16="Rx")=TRUE,1,0) -> 0 | AL16: =IF(OR(P16="?",P16="Mx",P16="Fx",P16="Nilx",P16="Rx")=TRUE,1,0) -> 0 | AM16: =IF(OR(Q16="?",Q16="Mx",Q16="Fx",Q16="Nilx",Q16="Rx")=TRUE,1,0) -> 0 | AN16: =IF(OR(R16="?",R16="Mx",R16="Fx",R16="Nilx",R16="Rx")=TRUE,1,0) -> 0 | AO16: =IF(OR(S16="?",S16="Mx",S16="Fx",S16="Nilx",S16="Rx")=TRUE,1,0) -> 0
A17: 8 | C17: 2016 | D17: 204 | E17: - | F17: Item | G17: Full Restore | H17: Mystery Items Giveaway @ PCs | K17: x | L17: x | M17: x | N17: x | O17: =HYPERLINK("https://projectpokemon.org/forums/files/file/1514-sapporo-reopening-items-present-full-restore/","Nil") -> Nil | P17: x | Q17: x | R17: x | S17: x | T17: Local Wireless | U17: 1 | V17: 1 | Y17: 1 | Z17: 1 | AA17: 1 | AB17: 1 | AD17: =datevalue("2016-12-01") -> 42705 | AE17: - Jan 31, 2017 | AF17: =IF(OR($C17='Missing Wondercards'!$G$1,'Missing Wondercards'!$G$1="all")=TRUE,IF(SUM(AG17:AO17)>0,1,0),0) -> 0 | AG17: =IF(OR(K17="?",K17="Mx",K17="Fx",K17="Nilx",K17="Rx")=TRUE,1,0) -> 0 | AH17: =IF(OR(L17="?",L17="Mx",L17="Fx",L17="Nilx",L17="Rx")=TRUE,1,0) -> 0 | AI17: =IF(OR(M17="?",M17="Mx",M17="Fx",M17="Nilx",M17="Rx")=TRUE,1,0) -> 0 | AJ17: =IF(OR(N17="?",N17="Mx",N17="Fx",N17="Nilx",N17="Rx")=TRUE,1,0) -> 0 | AK17: =IF(OR(O17="?",O17="Mx",O17="Fx",O17="Nilx",O17="Rx")=TRUE,1,0) -> 0 | AL17: =IF(OR(P17="?",P17="Mx",P17="Fx",P17="Nilx",P17="Rx")=TRUE,1,0) -> 0 | AM17: =IF(OR(Q17="?",Q17="Mx",Q17="Fx",Q17="Nilx",Q17="Rx")=TRUE,1,0) -> 0 | AN17: =IF(OR(R17="?",R17="Mx",R17="Fx",R17="Nilx",R17="Rx")=TRUE,1,0) -> 0 | AO17: =IF(OR(S17="?",S17="Mx",S17="Fx",S17="Nilx",S17="Rx")=TRUE,1,0) -> 0
A18: 9 | C18: 2016 | D18: 204 | E18: - | F18: Item | G18: Heal Powder | H18: Mystery Items Giveaway @ PCs | K18: x | L18: x | M18: x | N18: x | O18: =HYPERLINK("https://projectpokemon.org/forums/files/file/1515-sapporo-reopening-items-present-heal-powder/","Nil") -> Nil | P18: x | Q18: x | R18: x | S18: x | T18: Local Wireless | U18: 1 | V18: 1 | Y18: 1 | Z18: 1 | AA18: 1 | AB18: 1 | AD18: =datevalue("2016-12-01") -> 42705 | AE18: - Jan 31, 2017 | AF18: =IF(OR($C18='Missing Wondercards'!$G$1,'Missing Wondercards'!$G$1="all")=TRUE,IF(SUM(AG18:AO18)>0,1,0),0) -> 0 | AG18: =IF(OR(K18="?",K18="Mx",K18="Fx",K18="Nilx",K18="Rx")=TRUE,1,0) -> 0 | AH18: =IF(OR(L18="?",L18="Mx",L18="Fx",L18="Nilx",L18="Rx")=TRUE,1,0) -> 0 | AI18: =IF(OR(M18="?",M18="Mx",M18="Fx",M18="Nilx",M18="Rx")=TRUE,1,0) -> 0 | AJ18: =IF(OR(N18="?",N18="Mx",N18="Fx",N18="Nilx",N18="Rx")=TRUE,1,0) -> 0 | AK18: =IF(OR(O18="?",O18="Mx",O18="Fx",O18="Nilx",O18="Rx")=TRUE,1,0) -> 0 | AL18: =IF(OR(P18="?",P18="Mx",P18="Fx",P18="Nilx",P18="Rx")=TRUE,1,0) -> 0 | AM18: =IF(OR(Q18="?",Q18="Mx",Q18="Fx",Q18="Nilx",Q18="Rx")=TRUE,1,0) -> 0 | AN18: =IF(OR(R18="?",R18="Mx",R18="Fx",R18="Nilx",R18="Rx")=TRUE,1,0) -> 0 | AO18: =IF(OR(S18="?",S18="Mx",S18="Fx",S18="Nilx",S18="Rx")=TRUE,1,0) -> 0
A19: 10 | C19: 2016 | D19: 204 | E19: - | F19: Item | G19: Hyper Potion | H19: Mystery Items Giveaway @ PCs | K19: x | L19: x | M19: x | N19: x | O19: =HYPERLINK("https://projectpokemon.org/forums/files/file/1516-sapporo-reopening-items-present-hyper-potion/","Nil") -> Nil | P19: x | Q19: x | R19: x | S19: x | T19: Local Wireless | U19: 1 | V19: 1 | Y19: 1 | Z19: 1 | AA19: 1 | AB19: 1 | AD19: =datevalue("2016-12-01") -> 42705 | AE19: - Jan 31, 2017 | AF19: =IF(OR($C19='Missing Wondercards'!$G$1,'Missing Wondercards'!$G$1="all")=TRUE,IF(SUM(AG19:AO19)>0,1,0),0) -> 0 | AG19: =IF(OR(K19="?",K19="Mx",K19="Fx",K19="Nilx",K19="Rx")=TRUE,1,0) -> 0 | AH19: =IF(OR(L19="?",L19="Mx",L19="Fx",L19="Nilx",L19="Rx")=TRUE,1,0) -> 0 | AI19: =IF(OR(M19="?",M19="Mx",M19="Fx",M19="Nilx",M19="Rx")=TRUE,1,0) -> 0 | AJ19: =IF(OR(N19="?",N19="Mx",N19="Fx",N19="Nilx",N19="Rx")=TRUE,1,0) -> 0 | AK19: =IF(OR(O19="?",O19="Mx",O19="Fx",O19="Nilx",O19="Rx")=TRUE,1,0) -> 0 | AL19: =IF(OR(P19="?",P19="Mx",P19="Fx",P19="Nilx",P19="Rx")=TRUE,1,0) -> 0 | AM19: =IF(OR(Q19="?",Q19="Mx",Q19="Fx",Q19="Nilx",Q19="Rx")=TRUE,1,0) -> 0 | AN19: =IF(OR(R19="?",R19="Mx",R19="Fx",R19="Nilx",R19="Rx")=TRUE,1,0) -> 0 | AO19: =IF(OR(S19="?",S19="Mx",S19="Fx",S19="Nilx",S19="Rx")=TRUE,1,0) -> 0
A20: 11 | C20: 2016 | D20: 204 | E20: - | F20: Item | G20: Potion | H20: Mystery Items Giveaway @ PCs | K20: x | L20: x | M20: x | N20: x | O20: =HYPERLINK("https://projectpokemon.org/forums/files/file/1517-sapporo-reopening-items-present-potion/","Nil") -> Nil | P20: x | Q20: x | R20: x | S20: x | T20: Local Wireless | U20: 1 | V20: 1 | Y20: 1 | Z20: 1 | AA20: 1 | AB20: 1 | AD20: =datevalue("2016-12-01") -> 42705 | AE20: - Jan 31, 2017 | AF20: =IF(OR($C20='Missing Wondercards'!$G$1,'Missing Wondercards'!$G$1="all")=TRUE,IF(SUM(AG20:AO20)>0,1,0),0) -> 0 | AG20: =IF(OR(K20="?",K20="Mx",K20="Fx",K20="Nilx",K20="Rx")=TRUE,1,0) -> 0 | AH20: =IF(OR(L20="?",L20="Mx",L20="Fx",L20="Nilx",L20="Rx")=TRUE,1,0) -> 0 | AI20: =IF(OR(M20="?",M20="Mx",M20="Fx",M20="Nilx",M20="Rx")=TRUE,1,0) -> 0 | AJ20: =IF(OR(N20="?",N20="Mx",N20="Fx",N20="Nilx",N20="Rx")=TRUE,1,0) -> 0 | AK20: =IF(OR(O20="?",O20="Mx",O20="Fx",O20="Nilx",O20="Rx")=TRUE,1,0) -> 0 | AL20: =IF(OR(P20="?",P20="Mx",P20="Fx",P20="Nilx",P20="Rx")=TRUE,1,0) -> 0 | AM20: =IF(OR(Q20="?",Q20="Mx",Q20="Fx",Q20="Nilx",Q20="Rx")=TRUE,1,0) -> 0 | AN20: =IF(OR(R20="?",R20="Mx",R20="Fx",R20="Nilx",R20="Rx")=TRUE,1,0) -> 0 | AO20: =IF(OR(S20="?",S20="Mx",S20="Fx",S20="Nilx",S20="Rx")=TRUE,1,0) -> 0
A21: 12 | C21: 2016 | D21: 204 | E21: - | F21: Item | G21: Revive | H21: Mystery Items Giveaway @ PCs | K21: x | L21: x | M21: x | N21: x | O21: =HYPERLINK("https://projectpokemon.org/forums/files/file/1518-sapporo-reopening-items-present-revive/","Nil") -> Nil | P21: x | Q21: x | R21: x | S21: x | T21: Local Wireless | U21: 1 | V21: 1 | Y21: 1 | Z21: 1 | AA21: 1 | AB21: 1 | AD21: =datevalue("2016-12-01") -> 42705 | AE21: - Jan 31, 2017 | AF21: =IF(OR($C21='Missing Wondercards'!$G$1,'Missing Wondercards'!$G$1="all")=TRUE,IF(SUM(AG21:AO21)>0,1,0),0) -> 0 | AG21: =IF(OR(K21="?",K21="Mx",K21="Fx",K21="Nilx",K21="Rx")=TRUE,1,0) -> 0 | AH21: =IF(OR(L21="?",L21="Mx",L21="Fx",L21="Nilx",L21="Rx")=TRUE,1,0) -> 0 | AI21: =IF(OR(M21="?",M21="Mx",M21="Fx",M21="Nilx",M21="Rx")=TRUE,1,0) -> 0 | AJ21: =IF(OR(N21="?",N21="Mx",N21="Fx",N21="Nilx",N21="Rx")=TRUE,1,0) -> 0 | AK21: =IF(OR(O21="?",O21="Mx",O21="Fx",O21="Nilx",O21="Rx")=TRUE,1,0) -> 0 | AL21: =IF(OR(P21="?",P21="Mx",P21="Fx",P21="Nilx",P21="Rx")=TRUE,1,0) -> 0 | AM21: =IF(OR(Q21="?",Q21="Mx",Q21="Fx",Q21="Nilx",Q21="Rx")=TRUE,1,0) -> 0 | AN21: =IF(OR(R21="?",R21="Mx",R21="Fx",R21="Nilx",R21="Rx")=TRUE,1,0) -> 0 | AO21: =IF(OR(S21="?",S21="Mx",S21="Fx",S21="Nilx",S21="Rx")=TRUE,1,0) -> 0
A22: 13 | C22: 2016 | D22: 205 | E22: - | F22: Item | G22: Choice Band | H22: Corocoro Rockruff Enhancement Tools | K22: x | L22: x | M22: x | N22: x | O22: =HYPERLINK("https://projectpokemon.org/forums/files/file/937-corocoro-rockruff-enhancement-items-choice-band/","Nil") -> Nil | P22: x | Q22: x | R22: x | S22: x | T22: Serial Code | U22: 1 | V22: 1 | AA22: 1 | AD22: =datevalue("2016-12-15") -> 42719 | AE22: - Feb 14, 2017 | AF22: =IF(OR($C22='Missing Wondercards'!$G$1,'Missing Wondercards'!$G$1="all")=TRUE,IF(SUM(AG22:AO22)>0,1,0),0) -> 0 | AG22: =IF(OR(K22="?",K22="Mx",K22="Fx",K22="Nilx",K22="Rx")=TRUE,1,0) -> 0 | AH22: =IF(OR(L22="?",L22="Mx",L22="Fx",L22="Nilx",L22="Rx")=TRUE,1,0) -> 0 | AI22: =IF(OR(M22="?",M22="Mx",M22="Fx",M22="Nilx",M22="Rx")=TRUE,1,0) -> 0 | AJ22: =IF(OR(N22="?",N22="Mx",N22="Fx",N22="Nilx",N22="Rx")=TRUE,1,0) -> 0 | AK22: =IF(OR(O22="?",O22="Mx",O22="Fx",O22="Nilx",O22="Rx")=TRUE,1,0) -> 0 | AL22: =IF(OR(P22="?",P22="Mx",P22="Fx",P22="Nilx",P22="Rx")=TRUE,1,0) -> 0 | AM22: =IF(OR(Q22="?",Q22="Mx",Q22="Fx",Q22="Nilx",Q22="Rx")=TRUE,1,0) -> 0 | AN22: =IF(OR(R22="?",R22="Mx",R22="Fx",R22="Nilx",R22="Rx")=TRUE,1,0) -> 0 | AO22: =IF(OR(S22="?",S22="Mx",S22="Fx",S22="Nilx",S22="Rx")=TRUE,1,0) -> 0
A23: 14 | C23: 2016 | D23: 205 | E23: - | F23: Item | G23: Choice Scarf | H23: Corocoro Rockruff Enhancement Tools | K23: x | L23: x | M23: x | N23: x | O23: =HYPERLINK("https://projectpokemon.org/forums/files/file/936-corocoro-rockruff-enhancement-items-choice-scarf/","Nil") -> Nil | P23: x | Q23: x | R23: x | S23: x | T23: Serial Code | U23: 1 | V23: 1 | AA23: 1 | AD23: =datevalue("2016-12-15") -> 42719 | AE23: - Feb 14, 2017 | AF23: =IF(OR($C23='Missing Wondercards'!$G$1,'Missing Wondercards'!$G$1="all")=TRUE,IF(SUM(AG23:AO23)>0,1,0),0) -> 0 | AG23: =IF(OR(K23="?",K23="Mx",K23="Fx",K23="Nilx",K23="Rx")=TRUE,1,0) -> 0 | AH23: =IF(OR(L23="?",L23="Mx",L23="Fx",L23="Nilx",L23="Rx")=TRUE,1,0) -> 0 | AI23: =IF(OR(M23="?",M23="Mx",M23="Fx",M23="Nilx",M23="Rx")=TRUE,1,0) -> 0 | AJ23: =IF(OR(N23="?",N23="Mx",N23="Fx",N23="Nilx",N23="Rx")=TRUE,1,0) -> 0 | AK23: =IF(OR(O23="?",O23="Mx",O23="Fx",O23="Nilx",O23="Rx")=TRUE,1,0) -> 0 | AL23: =IF(OR(P23="?",P23="Mx",P23="Fx",P23="Nilx",P23="Rx")=TRUE,1,0) -> 0 | AM23: =IF(OR(Q23="?",Q23="Mx",Q23="Fx",Q23="Nilx",Q23="Rx")=TRUE,1,0) -> 0 | AN23: =IF(OR(R23="?",R23="Mx",R23="Fx",R23="Nilx",R23="Rx")=TRUE,1,0) -> 0 | AO23: =IF(OR(S23="?",S23="Mx",S23="Fx",S23="Nilx",S23="Rx")=TRUE,1,0) -> 0
A24: 15 | C24: 2016 | D24: 206 | E24: - | F24: Item | G24: Bottle Cap | H24: Jump Festa 2017 | K24: x | L24: x | M24: x | N24: x | O24: =HYPERLINK("https://projectpokemon.org/forums/files/file/1953-jump-festa-2017-bottle-cap/","Nil") -> Nil | P24: x | Q24: x | R24: x | S24: x | T24: Local Wireless | U24: 1 | V24: 1 | Y24: 1 | Z24: 1 | AA24: 1 | AB24: 1 | AD24: =datevalue("2016-12-17") -> 42721 | AE24: - Dec 18, 2016 | AF24: =IF(OR($C24='Missing Wondercards'!$G$1,'Missing Wondercards'!$G$1="all")=TRUE,IF(SUM(AG24:AO24)>0,1,0),0) -> 0 | AG24: =IF(OR(K24="?",K24="Mx",K24="Fx",K24="Nilx",K24="Rx")=TRUE,1,0) -> 0 | AH24: =IF(OR(L24="?",L24="Mx",L24="Fx",L24="Nilx",L24="Rx")=TRUE,1,0) -> 0 | AI24: =IF(OR(M24="?",M24="Mx",M24="Fx",M24="Nilx",M24="Rx")=TRUE,1,0) -> 0 | AJ24: =IF(OR(N24="?",N24="Mx",N24="Fx",N24="Nilx",N24="Rx")=TRUE,1,0) -> 0 | AK24: =IF(OR(O24="?",O24="Mx",O24="Fx",O24="Nilx",O24="Rx")=TRUE,1,0) -> 0 | AL24: =IF(OR(P24="?",P24="Mx",P24="Fx",P24="Nilx",P24="Rx")=TRUE,1,0) -> 0 | AM24: =IF(OR(Q24="?",Q24="Mx",Q24="Fx",Q24="Nilx",Q24="Rx")=TRUE,1,0) -> 0 | AN24: =IF(OR(R24="?",R24="Mx",R24="Fx",R24="Nilx",R24="Rx")=TRUE,1,0) -> 0 | AO24: =IF(OR(S24="?",S24="Mx",S24="Fx",S24="Nilx",S24="Rx")=TRUE,1,0) -> 0
A25: 16 | C25: 2016 | D25: 210 | E25: - | F25: Item | G25: Gold Bottle Cap | H25: Purchase of Official Guide Book | K25: x | L25: x | M25: x | N25: x | O25: =HYPERLINK("https://projectpokemon.org/forums/files/file/939-guide-book-gold-bottle-cap/","Nil") -> Nil | P25: x | Q25: x | R25: x | S25: x | T25: Serial Code | U25: 1 | V25: 1 | AA25: 1 | AD25: =datevalue("2016-11-18") -> 42692 | AE25: - Jan 13, 2018 | AF25: =IF(OR($C25='Missing Wondercards'!$G$1,'Missing Wondercards'!$G$1="all")=TRUE,IF(SUM(AG25:AO25)>0,1,0),0) -> 0 | AG25: =IF(OR(K25="?",K25="Mx",K25="Fx",K25="Nilx",K25="Rx")=TRUE,1,0) -> 0 | AH25: =IF(OR(L25="?",L25="Mx",L25="Fx",L25="Nilx",L25="Rx")=TRUE,1,0) -> 0 | AI25: =IF(OR(M25="?",M25="Mx",M25="Fx",M25="Nilx",M25="Rx")=TRUE,1,0) -> 0 | AJ25: =IF(OR(N25="?",N25="Mx",N25="Fx",N25="Nilx",N25="Rx")=TRUE,1,0) -> 0 | AK25: =IF(OR(O25="?",O25="Mx",O25="Fx",O25="Nilx",O25="Rx")=TRUE,1,0) -> 0 | AL25: =IF(OR(P25="?",P25="Mx",P25="Fx",P25="Nilx",P25="Rx")=TRUE,1,0) -> 0 | AM25: =IF(OR(Q25="?",Q25="Mx",Q25="Fx",Q25="Nilx",Q25="Rx")=TRUE,1,0) -> 0 | AN25: =IF(OR(R25="?",R25="Mx",R25="Fx",R25="Nilx",R25="Rx")=TRUE,1,0) -> 0 | AO25: =IF(OR(S25="?",S25="Mx",S25="Fx",S25="Nilx",S25="Rx")=TRUE,1,0) -> 0
A26: 17 | C26: 2016 | D26: 1101 | E26: - | F26: Item | G26: Big Nugget | H26: Korean League 2016-17 WINTER | K26: x | L26: x | M26: x | N26: x | O26: x | P26: Nil | Q26: x | R26: x | S26: x | T26: Infrared | U26: 1 | V26: 1 | Y26: 1 | Z26: 1 | AA26: 1 | AB26: 1 | AD26: =datevalue("2016-12-17") -> 42721 | AE26: - Dec 18, 2016 | AF26: =IF(OR($C26='Missing Wondercards'!$G$1,'Missing Wondercards'!$G$1="all")=TRUE,IF(SUM(AG26:AO26)>0,1,0),0) -> 0 | AG26: =IF(OR(K26="?",K26="Mx",K26="Fx",K26="Nilx",K26="Rx")=TRUE,1,0) -> 0 | AH26: =IF(OR(L26="?",L26="Mx",L26="Fx",L26="Nilx",L26="Rx")=TRUE,1,0) -> 0 | AI26: =IF(OR(M26="?",M26="Mx",M26="Fx",M26="Nilx",M26="Rx")=TRUE,1,0) -> 0 | AJ26: =IF(OR(N26="?",N26="Mx",N26="Fx",N26="Nilx",N26="Rx")=TRUE,1,0) -> 0 | AK26: =IF(OR(O26="?",O26="Mx",O26="Fx",O26="Nilx",O26="Rx")=TRUE,1,0) -> 0 | AL26: =IF(OR(P26="?",P26="Mx",P26="Fx",P26="Nilx",P26="Rx")=TRUE,1,0) -> 0 | AM26: =IF(OR(Q26="?",Q26="Mx",Q26="Fx",Q26="Nilx",Q26="Rx")=TRUE,1,0) -> 0 | AN26: =IF(OR(R26="?",R26="Mx",R26="Fx",R26="Nilx",R26="Rx")=TRUE,1,0) -> 0 | AO26: =IF(OR(S26="?",S26="Mx",S26="Fx",S26="Nilx",S26="Rx")=TRUE,1,0) -> 0
A27: 18 | C27: 2016 | D27: 1601 | E27: Yours | F27: Pkmn | G27: Munchlax | H27: Happy hour, Snorlium Z, game launch promo | K27: R | L27: R | M27: R | N27: R | O27: R | P27: R | Q27: R | R27: x | S27: x | T27: Online | U27: 1 | V27: 1 | Y27: 1 | Z27: 1 | AA27: 1 | AB27: 1 | AD27: =datevalue("2016-11-18") -> 42692 | AE27: - Jan 11, 2017 | AF27: =IF(OR($C27='Missing Wondercards'!$G$1,'Missing Wondercards'!$G$1="all")=TRUE,IF(SUM(AG27:AO27)>0,1,0),0) -> 0 | AG27: =IF(OR(K27="?",K27="Mx",K27="Fx",K27="Nilx",K27="Rx")=TRUE,1,0) -> 0 | AH27: =IF(OR(L27="?",L27="Mx",L27="Fx",L27="Nilx",L27="Rx")=TRUE,1,0) -> 0 | AI27: =IF(OR(M27="?",M27="Mx",M27="Fx",M27="Nilx",M27="Rx")=TRUE,1,0) -> 0 | AJ27: =IF(OR(N27="?",N27="Mx",N27="Fx",N27="Nilx",N27="Rx")=TRUE,1,0) -> 0 | AK27: =IF(OR(O27="?",O27="Mx",O27="Fx",O27="Nilx",O27="Rx")=TRUE,1,0) -> 0 | AL27: =IF(OR(P27="?",P27="Mx",P27="Fx",P27="Nilx",P27="Rx")=TRUE,1,0) -> 0 | AM27: =IF(OR(Q27="?",Q27="Mx",Q27="Fx",Q27="Nilx",Q27="Rx")=TRUE,1,0) -> 0 | AN27: =IF(OR(R27="?",R27="Mx",R27="Fx",R27="Nilx",R27="Rx")=TRUE,1,0) -> 0 | AO27: =IF(OR(S27="?",S27="Mx",S27="Fx",S27="Nilx",S27="Rx")=TRUE,1,0) -> 0
A28: 19 | C28: 2016 | D28: 1602 | E28: - | F28: Item | G28: Quick Ball | H28: x12, for digital purchase of games | K28: M | L28: M | M28: M | N28: M | O28: M | P28: x | Q28: M | R28: x | S28: x | T28: Serial Code | U28: 1 | V28: 1 | Y28: 1 | Z28: 1 | AA28: 1 | AD28: =datevalue("2016-11-18") -> 42692 | AE28: - Nov 30, 2017 | AF28: =IF(OR($C28='Missing Wondercards'!$G$1,'Missing Wondercards'!$G$1="all")=TRUE,IF(SUM(AG28:AO28)>0,1,0),0) -> 0 | AG28: =IF(OR(K28="?",K28="Mx",K28="Fx",K28="Nilx",K28="Rx")=TRUE,1,0) -> 0 | AH28: =IF(OR(L28="?",L28="Mx",L28="Fx",L28="Nilx",L28="Rx")=TRUE,1,0) -> 0 | AI28: =IF(OR(M28="?",M28="Mx",M28="Fx",M28="Nilx",M28="Rx")=TRUE,1,0) -> 0 | AJ28: =IF(OR(N28="?",N28="Mx",N28="Fx",N28="Nilx",N28="Rx")=TRUE,1,0) -> 0 | AK28: =IF(OR(O28="?",O28="Mx",O28="Fx",O28="Nilx",O28="Rx")=TRUE,1,0) -> 0 | AL28: =IF(OR(P28="?",P28="Mx",P28="Fx",P28="Nilx",P28="Rx")=TRUE,1,0) -> 0 | AM28: =IF(OR(Q28="?",Q28="Mx",Q28="Fx",Q28="Nilx",Q28="Rx")=TRUE,1,0) -> 0 | AN28: =IF(OR(R28="?",R28="Mx",R28="Fx",R28="Nilx",R28="Rx")=TRUE,1,0) -> 0 | AO28: =IF(OR(S28="?",S28="Mx",S28="Fx",S28="Nilx",S28="Rx")=TRUE,1,0) -> 0
A29: 20 | C29: 2016 | D29: 1603 | E29: - | F29: Item | G29: Poke Ball | H29: x100, for physical dual-pack purchase | K29: M | L29: M | M29: x | N29: x | O29: M | P29: M | Q29: M | R29: x | S29: x | T29: Serial Code | U29: 1 | V29: 1 | Y29: 1 | Z29: 1 | AA29: 1 | AB29: 1 | AD29: =datevalue("2016-11-18") -> 42692 | AE29: - Nov 30, 2017 | AF29: =IF(OR($C29='Missing Wondercards'!$G$1,'Missing Wondercards'!$G$1="all")=TRUE,IF(SUM(AG29:AO29)>0,1,0),0) -> 0 | AG29: =IF(OR(K29="?",K29="Mx",K29="Fx",K29="Nilx",K29="Rx")=TRUE,1,0) -> 0 | AH29: =IF(OR(L29="?",L29="Mx",L29="Fx",L29="Nilx",L29="Rx")=TRUE,1,0) -> 0 | AI29: =IF(OR(M29="?",M29="Mx",M29="Fx",M29="Nilx",M29="Rx")=TRUE,1,0) -> 0 | AJ29: =IF(OR(N29="?",N29="Mx",N29="Fx",N29="Nilx",N29="Rx")=TRUE,1,0) -> 0 | AK29: =IF(OR(O29="?",O29="Mx",O29="Fx",O29="Nilx",O29="Rx")=TRUE,1,0) -> 0 | AL29: =IF(OR(P29="?",P29="Mx",P29="Fx",P29="Nilx",P29="Rx")=TRUE,1,0) -> 0 | AM29: =IF(OR(Q29="?",Q29="Mx",Q29="Fx",Q29="Nilx",Q29="Rx")=TRUE,1,0) -> 0 | AN29: =IF(OR(R29="?",R29="Mx",R29="Fx",R29="Nilx",R29="Rx")=TRUE,1,0) -> 0 | AO29: =IF(OR(S29="?",S29="Mx",S29="Fx",S29="Nilx",S29="Rx")=TRUE,1,0) -> 0
A30: 21 | C30: 2016 | D30: 2040 | E30: - | F30: Item | G30: Stardust | H30: x3, from Demo | K30: Nil | L30: Nil | M30: Nil | N30: Nil | O30: Nil | P30: Nil | Q30: Nil | R30: Nil | S30: Nil | T30: Demo | U30: 1 | V30: 1 | Y30: 1 | Z30: 1 | AA30: 1 | AB30: 1 | AD30: No end date (simply transfer from demo) | AF30: =IF(OR($C30='Missing Wondercards'!$G$1,'Missing Wondercards'!$G$1="all")=TRUE,IF(SUM(AG30:AO30)>0,1,0),0) -> 0 | AG30: =IF(OR(K30="?",K30="Mx",K30="Fx",K30="Nilx",K30="Rx")=TRUE,1,0) -> 0 | AH30: =IF(OR(L30="?",L30="Mx",L30="Fx",L30="Nilx",L30="Rx")=TRUE,1,0) -> 0 | AI30: =IF(OR(M30="?",M30="Mx",M30="Fx",M30="Nilx",M30="Rx")=TRUE,1,0) -> 0 | AJ30: =IF(OR(N30="?",N30="Mx",N30="Fx",N30="Nilx",N30="Rx")=TRUE,1,0) -> 0 | AK30: =IF(OR(O30="?",O30="Mx",O30="Fx",O30="Nilx",O30="Rx")=TRUE,1,0) -> 0 | AL30: =IF(OR(P30="?",P30="Mx",P30="Fx",P30="Nilx",P30="Rx")=TRUE,1,0) -> 0 | AM30: =IF(OR(Q30="?",Q30="Mx",Q30="Fx",Q30="Nilx",Q30="Rx")=TRUE,1,0) -> 0 | AN30: =IF(OR(R30="?",R30="Mx",R30="Fx",R30="Nilx",R30="Rx")=TRUE,1,0) -> 0 | AO30: =IF(OR(S30="?",S30="Mx",S30="Fx",S30="Nilx",S30="Rx")=TRUE,1,0) -> 0
A31: 22 | C31: 2016 | D31: 2041 | E31: - | F31: Item | G31: Star Piece | H31: x1, from Demo | K31: Nil | L31: Nil | M31: Nil | N31: Nil | O31: Nil | P31: Nil | Q31: Nil | R31: Nil | S31: Nil | T31: Demo | U31: 1 | V31: 1 | Y31: 1 | Z31: 1 | AA31: 1 | AB31: 1 | AD31: No end date (simply transfer from demo) | AF31: =IF(OR($C31='Missing Wondercards'!$G$1,'Missing Wondercards'!$G$1="all")=TRUE,IF(SUM(AG31:AO31)>0,1,0),0) -> 0 | AG31: =IF(OR(K31="?",K31="Mx",K31="Fx",K31="Nilx",K31="Rx")=TRUE,1,0) -> 0 | AH31: =IF(OR(L31="?",L31="Mx",L31="Fx",L31="Nilx",L31="Rx")=TRUE,1,0) -> 0 | AI31: =IF(OR(M31="?",M31="Mx",M31="Fx",M31="Nilx",M31="Rx")=TRUE,1,0) -> 0 | AJ31: =IF(OR(N31="?",N31="Mx",N31="Fx",N31="Nilx",N31="Rx")=TRUE,1,0) -> 0 | AK31: =IF(OR(O31="?",O31="Mx",O31="Fx",O31="Nilx",O31="Rx")=TRUE,1,0) -> 0 | AL31: =IF(OR(P31="?",P31="Mx",P31="Fx",P31="Nilx",P31="Rx")=TRUE,1,0) -> 0 | AM31: =IF(OR(Q31="?",Q31="Mx",Q31="Fx",Q31="Nilx",Q31="Rx")=TRUE,1,0) -> 0 | AN31: =IF(OR(R31="?",R31="Mx",R31="Fx",R31="Nilx",R31="Rx")=TRUE,1,0) -> 0 | AO31: =IF(OR(S31="?",S31="Mx",S31="Fx",S31="Nilx",S31="Rx")=TRUE,1,0) -> 0
A32: 23 | C32: 2016 | D32: 2042 | E32: - | F32: Item | G32: Nugget | H32: x1, from Demo | K32: Nil | L32: Nil | M32: Nil | N32: Nil | O32: Nil | P32: Nil | Q32: Nil | R32: Nil | S32: Nil | T32: Demo | U32: 1 | V32: 1 | Y32: 1 | Z32: 1 | AA32: 1 | AB32: 1 | AD32: No end date (simply transfer from demo) | AF32: =IF(OR($C32='Missing Wondercards'!$G$1,'Missing Wondercards'!$G$1="all")=TRUE,IF(SUM(AG32:AO32)>0,1,0),0) -> 0 | AG32: =IF(OR(K32="?",K32="Mx",K32="Fx",K32="Nilx",K32="Rx")=TRUE,1,0) -> 0 | AH32: =IF(OR(L32="?",L32="Mx",L32="Fx",L32="Nilx",L32="Rx")=TRUE,1,0) -> 0 | AI32: =IF(OR(M32="?",M32="Mx",M32="Fx",M32="Nilx",M32="Rx")=TRUE,1,0) -> 0 | AJ32: =IF(OR(N32="?",N32="Mx",N32="Fx",N32="Nilx",N32="Rx")=TRUE,1,0) -> 0 | AK32: =IF(OR(O32="?",O32="Mx",O32="Fx",O32="Nilx",O32="Rx")=TRUE,1,0) -> 0 | AL32: =IF(OR(P32="?",P32="Mx",P32="Fx",P32="Nilx",P32="Rx")=TRUE,1,0) -> 0 | AM32: =IF(OR(Q32="?",Q32="Mx",Q32="Fx",Q32="Nilx",Q32="Rx")=TRUE,1,0) -> 0 | AN32: =IF(OR(R32="?",R32="Mx",R32="Fx",R32="Nilx",R32="Rx")=TRUE,1,0) -> 0 | AO32: =IF(OR(S32="?",S32="Mx",S32="Fx",S32="Nilx",S32="Rx")=TRUE,1,0) -> 0
A33: 24 | C33: 2016 | D33: 2043 | E33: - | F33: Item | G33: Pretty Wing | H33: x10, from Demo | K33: Nil | L33: Nil | M33: Nil | N33: Nil | O33: Nil | P33: Nil | Q33: Nil | R33: Nil | S33: Nil | T33: Demo | U33: 1 | V33: 1 | Y33: 1 | Z33: 1 | AA33: 1 | AB33: 1 | AD33: No end date (simply transfer from demo) | AF33: =IF(OR($C33='Missing Wondercards'!$G$1,'Missing Wondercards'!$G$1="all")=TRUE,IF(SUM(AG33:AO33)>0,1,0),0) -> 0 | AG33: =IF(OR(K33="?",K33="Mx",K33="Fx",K33="Nilx",K33="Rx")=TRUE,1,0) -> 0 | AH33: =IF(OR(L33="?",L33="Mx",L33="Fx",L33="Nilx",L33="Rx")=TRUE,1,0) -> 0 | AI33: =IF(OR(M33="?",M33="Mx",M33="Fx",M33="Nilx",M33="Rx")=TRUE,1,0) -> 0 | AJ33: =IF(OR(N33="?",N33="Mx",N33="Fx",N33="Nilx",N33="Rx")=TRUE,1,0) -> 0 | AK33: =IF(OR(O33="?",O33="Mx",O33="Fx",O33="Nilx",O33="Rx")=TRUE,1,0) -> 0 | AL33: =IF(OR(P33="?",P33="Mx",P33="Fx",P33="Nilx",P33="Rx")=TRUE,1,0) -> 0 | AM33: =IF(OR(Q33="?",Q33="Mx",Q33="Fx",Q33="Nilx",Q33="Rx")=TRUE,1,0) -> 0 | AN33: =IF(OR(R33="?",R33="Mx",R33="Fx",R33="Nilx",R33="Rx")=TRUE,1,0) -> 0 | AO33: =IF(OR(S33="?",S33="Mx",S33="Fx",S33="Nilx",S33="Rx")=TRUE,1,0) -> 0
A34: 25 | C34: 2016 | D34: 2044 | E34: - | F34: Item | G34: Balm Mushroom | H34: x1, from Demo | K34: Nil | L34: Nil | M34: Nil | N34: Nil | O34: Nil | P34: Nil | Q34: Nil | R34: Nil | S34: Nil | T34: Demo | U34: 1 | V34: 1 | Y34: 1 | Z34: 1 | AA34: 1 | AB34: 1 | AD34: No end date (simply transfer from demo) | AF34: =IF(OR($C34='Missing Wondercards'!$G$1,'Missing Wondercards'!$G$1="all")=TRUE,IF(SUM(AG34:AO34)>0,1,0),0) -> 0 | AG34: =IF(OR(K34="?",K34="Mx",K34="Fx",K34="Nilx",K34="Rx")=TRUE,1,0) -> 0 | AH34: =IF(OR(L34="?",L34="Mx",L34="Fx",L34="Nilx",L34="Rx")=TRUE,1,0) -> 0 | AI34: =IF(OR(M34="?",M34="Mx",M34="Fx",M34="Nilx",M34="Rx")=TRUE,1,0) -> 0 | AJ34: =IF(OR(N34="?",N34="Mx",N34="Fx",N34="Nilx",N34="Rx")=TRUE,1,0) -> 0 | AK34: =IF(OR(O34="?",O34="Mx",O34="Fx",O34="Nilx",O34="Rx")=TRUE,1,0) -> 0 | AL34: =IF(OR(P34="?",P34="Mx",P34="Fx",P34="Nilx",P34="Rx")=TRUE,1,0) -> 0 | AM34: =IF(OR(Q34="?",Q34="Mx",Q34="Fx",Q34="Nilx",Q34="Rx")=TRUE,1,0) -> 0 | AN34: =IF(OR(R34="?",R34="Mx",R34="Fx",R34="Nilx",R34="Rx")=TRUE,1,0) -> 0 | AO34: =IF(OR(S34="?",S34="Mx",S34="Fx",S34="Nilx",S34="Rx")=TRUE,1,0) -> 0
A35: 26 | C35: 2016 | D35: 2045 | E35: - | F35: Item | G35: Comet Shard | H35: x1, from Demo | K35: Nil | L35: Nil | M35: Nil | N35: Nil | O35: Nil | P35: Nil | Q35: Nil | R35: Nil | S35: Nil | T35: Demo | U35: 1 | V35: 1 | Y35: 1 | Z35: 1 | AA35: 1 | AB35: 1 | AD35: No end date (simply transfer from demo) | AF35: =IF(OR($C35='Missing Wondercards'!$G$1,'Missing Wondercards'!$G$1="all")=TRUE,IF(SUM(AG35:AO35)>0,1,0),0) -> 0 | AG35: =IF(OR(K35="?",K35="Mx",K35="Fx",K35="Nilx",K35="Rx")=TRUE,1,0) -> 0 | AH35: =IF(OR(L35="?",L35="Mx",L35="Fx",L35="Nilx",L35="Rx")=TRUE,1,0) -> 0 | AI35: =IF(OR(M35="?",M35="Mx",M35="Fx",M35="Nilx",M35="Rx")=TRUE,1,0) -> 0 | AJ35: =IF(OR(N35="?",N35="Mx",N35="Fx",N35="Nilx",N35="Rx")=TRUE,1,0) -> 0 | AK35: =IF(OR(O35="?",O35="Mx",O35="Fx",O35="Nilx",O35="Rx")=TRUE,1,0) -> 0 | AL35: =IF(OR(P35="?",P35="Mx",P35="Fx",P35="Nilx",P35="Rx")=TRUE,1,0) -> 0 | AM35: =IF(OR(Q35="?",Q35="Mx",Q35="Fx",Q35="Nilx",Q35="Rx")=TRUE,1,0) -> 0 | AN35: =IF(OR(R35="?",R35="Mx",R35="Fx",R35="Nilx",R35="Rx")=TRUE,1,0) -> 0 | AO35: =IF(OR(S35="?",S35="Mx",S35="Fx",S35="Nilx",S35="Rx")=TRUE,1,0) -> 0
A36: 27 | C36: 2016 | D36: 2046 | E36: 131017 | F36: Pkmn | G36: Ash-Greninja | H36: From Demo | K36: M | L36: M | M36: M | N36: M | O36: M | P36: M | Q36: M | R36: M | S36: M | T36: Demo | U36: 1 | V36: 1 | Y36: 1 | Z36: 1 | AA36: 1 | AB36: 1 | AD36: No end date (simply transfer from demo) | AF36: =IF(OR($C36='Missing Wondercards'!$G$1,'Missing Wondercards'!$G$1="all")=TRUE,IF(SUM(AG36:AO36)>0,1,0),0) -> 0 | AG36: =IF(OR(K36="?",K36="Mx",K36="Fx",K36="Nilx",K36="Rx")=TRUE,1,0) -> 0 | AH36: =IF(OR(L36="?",L36="Mx",L36="Fx",L36="Nilx",L36="Rx")=TRUE,1,0) -> 0 | AI36: =IF(OR(M36="?",M36="Mx",M36="Fx",M36="Nilx",M36="Rx")=TRUE,1,0) -> 0 | AJ36: =IF(OR(N36="?",N36="Mx",N36="Fx",N36="Nilx",N36="Rx")=TRUE,1,0) -> 0 | AK36: =IF(OR(O36="?",O36="Mx",O36="Fx",O36="Nilx",O36="Rx")=TRUE,1,0) -> 0 | AL36: =IF(OR(P36="?",P36="Mx",P36="Fx",P36="Nilx",P36="Rx")=TRUE,1,0) -> 0 | AM36: =IF(OR(Q36="?",Q36="Mx",Q36="Fx",Q36="Nilx",Q36="Rx")=TRUE,1,0) -> 0 | AN36: =IF(OR(R36="?",R36="Mx",R36="Fx",R36="Nilx",R36="Rx")=TRUE,1,0) -> 0 | AO36: =IF(OR(S36="?",S36="Mx",S36="Fx",S36="Nilx",S36="Rx")=TRUE,1,0) -> 0
A37: 28 | C37: 2016 | D37: 2047 | E37: - | F37: BPs | G37: Battle Points | H37: PGL Battle of Alola | K37: Nil | L37: Nil | M37: Nil | N37: Nil | O37: Nil | P37: Nil | Q37: Nil | R37: x | S37: x | T37: Serial Code | U37: 1 | V37: 1 | Y37: 1 | Z37: 1 | AA37: 1 | AB37: 1 | AD37: =datevalue("2016-12-22") -> 42726 | AE37: - Jan 30, 2017 | AF37: =IF(OR($C37='Missing Wondercards'!$G$1,'Missing Wondercards'!$G$1="all")=TRUE,IF(SUM(AG37:AO37)>0,1,0),0) -> 0 | AG37: =IF(OR(K37="?",K37="Mx",K37="Fx",K37="Nilx",K37="Rx")=TRUE,1,0) -> 0 | AH37: =IF(OR(L37="?",L37="Mx",L37="Fx",L37="Nilx",L37="Rx")=TRUE,1,0) -> 0 | AI37: =IF(OR(M37="?",M37="Mx",M37="Fx",M37="Nilx",M37="Rx")=TRUE,1,0) -> 0 | AJ37: =IF(OR(N37="?",N37="Mx",N37="Fx",N37="Nilx",N37="Rx")=TRUE,1,0) -> 0 | AK37: =IF(OR(O37="?",O37="Mx",O37="Fx",O37="Nilx",O37="Rx")=TRUE,1,0) -> 0 | AL37: =IF(OR(P37="?",P37="Mx",P37="Fx",P37="Nilx",P37="Rx")=TRUE,1,0) -> 0 | AM37: =IF(OR(Q37="?",Q37="Mx",Q37="Fx",Q37="Nilx",Q37="Rx")=TRUE,1,0) -> 0 | AN37: =IF(OR(R37="?",R37="Mx",R37="Fx",R37="Nilx",R37="Rx")=TRUE,1,0) -> 0 | AO37: =IF(OR(S37="?",S37="Mx",S37="Fx",S37="Nilx",S37="Rx")=TRUE,1,0) -> 0
A38: 29 | C38: 2017 | D38: 0 | E38: - | F38: Item | G38: Mewnium Z | H38: Pokemon Bank Sun Moon Support | K38: Nil | L38: x | M38: x | N38: x | O38: x | P38: x | Q38: x | R38: x | S38: x | T38: Pokemon Bank | U38: 1 | V38: 1 | Y38: 1 | Z38: 1 | AA38: 1 | AB38: 1 | AD38: =datevalue("2017-1-25") -> 42760 | AE38: - Oct 2, 2017 | AF38: =IF(OR($C38='Missing Wondercards'!$G$1,'Missing Wondercards'!$G$1="all")=TRUE,IF(SUM(AG38:AO38)>0,1,0),0) -> 0 | AG38: =IF(OR(K38="?",K38="Mx",K38="Fx",K38="Nilx",K38="Rx")=TRUE,1,0) -> 0 | AH38: =IF(OR(L38="?",L38="Mx",L38="Fx",L38="Nilx",L38="Rx")=TRUE,1,0) -> 0 | AI38: =IF(OR(M38="?",M38="Mx",M38="Fx",M38="Nilx",M38="Rx")=TRUE,1,0) -> 0 | AJ38: =IF(OR(N38="?",N38="Mx",N38="Fx",N38="Nilx",N38="Rx")=TRUE,1,0) -> 0 | AK38: =IF(OR(O38="?",O38="Mx",O38="Fx",O38="Nilx",O38="Rx")=TRUE,1,0) -> 0 | AL38: =IF(OR(P38="?",P38="Mx",P38="Fx",P38="Nilx",P38="Rx")=TRUE,1,0) -> 0 | AM38: =IF(OR(Q38="?",Q38="Mx",Q38="Fx",Q38="Nilx",Q38="Rx")=TRUE,1,0) -> 0 | AN38: =IF(OR(R38="?",R38="Mx",R38="Fx",R38="Nilx",R38="Rx")=TRUE,1,0) -> 0 | AO38: =IF(OR(S38="?",S38="Mx",S38="Fx",S38="Nilx",S38="Rx")=TRUE,1,0) -> 0
A39: 30 | C39: 2017 | D39: 207 | E39: - | F39: Item | G39: Big Nugget | H39: WHF'17 Winter | K39: x | L39: x | M39: x | N39: x | O39: Nil | P39: x | Q39: x | R39: x | S39: x | T39: Local Wireless | U39: 1 | V39: 1 | Y39: 1 | Z39: 1 | AA39: 1 | AB39: 1 | AD39: =datevalue("2017-1-22") -> 42757 | AE39: , Jan 28 - 28, Feb 5, Feb 12, 2017 | AF39: =IF(OR($C39='Missing Wondercards'!$G$1,'Missing Wondercards'!$G$1="all")=TRUE,IF(SUM(AG39:AO39)>0,1,0),0) -> 0 | AG39: =IF(OR(K39="?",K39="Mx",K39="Fx",K39="Nilx",K39="Rx")=TRUE,1,0) -> 0 | AH39: =IF(OR(L39="?",L39="Mx",L39="Fx",L39="Nilx",L39="Rx")=TRUE,1,0) -> 0 | AI39: =IF(OR(M39="?",M39="Mx",M39="Fx",M39="Nilx",M39="Rx")=TRUE,1,0) -> 0 | AJ39: =IF(OR(N39="?",N39="Mx",N39="Fx",N39="Nilx",N39="Rx")=TRUE,1,0) -> 0 | AK39: =IF(OR(O39="?",O39="Mx",O39="Fx",O39="Nilx",O39="Rx")=TRUE,1,0) -> 0 | AL39: =IF(OR(P39="?",P39="Mx",P39="Fx",P39="Nilx",P39="Rx")=TRUE,1,0) -> 0 | AM39: =IF(OR(Q39="?",Q39="Mx",Q39="Fx",Q39="Nilx",Q39="Rx")=TRUE,1,0) -> 0 | AN39: =IF(OR(R39="?",R39="Mx",R39="Fx",R39="Nilx",R39="Rx")=TRUE,1,0) -> 0 | AO39: =IF(OR(S39="?",S39="Mx",S39="Fx",S39="Nilx",S39="Rx")=TRUE,1,0) -> 0
A40: 31 | C40: 2017 | D40: 208 | E40: - | F40: Item | G40: Rare Candy | H40: Pulverizing Pancake Battle Rare Candy | K40: x | L40: x | M40: x | N40: x | O40: Nil | P40: x | Q40: x | R40: x | S40: x | T40: Serial Code | U40: 1 | V40: 1 | AA40: 1 | AD40: =datevalue("2017-1-14") -> 42749 | AE40: - Jan 31, 2018 | AF40: =IF(OR($C40='Missing Wondercards'!$G$1,'Missing Wondercards'!$G$1="all")=TRUE,IF(SUM(AG40:AO40)>0,1,0),0) -> 0 | AG40: =IF(OR(K40="?",K40="Mx",K40="Fx",K40="Nilx",K40="Rx")=TRUE,1,0) -> 0 | AH40: =IF(OR(L40="?",L40="Mx",L40="Fx",L40="Nilx",L40="Rx")=TRUE,1,0) -> 0 | AI40: =IF(OR(M40="?",M40="Mx",M40="Fx",M40="Nilx",M40="Rx")=TRUE,1,0) -> 0 | AJ40: =IF(OR(N40="?",N40="Mx",N40="Fx",N40="Nilx",N40="Rx")=TRUE,1,0) -> 0 | AK40: =IF(OR(O40="?",O40="Mx",O40="Fx",O40="Nilx",O40="Rx")=TRUE,1,0) -> 0 | AL40: =IF(OR(P40="?",P40="Mx",P40="Fx",P40="Nilx",P40="Rx")=TRUE,1,0) -> 0 | AM40: =IF(OR(Q40="?",Q40="Mx",Q40="Fx",Q40="Nilx",Q40="Rx")=TRUE,1,0) -> 0 | AN40: =IF(OR(R40="?",R40="Mx",R40="Fx",R40="Nilx",R40="Rx")=TRUE,1,0) -> 0 | AO40: =IF(OR(S40="?",S40="Mx",S40="Fx",S40="Nilx",S40="Rx")=TRUE,1,0) -> 0
A41: 32 | C41: 2017 | D41: 211 | E41: - | F41: Item | G41: Aspear Berry | H41: Pokemon Center Alolan Vulpix Items | K41: x | L41: x | M41: x | N41: x | O41: Nil | P41: x | Q41: x | R41: x | S41: x | T41: Local Wireless | U41: 1 | V41: 1 | Y41: 1 | Z41: 1 | AA41: 1 | AB41: 1 | AD41: =datevalue("2017-2-1") -> 42767 | AE41: - Mar 12, 2017 | AF41: =IF(OR($C41='Missing Wondercards'!$G$1,'Missing Wondercards'!$G$1="all")=TRUE,IF(SUM(AG41:AO41)>0,1,0),0) -> 0 | AG41: =IF(OR(K41="?",K41="Mx",K41="Fx",K41="Nilx",K41="Rx")=TRUE,1,0) -> 0 | AH41: =IF(OR(L41="?",L41="Mx",L41="Fx",L41="Nilx",L41="Rx")=TRUE,1,0) -> 0 | AI41: =IF(OR(M41="?",M41="Mx",M41="Fx",M41="Nilx",M41="Rx")=TRUE,1,0) -> 0 | AJ41: =IF(OR(N41="?",N41="Mx",N41="Fx",N41="Nilx",N41="Rx")=TRUE,1,0) -> 0 | AK41: =IF(OR(O41="?",O41="Mx",O41="Fx",O41="Nilx",O41="Rx")=TRUE,1,0) -> 0 | AL41: =IF(OR(P41="?",P41="Mx",P41="Fx",P41="Nilx",P41="Rx")=TRUE,1,0) -> 0 | AM41: =IF(OR(Q41="?",Q41="Mx",Q41="Fx",Q41="Nilx",Q41="Rx")=TRUE,1,0) -> 0 | AN41: =IF(OR(R41="?",R41="Mx",R41="Fx",R41="Nilx",R41="Rx")=TRUE,1,0) -> 0 | AO41: =IF(OR(S41="?",S41="Mx",S41="Fx",S41="Nilx",S41="Rx")=TRUE,1,0) -> 0
A42: 33 | C42: 2017 | D42: 211 | E42: - | F42: Item | G42: Casteliacone | H42: Pokemon Center Alolan Vulpix Items | K42: x | L42: x | M42: x | N42: x | O42: Nil | P42: x | Q42: x | R42: x | S42: x | T42: Local Wireless | U42: 1 | V42: 1 | Y42: 1 | Z42: 1 | AA42: 1 | AB42: 1 | AD42: =datevalue("2017-2-1") -> 42767 | AE42: - Mar 12, 2017 | AF42: =IF(OR($C42='Missing Wondercards'!$G$1,'Missing Wondercards'!$G$1="all")=TRUE,IF(SUM(AG42:AO42)>0,1,0),0) -> 0 | AG42: =IF(OR(K42="?",K42="Mx",K42="Fx",K42="Nilx",K42="Rx")=TRUE,1,0) -> 0 | AH42: =IF(OR(L42="?",L42="Mx",L42="Fx",L42="Nilx",L42="Rx")=TRUE,1,0) -> 0 | AI42: =IF(OR(M42="?",M42="Mx",M42="Fx",M42="Nilx",M42="Rx")=TRUE,1,0) -> 0 | AJ42: =IF(OR(N42="?",N42="Mx",N42="Fx",N42="Nilx",N42="Rx")=TRUE,1,0) -> 0 | AK42: =IF(OR(O42="?",O42="Mx",O42="Fx",O42="Nilx",O42="Rx")=TRUE,1,0) -> 0 | AL42: =IF(OR(P42="?",P42="Mx",P42="Fx",P42="Nilx",P42="Rx")=TRUE,1,0) -> 0 | AM42: =IF(OR(Q42="?",Q42="Mx",Q42="Fx",Q42="Nilx",Q42="Rx")=TRUE,1,0) -> 0 | AN42: =IF(OR(R42="?",R42="Mx",R42="Fx",R42="Nilx",R42="Rx")=TRUE,1,0) -> 0 | AO42: =IF(OR(S42="?",S42="Mx",S42="Fx",S42="Nilx",S42="Rx")=TRUE,1,0) -> 0
A43: 34 | C43: 2017 | D43: 211 | E43: - | F43: Item | G43: Ice Heal | H43: Pokemon Center Alolan Vulpix Items | K43: x | L43: x | M43: x | N43: x | O43: Nil | P43: x | Q43: x | R43: x | S43: x | T43: Local Wireless | U43: 1 | V43: 1 | Y43: 1 | Z43: 1 | AA43: 1 | AB43: 1 | AD43: =datevalue("2017-2-1") -> 42767 | AE43: - Mar 12, 2017 | AF43: =IF(OR($C43='Missing Wondercards'!$G$1,'Missing Wondercards'!$G$1="all")=TRUE,IF(SUM(AG43:AO43)>0,1,0),0) -> 0 | AG43: =IF(OR(K43="?",K43="Mx",K43="Fx",K43="Nilx",K43="Rx")=TRUE,1,0) -> 0 | AH43: =IF(OR(L43="?",L43="Mx",L43="Fx",L43="Nilx",L43="Rx")=TRUE,1,0) -> 0 | AI43: =IF(OR(M43="?",M43="Mx",M43="Fx",M43="Nilx",M43="Rx")=TRUE,1,0) -> 0 | AJ43: =IF(OR(N43="?",N43="Mx",N43="Fx",N43="Nilx",N43="Rx")=TRUE,1,0) -> 0 | AK43: =IF(OR(O43="?",O43="Mx",O43="Fx",O43="Nilx",O43="Rx")=TRUE,1,0) -> 0 | AL43: =IF(OR(P43="?",P43="Mx",P43="Fx",P43="Nilx",P43="Rx")=TRUE,1,0) -> 0 | AM43: =IF(OR(Q43="?",Q43="Mx",Q43="Fx",Q43="Nilx",Q43="Rx")=TRUE,1,0) -> 0 | AN43: =IF(OR(R43="?",R43="Mx",R43="Fx",R43="Nilx",R43="Rx")=TRUE,1,0) -> 0 | AO43: =IF(OR(S43="?",S43="Mx",S43="Fx",S43="Nilx",S43="Rx")=TRUE,1,0) -> 0
A44: 35 | C44: 2017 | D44: 211 | E44: - | F44: Item | G44: Ice Stone | H44: Pokemon Center Alolan Vulpix Items | K44: x | L44: x | M44: x | N44: x | O44: Nil | P44: x | Q44: x | R44: x | S44: x | T44: Local Wireless | U44: 1 | V44: 1 | Y44: 1 | Z44: 1 | AA44: 1 | AB44: 1 | AD44: =datevalue("2017-2-1") -> 42767 | AE44: - Mar 12, 2017 | AF44: =IF(OR($C44='Missing Wondercards'!$G$1,'Missing Wondercards'!$G$1="all")=TRUE,IF(SUM(AG44:AO44)>0,1,0),0) -> 0 | AG44: =IF(OR(K44="?",K44="Mx",K44="Fx",K44="Nilx",K44="Rx")=TRUE,1,0) -> 0 | AH44: =IF(OR(L44="?",L44="Mx",L44="Fx",L44="Nilx",L44="Rx")=TRUE,1,0) -> 0 | AI44: =IF(OR(M44="?",M44="Mx",M44="Fx",M44="Nilx",M44="Rx")=TRUE,1,0) -> 0 | AJ44: =IF(OR(N44="?",N44="Mx",N44="Fx",N44="Nilx",N44="Rx")=TRUE,1,0) -> 0 | AK44: =IF(OR(O44="?",O44="Mx",O44="Fx",O44="Nilx",O44="Rx")=TRUE,1,0) -> 0 | AL44: =IF(OR(P44="?",P44="Mx",P44="Fx",P44="Nilx",P44="Rx")=TRUE,1,0) -> 0 | AM44: =IF(OR(Q44="?",Q44="Mx",Q44="Fx",Q44="Nilx",Q44="Rx")=TRUE,1,0) -> 0 | AN44: =IF(OR(R44="?",R44="Mx",R44="Fx",R44="Nilx",R44="Rx")=TRUE,1,0) -> 0 | AO44: =IF(OR(S44="?",S44="Mx",S44="Fx",S44="Nilx",S44="Rx")=TRUE,1,0) -> 0
A45: 36 | C45: 2017 | D45: 211 | E45: - | F45: Item | G45: Icy Rock | H45: Pokemon Center Alolan Vulpix Items | K45: x | L45: x | M45: x | N45: x | O45: Nil | P45: x | Q45: x | R45: x | S45: x | T45: Local Wireless | U45: 1 | V45: 1 | Y45: 1 | Z45: 1 | AA45: 1 | AB45: 1 | AD45: =datevalue("2017-2-1") -> 42767 | AE45: - Mar 12, 2017 | AF45: =IF(OR($C45='Missing Wondercards'!$G$1,'Missing Wondercards'!$G$1="all")=TRUE,IF(SUM(AG45:AO45)>0,1,0),0) -> 0 | AG45: =IF(OR(K45="?",K45="Mx",K45="Fx",K45="Nilx",K45="Rx")=TRUE,1,0) -> 0 | AH45: =IF(OR(L45="?",L45="Mx",L45="Fx",L45="Nilx",L45="Rx")=TRUE,1,0) -> 0 | AI45: =IF(OR(M45="?",M45="Mx",M45="Fx",M45="Nilx",M45="Rx")=TRUE,1,0) -> 0 | AJ45: =IF(OR(N45="?",N45="Mx",N45="Fx",N45="Nilx",N45="Rx")=TRUE,1,0) -> 0 | AK45: =IF(OR(O45="?",O45="Mx",O45="Fx",O45="Nilx",O45="Rx")=TRUE,1,0) -> 0 | AL45: =IF(OR(P45="?",P45="Mx",P45="Fx",P45="Nilx",P45="Rx")=TRUE,1,0) -> 0 | AM45: =IF(OR(Q45="?",Q45="Mx",Q45="Fx",Q45="Nilx",Q45="Rx")=TRUE,1,0) -> 0 | AN45: =IF(OR(R45="?",R45="Mx",R45="Fx",R45="Nilx",R45="Rx")=TRUE,1,0) -> 0 | AO45: =IF(OR(S45="?",S45="Mx",S45="Fx",S45="Nilx",S45="Rx")=TRUE,1,0) -> 0
A46: 37 | C46: 2017 | D46: 211 | E46: - | F46: Item | G46: Never-Melt Ice | H46: Pokemon Center Alolan Vulpix Items | K46: x | L46: x | M46: x | N46: x | O46: Nil | P46: x | Q46: x | R46: x | S46: x | T46: Local Wireless | U46: 1 | V46: 1 | Y46: 1 | Z46: 1 | AA46: 1 | AB46: 1 | AD46: =datevalue("2017-2-1") -> 42767 | AE46: - Mar 12, 2017 | AF46: =IF(OR($C46='Missing Wondercards'!$G$1,'Missing Wondercards'!$G$1="all")=TRUE,IF(SUM(AG46:AO46)>0,1,0),0) -> 0 | AG46: =IF(OR(K46="?",K46="Mx",K46="Fx",K46="Nilx",K46="Rx")=TRUE,1,0) -> 0 | AH46: =IF(OR(L46="?",L46="Mx",L46="Fx",L46="Nilx",L46="Rx")=TRUE,1,0) -> 0 | AI46: =IF(OR(M46="?",M46="Mx",M46="Fx",M46="Nilx",M46="Rx")=TRUE,1,0) -> 0 | AJ46: =IF(OR(N46="?",N46="Mx",N46="Fx",N46="Nilx",N46="Rx")=TRUE,1,0) -> 0 | AK46: =IF(OR(O46="?",O46="Mx",O46="Fx",O46="Nilx",O46="Rx")=TRUE,1,0) -> 0 | AL46: =IF(OR(P46="?",P46="Mx",P46="Fx",P46="Nilx",P46="Rx")=TRUE,1,0) -> 0 | AM46: =IF(OR(Q46="?",Q46="Mx",Q46="Fx",Q46="Nilx",Q46="Rx")=TRUE,1,0) -> 0 | AN46: =IF(OR(R46="?",R46="Mx",R46="Fx",R46="Nilx",R46="Rx")=TRUE,1,0) -> 0 | AO46: =IF(OR(S46="?",S46="Mx",S46="Fx",S46="Nilx",S46="Rx")=TRUE,1,0) -> 0
A47: 38 | C47: 2017 | D47: 211 | E47: - | F47: Item | G47: Snowball | H47: Pokemon Center Alolan Vulpix Items | K47: x | L47: x | M47: x | N47: x | O47: Nil | P47: x | Q47: x | R47: x | S47: x | T47: Local Wireless | U47: 1 | V47: 1 | Y47: 1 | Z47: 1 | AA47: 1 | AB47: 1 | AD47: =datevalue("2017-2-1") -> 42767 | AE47: - Mar 12, 2017 | AF47: =IF(OR($C47='Missing Wondercards'!$G$1,'Missing Wondercards'!$G$1="all")=TRUE,IF(SUM(AG47:AO47)>0,1,0),0) -> 0 | AG47: =IF(OR(K47="?",K47="Mx",K47="Fx",K47="Nilx",K47="Rx")=TRUE,1,0) -> 0 | AH47: =IF(OR(L47="?",L47="Mx",L47="Fx",L47="Nilx",L47="Rx")=TRUE,1,0) -> 0 | AI47: =IF(OR(M47="?",M47="Mx",M47="Fx",M47="Nilx",M47="Rx")=TRUE,1,0) -> 0 | AJ47: =IF(OR(N47="?",N47="Mx",N47="Fx",N47="Nilx",N47="Rx")=TRUE,1,0) -> 0 | AK47: =IF(OR(O47="?",O47="Mx",O47="Fx",O47="Nilx",O47="Rx")=TRUE,1,0) -> 0 | AL47: =IF(OR(P47="?",P47="Mx",P47="Fx",P47="Nilx",P47="Rx")=TRUE,1,0) -> 0 | AM47: =IF(OR(Q47="?",Q47="Mx",Q47="Fx",Q47="Nilx",Q47="Rx")=TRUE,1,0) -> 0 | AN47: =IF(OR(R47="?",R47="Mx",R47="Fx",R47="Nilx",R47="Rx")=TRUE,1,0) -> 0 | AO47: =IF(OR(S47="?",S47="Mx",S47="Fx",S47="Nilx",S47="Rx")=TRUE,1,0) -> 0
A48: 39 | C48: 2017 | D48: 218 | E48: 170128 | F48: Pkmn | G48: Magikarp | H48: Shiny Magikarp New Year | K48: R | L48: x | M48: x | N48: x | O48: x | P48: x | Q48: x | R48: x | S48: x | T48: Serial Code | U48: 1 | V48: 1 | Y48: 1 | Z48: 1 | AA48: 1 | AD48: =datevalue("2017-1-28") -> 42763 | AE48: - Feb 6, 2017 (Accessible since Jan 27) | AF48: =IF(OR($C48='Missing Wondercards'!$G$1,'Missing Wondercards'!$G$1="all")=TRUE,IF(SUM(AG48:AO48)>0,1,0),0) -> 0 | AG48: =IF(OR(K48="?",K48="Mx",K48="Fx",K48="Nilx",K48="Rx")=TRUE,1,0) -> 0 | AH48: =IF(OR(L48="?",L48="Mx",L48="Fx",L48="Nilx",L48="Rx")=TRUE,1,0) -> 0 | AI48: =IF(OR(M48="?",M48="Mx",M48="Fx",M48="Nilx",M48="Rx")=TRUE,1,0) -> 0 | AJ48: =IF(OR(N48="?",N48="Mx",N48="Fx",N48="Nilx",N48="Rx")=TRUE,1,0) -> 0 | AK48: =IF(OR(O48="?",O48="Mx",O48="Fx",O48="Nilx",O48="Rx")=TRUE,1,0) -> 0 | AL48: =IF(OR(P48="?",P48="Mx",P48="Fx",P48="Nilx",P48="Rx")=TRUE,1,0) -> 0 | AM48: =IF(OR(Q48="?",Q48="Mx",Q48="Fx",Q48="Nilx",Q48="Rx")=TRUE,1,0) -> 0 | AN48: =IF(OR(R48="?",R48="Mx",R48="Fx",R48="Nilx",R48="Rx")=TRUE,1,0) -> 0 | AO48: =IF(OR(S48="?",S48="Mx",S48="Fx",S48="Nilx",S48="Rx")=TRUE,1,0) -> 0
A49: 40 | C49: 2017 | D49: 219 | E49: 160206 | F49: Pkmn | G49: Machamp | H49: Saori Yoshida Machamp | K49: x | L49: x | M49: x | N49: x | O49: F | P49: x | Q49: x | R49: x | S49: x | T49: Local Wireless | U49: 1 | V49: 1 | AA49: 1 | AD49: =datevalue("2017-2-28") -> 42794 | AE49: - Feb 28, 2017 | AF49: =IF(OR($C49='Missing Wondercards'!$G$1,'Missing Wondercards'!$G$1="all")=TRUE,IF(SUM(AG49:AO49)>0,1,0),0) -> 0 | AG49: =IF(OR(K49="?",K49="Mx",K49="Fx",K49="Nilx",K49="Rx")=TRUE,1,0) -> 0 | AH49: =IF(OR(L49="?",L49="Mx",L49="Fx",L49="Nilx",L49="Rx")=TRUE,1,0) -> 0 | AI49: =IF(OR(M49="?",M49="Mx",M49="Fx",M49="Nilx",M49="Rx")=TRUE,1,0) -> 0 | AJ49: =IF(OR(N49="?",N49="Mx",N49="Fx",N49="Nilx",N49="Rx")=TRUE,1,0) -> 0 | AK49: =IF(OR(O49="?",O49="Mx",O49="Fx",O49="Nilx",O49="Rx")=TRUE,1,0) -> 0 | AL49: =IF(OR(P49="?",P49="Mx",P49="Fx",P49="Nilx",P49="Rx")=TRUE,1,0) -> 0 | AM49: =IF(OR(Q49="?",Q49="Mx",Q49="Fx",Q49="Nilx",Q49="Rx")=TRUE,1,0) -> 0 | AN49: =IF(OR(R49="?",R49="Mx",R49="Fx",R49="Nilx",R49="Rx")=TRUE,1,0) -> 0 | AO49: =IF(OR(S49="?",S49="Mx",S49="Fx",S49="Nilx",S49="Rx")=TRUE,1,0) -> 0
A50: 41 | C50: 2017 | D50: 220 | E50: 170317 | F50: Pkmn | G50: Tapu Koko | H50: Melemele Shiny Tapu Koko | K50: x | L50: x | M50: x | N50: x | O50: Nil | P50: x | Q50: x | R50: x | S50: x | T50: Serial Code | U50: 1 | V50: 1 | AA50: 1 | AD50: =datevalue("2017-3-17") -> 42811 | AE50: - May 31, 2017 | AF50: =IF(OR($C50='Missing Wondercards'!$G$1,'Missing Wondercards'!$G$1="all")=TRUE,IF(SUM(AG50:AO50)>0,1,0),0) -> 0 | AG50: =IF(OR(K50="?",K50="Mx",K50="Fx",K50="Nilx",K50="Rx")=TRUE,1,0) -> 0 | AH50: =IF(OR(L50="?",L50="Mx",L50="Fx",L50="Nilx",L50="Rx")=TRUE,1,0) -> 0 | AI50: =IF(OR(M50="?",M50="Mx",M50="Fx",M50="Nilx",M50="Rx")=TRUE,1,0) -> 0 | AJ50: =IF(OR(N50="?",N50="Mx",N50="Fx",N50="Nilx",N50="Rx")=TRUE,1,0) -> 0 | AK50: =IF(OR(O50="?",O50="Mx",O50="Fx",O50="Nilx",O50="Rx")=TRUE,1,0) -> 0 | AL50: =IF(OR(P50="?",P50="Mx",P50="Fx",P50="Nilx",P50="Rx")=TRUE,1,0) -> 0 | AM50: =IF(OR(Q50="?",Q50="Mx",Q50="Fx",Q50="Nilx",Q50="Rx")=TRUE,1,0) -> 0 | AN50: =IF(OR(R50="?",R50="Mx",R50="Fx",R50="Nilx",R50="Rx")=TRUE,1,0) -> 0 | AO50: =IF(OR(S50="?",S50="Mx",S50="Fx",S50="Nilx",S50="Rx")=TRUE,1,0) -> 0
A51: 42 | C51: 2017 | D51: 221 | E51: - | F51: Pkmn | G51: Drampa | H51: Sparkling Spring Festival: Pokemon Eggs | K51: x | L51: x | M51: x | N51: x | O51: R | P51: x | Q51: x | R51: x | S51: x | T51: Local Wireless | U51: 1 | V51: 1 | Y51: 1 | Z51: 1 | AA51: 1 | AB51: 1 | AD51: =datevalue("2017-3-18") -> 42812 | AE51: - Apr 8, 2017 | AF51: =IF(OR($C51='Missing Wondercards'!$G$1,'Missing Wondercards'!$G$1="all")=TRUE,IF(SUM(AG51:AO51)>0,1,0),0) -> 0 | AG51: =IF(OR(K51="?",K51="Mx",K51="Fx",K51="Nilx",K51="Rx")=TRUE,1,0) -> 0 | AH51: =IF(OR(L51="?",L51="Mx",L51="Fx",L51="Nilx",L51="Rx")=TRUE,1,0) -> 0 | AI51: =IF(OR(M51="?",M51="Mx",M51="Fx",M51="Nilx",M51="Rx")=TRUE,1,0) -> 0 | AJ51: =IF(OR(N51="?",N51="Mx",N51="Fx",N51="Nilx",N51="Rx")=TRUE,1,0) -> 0 | AK51: =IF(OR(O51="?",O51="Mx",O51="Fx",O51="Nilx",O51="Rx")=TRUE,1,0) -> 0 | AL51: =IF(OR(P51="?",P51="Mx",P51="Fx",P51="Nilx",P51="Rx")=TRUE,1,0) -> 0 | AM51: =IF(OR(Q51="?",Q51="Mx",Q51="Fx",Q51="Nilx",Q51="Rx")=TRUE,1,0) -> 0 | AN51: =IF(OR(R51="?",R51="Mx",R51="Fx",R51="Nilx",R51="Rx")=TRUE,1,0) -> 0 | AO51: =IF(OR(S51="?",S51="Mx",S51="Fx",S51="Nilx",S51="Rx")=TRUE,1,0) -> 0
A52: 43 | C52: 2017 | D52: 221 | E52: - | F52: Pkmn | G52: Goomy | H52: Sparkling Spring Festival: Pokemon Eggs | K52: x | L52: x | M52: x | N52: x | O52: R | P52: x | Q52: x | R52: x | S52: x | T52: Local Wireless | U52: 1 | V52: 1 | Y52: 1 | Z52: 1 | AA52: 1 | AB52: 1 | AD52: =datevalue("2017-3-18") -> 42812 | AE52: - Apr 8, 2017 | AF52: =IF(OR($C52='Missing Wondercards'!$G$1,'Missing Wondercards'!$G$1="all")=TRUE,IF(SUM(AG52:AO52)>0,1,0),0) -> 0 | AG52: =IF(OR(K52="?",K52="Mx",K52="Fx",K52="Nilx",K52="Rx")=TRUE,1,0) -> 0 | AH52: =IF(OR(L52="?",L52="Mx",L52="Fx",L52="Nilx",L52="Rx")=TRUE,1,0) -> 0 | AI52: =IF(OR(M52="?",M52="Mx",M52="Fx",M52="Nilx",M52="Rx")=TRUE,1,0) -> 0 | AJ52: =IF(OR(N52="?",N52="Mx",N52="Fx",N52="Nilx",N52="Rx")=TRUE,1,0) -> 0 | AK52: =IF(OR(O52="?",O52="Mx",O52="Fx",O52="Nilx",O52="Rx")=TRUE,1,0) -> 0 | AL52: =IF(OR(P52="?",P52="Mx",P52="Fx",P52="Nilx",P52="Rx")=TRUE,1,0) -> 0 | AM52: =IF(OR(Q52="?",Q52="Mx",Q52="Fx",Q52="Nilx",Q52="Rx")=TRUE,1,0) -> 0 | AN52: =IF(OR(R52="?",R52="Mx",R52="Fx",R52="Nilx",R52="Rx")=TRUE,1,0) -> 0 | AO52: =IF(OR(S52="?",S52="Mx",S52="Fx",S52="Nilx",S52="Rx")=TRUE,1,0) -> 0
A53: 44 | C53: 2017 | D53: 221 | E53: - | F53: Pkmn | G53: Mareanie | H53: Sparkling Spring Festival: Pokemon Eggs | K53: x | L53: x | M53: x | N53: x | O53: R | P53: x | Q53: x | R53: x | S53: x | T53: Local Wireless | U53: 1 | V53: 1 | Y53: 1 | Z53: 1 | AA53: 1 | AB53: 1 | AD53: =datevalue("2017-3-18") -> 42812 | AE53: - Apr 8, 2017 | AF53: =IF(OR($C53='Missing Wondercards'!$G$1,'Missing Wondercards'!$G$1="all")=TRUE,IF(SUM(AG53:AO53)>0,1,0),0) -> 0 | AG53: =IF(OR(K53="?",K53="Mx",K53="Fx",K53="Nilx",K53="Rx")=TRUE,1,0) -> 0 | AH53: =IF(OR(L53="?",L53="Mx",L53="Fx",L53="Nilx",L53="Rx")=TRUE,1,0) -> 0 | AI53: =IF(OR(M53="?",M53="Mx",M53="Fx",M53="Nilx",M53="Rx")=TRUE,1,0) -> 0 | AJ53: =IF(OR(N53="?",N53="Mx",N53="Fx",N53="Nilx",N53="Rx")=TRUE,1,0) -> 0 | AK53: =IF(OR(O53="?",O53="Mx",O53="Fx",O53="Nilx",O53="Rx")=TRUE,1,0) -> 0 | AL53: =IF(OR(P53="?",P53="Mx",P53="Fx",P53="Nilx",P53="Rx")=TRUE,1,0) -> 0 | AM53: =IF(OR(Q53="?",Q53="Mx",Q53="Fx",Q53="Nilx",Q53="Rx")=TRUE,1,0) -> 0 | AN53: =IF(OR(R53="?",R53="Mx",R53="Fx",R53="Nilx",R53="Rx")=TRUE,1,0) -> 0 | AO53: =IF(OR(S53="?",S53="Mx",S53="Fx",S53="Nilx",S53="Rx")=TRUE,1,0) -> 0
A54: 45 | C54: 2017 | D54: 221 | E54: - | F54: Pkmn | G54: Oranguru | H54: Sparkling Spring Festival: Pokemon Eggs | K54: x | L54: x | M54: x | N54: x | O54: R | P54: x | Q54: x | R54: x | S54: x | T54: Local Wireless | U54: 1 | V54: 1 | Y54: 1 | Z54: 1 | AA54: 1 | AB54: 1 | AD54: =datevalue("2017-3-18") -> 42812 | AE54: - Apr 8, 2017 | AF54: =IF(OR($C54='Missing Wondercards'!$G$1,'Missing Wondercards'!$G$1="all")=TRUE,IF(SUM(AG54:AO54)>0,1,0),0) -> 0 | AG54: =IF(OR(K54="?",K54="Mx",K54="Fx",K54="Nilx",K54="Rx")=TRUE,1,0) -> 0 | AH54: =IF(OR(L54="?",L54="Mx",L54="Fx",L54="Nilx",L54="Rx")=TRUE,1,0) -> 0 | AI54: =IF(OR(M54="?",M54="Mx",M54="Fx",M54="Nilx",M54="Rx")=TRUE,1,0) -> 0 | AJ54: =IF(OR(N54="?",N54="Mx",N54="Fx",N54="Nilx",N54="Rx")=TRUE,1,0) -> 0 | AK54: =IF(OR(O54="?",O54="Mx",O54="Fx",O54="Nilx",O54="Rx")=TRUE,1,0) -> 0 | AL54: =IF(OR(P54="?",P54="Mx",P54="Fx",P54="Nilx",P54="Rx")=TRUE,1,0) -> 0 | AM54: =IF(OR(Q54="?",Q54="Mx",Q54="Fx",Q54="Nilx",Q54="Rx")=TRUE,1,0) -> 0 | AN54: =IF(OR(R54="?",R54="Mx",R54="Fx",R54="Nilx",R54="Rx")=TRUE,1,0) -> 0 | AO54: =IF(OR(S54="?",S54="Mx",S54="Fx",S54="Nilx",S54="Rx")=TRUE,1,0) -> 0
A55: 46 | C55: 2017 | D55: 221 | E55: - | F55: Pkmn | G55: Passimian | H55: Sparkling Spring Festival: Pokemon Eggs | K55: x | L55: x | M55: x | N55: x | O55: R | P55: x | Q55: x | R55: x | S55: x | T55: Local Wireless | U55: 1 | V55: 1 | Y55: 1 | Z55: 1 | AA55: 1 | AB55: 1 | AD55: =datevalue("2017-3-18") -> 42812 | AE55: - Apr 8, 2017 | AF55: =IF(OR($C55='Missing Wondercards'!$G$1,'Missing Wondercards'!$G$1="all")=TRUE,IF(SUM(AG55:AO55)>0,1,0),0) -> 0 | AG55: =IF(OR(K55="?",K55="Mx",K55="Fx",K55="Nilx",K55="Rx")=TRUE,1,0) -> 0 | AH55: =IF(OR(L55="?",L55="Mx",L55="Fx",L55="Nilx",L55="Rx")=TRUE,1,0) -> 0 | AI55: =IF(OR(M55="?",M55="Mx",M55="Fx",M55="Nilx",M55="Rx")=TRUE,1,0) -> 0 | AJ55: =IF(OR(N55="?",N55="Mx",N55="Fx",N55="Nilx",N55="Rx")=TRUE,1,0) -> 0 | AK55: =IF(OR(O55="?",O55="Mx",O55="Fx",O55="Nilx",O55="Rx")=TRUE,1,0) -> 0 | AL55: =IF(OR(P55="?",P55="Mx",P55="Fx",P55="Nilx",P55="Rx")=TRUE,1,0) -> 0 | AM55: =IF(OR(Q55="?",Q55="Mx",Q55="Fx",Q55="Nilx",Q55="Rx")=TRUE,1,0) -> 0 | AN55: =IF(OR(R55="?",R55="Mx",R55="Fx",R55="Nilx",R55="Rx")=TRUE,1,0) -> 0 | AO55: =IF(OR(S55="?",S55="Mx",S55="Fx",S55="Nilx",S55="Rx")=TRUE,1,0) -> 0
A56: 47 | C56: 2017 | D56: 221 | E56: - | F56: Pkmn | G56: Turtonator | H56: Sparkling Spring Festival: Pokemon Eggs | K56: x | L56: x | M56: x | N56: x | O56: R | P56: x | Q56: x | R56: x | S56: x | T56: Local Wireless | U56: 1 | V56: 1 | Y56: 1 | Z56: 1 | AA56: 1 | AB56: 1 | AD56: =datevalue("2017-3-18") -> 42812 | AE56: - Apr 8, 2017 | AF56: =IF(OR($C56='Missing Wondercards'!$G$1,'Missing Wondercards'!$G$1="all")=TRUE,IF(SUM(AG56:AO56)>0,1,0),0) -> 0 | AG56: =IF(OR(K56="?",K56="Mx",K56="Fx",K56="Nilx",K56="Rx")=TRUE,1,0) -> 0 | AH56: =IF(OR(L56="?",L56="Mx",L56="Fx",L56="Nilx",L56="Rx")=TRUE,1,0) -> 0 | AI56: =IF(OR(M56="?",M56="Mx",M56="Fx",M56="Nilx",M56="Rx")=TRUE,1,0) -> 0 | AJ56: =IF(OR(N56="?",N56="Mx",N56="Fx",N56="Nilx",N56="Rx")=TRUE,1,0) -> 0 | AK56: =IF(OR(O56="?",O56="Mx",O56="Fx",O56="Nilx",O56="Rx")=TRUE,1,0) -> 0 | AL56: =IF(OR(P56="?",P56="Mx",P56="Fx",P56="Nilx",P56="Rx")=TRUE,1,0) -> 0 | AM56: =IF(OR(Q56="?",Q56="Mx",Q56="Fx",Q56="Nilx",Q56="Rx")=TRUE,1,0) -> 0 | AN56: =IF(OR(R56="?",R56="Mx",R56="Fx",R56="Nilx",R56="Rx")=TRUE,1,0) -> 0 | AO56: =IF(OR(S56="?",S56="Mx",S56="Fx",S56="Nilx",S56="Rx")=TRUE,1,0) -> 0
A57: 48 | C57: 2017 | D57: 222 | E57: 170415 | F57: Pkmn | G57: Bewear | H57: Sparkling Spring Festival | K57: x | L57: x | M57: x | N57: x | O57: F | P57: x | Q57: x | R57: x | S57: x | T57: Local Wireless | U57: 1 | V57: 1 | Y57: 1 | Z57: 1 | AA57: 1 | AB57: 1 | AD57: =datevalue("2017-4-15") -> 42840 | AE57: - May 7, 2017 | AF57: =IF(OR($C57='Missing Wondercards'!$G$1,'Missing Wondercards'!$G$1="all")=TRUE,IF(SUM(AG57:AO57)>0,1,0),0) -> 0 | AG57: =IF(OR(K57="?",K57="Mx",K57="Fx",K57="Nilx",K57="Rx")=TRUE,1,0) -> 0 | AH57: =IF(OR(L57="?",L57="Mx",L57="Fx",L57="Nilx",L57="Rx")=TRUE,1,0) -> 0 | AI57: =IF(OR(M57="?",M57="Mx",M57="Fx",M57="Nilx",M57="Rx")=TRUE,1,0) -> 0 | AJ57: =IF(OR(N57="?",N57="Mx",N57="Fx",N57="Nilx",N57="Rx")=TRUE,1,0) -> 0 | AK57: =IF(OR(O57="?",O57="Mx",O57="Fx",O57="Nilx",O57="Rx")=TRUE,1,0) -> 0 | AL57: =IF(OR(P57="?",P57="Mx",P57="Fx",P57="Nilx",P57="Rx")=TRUE,1,0) -> 0 | AM57: =IF(OR(Q57="?",Q57="Mx",Q57="Fx",Q57="Nilx",Q57="Rx")=TRUE,1,0) -> 0 | AN57: =IF(OR(R57="?",R57="Mx",R57="Fx",R57="Nilx",R57="Rx")=TRUE,1,0) -> 0 | AO57: =IF(OR(S57="?",S57="Mx",S57="Fx",S57="Nilx",S57="Rx")=TRUE,1,0) -> 0
A58: 49 | C58: 2017 | D58: 223 | E58: 970401 | F58: Pkmn | G58: Ash Pikachu I | H58: Pokemon Movie Prebooking: SatoPika | K58: x | L58: x | M58: x | N58: x | O58: M | P58: x | Q58: x | R58: x | S58: x | T58: Serial Code | U58: 1 | V58: 1 | AA58: 1 | AD58: =datevalue("2017-4-15") -> 42840 | AE58: - May 01, Jul 19 - 31, 2017 | AF58: =IF(OR($C58='Missing Wondercards'!$G$1,'Missing Wondercards'!$G$1="all")=TRUE,IF(SUM(AG58:AO58)>0,1,0),0) -> 0 | AG58: =IF(OR(K58="?",K58="Mx",K58="Fx",K58="Nilx",K58="Rx")=TRUE,1,0) -> 0 | AH58: =IF(OR(L58="?",L58="Mx",L58="Fx",L58="Nilx",L58="Rx")=TRUE,1,0) -> 0 | AI58: =IF(OR(M58="?",M58="Mx",M58="Fx",M58="Nilx",M58="Rx")=TRUE,1,0) -> 0 | AJ58: =IF(OR(N58="?",N58="Mx",N58="Fx",N58="Nilx",N58="Rx")=TRUE,1,0) -> 0 | AK58: =IF(OR(O58="?",O58="Mx",O58="Fx",O58="Nilx",O58="Rx")=TRUE,1,0) -> 0 | AL58: =IF(OR(P58="?",P58="Mx",P58="Fx",P58="Nilx",P58="Rx")=TRUE,1,0) -> 0 | AM58: =IF(OR(Q58="?",Q58="Mx",Q58="Fx",Q58="Nilx",Q58="Rx")=TRUE,1,0) -> 0 | AN58: =IF(OR(R58="?",R58="Mx",R58="Fx",R58="Nilx",R58="Rx")=TRUE,1,0) -> 0 | AO58: =IF(OR(S58="?",S58="Mx",S58="Fx",S58="Nilx",S58="Rx")=TRUE,1,0) -> 0
A59: 50 | C59: 2017 | D59: 223 | E59: 21121 | F59: Pkmn | G59: Ash Pikachu III | H59: Pokemon Movie Prebooking: SatoPika | K59: x | L59: x | M59: x | N59: x | O59: M | P59: x | Q59: x | R59: x | S59: x | T59: Serial Code | U59: 1 | V59: 1 | AA59: 1 | AD59: =datevalue("2017-5-3") -> 42858 | AE59: - May 15, Aug 02 - Aug 14, 2017 | AF59: =IF(OR($C59='Missing Wondercards'!$G$1,'Missing Wondercards'!$G$1="all")=TRUE,IF(SUM(AG59:AO59)>0,1,0),0) -> 0 | AG59: =IF(OR(K59="?",K59="Mx",K59="Fx",K59="Nilx",K59="Rx")=TRUE,1,0) -> 0 | AH59: =IF(OR(L59="?",L59="Mx",L59="Fx",L59="Nilx",L59="Rx")=TRUE,1,0) -> 0 | AI59: =IF(OR(M59="?",M59="Mx",M59="Fx",M59="Nilx",M59="Rx")=TRUE,1,0) -> 0 | AJ59: =IF(OR(N59="?",N59="Mx",N59="Fx",N59="Nilx",N59="Rx")=TRUE,1,0) -> 0 | AK59: =IF(OR(O59="?",O59="Mx",O59="Fx",O59="Nilx",O59="Rx")=TRUE,1,0) -> 0 | AL59: =IF(OR(P59="?",P59="Mx",P59="Fx",P59="Nilx",P59="Rx")=TRUE,1,0) -> 0 | AM59: =IF(OR(Q59="?",Q59="Mx",Q59="Fx",Q59="Nilx",Q59="Rx")=TRUE,1,0) -> 0 | AN59: =IF(OR(R59="?",R59="Mx",R59="Fx",R59="Nilx",R59="Rx")=TRUE,1,0) -> 0 | AO59: =IF(OR(S59="?",S59="Mx",S59="Fx",S59="Nilx",S59="Rx")=TRUE,1,0) -> 0
A60: 51 | C60: 2017 | D60: 223 | E60: 60928 | F60: Pkmn | G60: Ash Pikachu IV | H60: Pokemon Movie Prebooking: SatoPika | K60: x | L60: x | M60: x | N60: x | O60: M | P60: x | Q60: x | R60: x | S60: x | T60: Serial Code | U60: 1 | V60: 1 | AA60: 1 | AD60: =datevalue("2017-5-17") -> 42872 | AE60: - May 29, Aug 16 - 28, 2017 | AF60: =IF(OR($C60='Missing Wondercards'!$G$1,'Missing Wondercards'!$G$1="all")=TRUE,IF(SUM(AG60:AO60)>0,1,0),0) -> 0 | AG60: =IF(OR(K60="?",K60="Mx",K60="Fx",K60="Nilx",K60="Rx")=TRUE,1,0) -> 0 | AH60: =IF(OR(L60="?",L60="Mx",L60="Fx",L60="Nilx",L60="Rx")=TRUE,1,0) -> 0 | AI60: =IF(OR(M60="?",M60="Mx",M60="Fx",M60="Nilx",M60="Rx")=TRUE,1,0) -> 0 | AJ60: =IF(OR(N60="?",N60="Mx",N60="Fx",N60="Nilx",N60="Rx")=TRUE,1,0) -> 0 | AK60: =IF(OR(O60="?",O60="Mx",O60="Fx",O60="Nilx",O60="Rx")=TRUE,1,0) -> 0 | AL60: =IF(OR(P60="?",P60="Mx",P60="Fx",P60="Nilx",P60="Rx")=TRUE,1,0) -> 0 | AM60: =IF(OR(Q60="?",Q60="Mx",Q60="Fx",Q60="Nilx",Q60="Rx")=TRUE,1,0) -> 0 | AN60: =IF(OR(R60="?",R60="Mx",R60="Fx",R60="Nilx",R60="Rx")=TRUE,1,0) -> 0 | AO60: =IF(OR(S60="?",S60="Mx",S60="Fx",S60="Nilx",S60="Rx")=TRUE,1,0) -> 0
A61: 52 | C61: 2017 | D61: 223 | E61: 100923 | F61: Pkmn | G61: Ash Pikachu V | H61: Pokemon Movie Prebooking: SatoPika | K61: x | L61: x | M61: x | N61: x | O61: M | P61: x | Q61: x | R61: x | S61: x | T61: Serial Code | U61: 1 | V61: 1 | AA61: 1 | AD61: =datevalue("2017-5-31") -> 42886 | AE61: - Jun 12, Aug 30 - Sep 11, 2017 | AF61: =IF(OR($C61='Missing Wondercards'!$G$1,'Missing Wondercards'!$G$1="all")=TRUE,IF(SUM(AG61:AO61)>0,1,0),0) -> 0 | AG61: =IF(OR(K61="?",K61="Mx",K61="Fx",K61="Nilx",K61="Rx")=TRUE,1,0) -> 0 | AH61: =IF(OR(L61="?",L61="Mx",L61="Fx",L61="Nilx",L61="Rx")=TRUE,1,0) -> 0 | AI61: =IF(OR(M61="?",M61="Mx",M61="Fx",M61="Nilx",M61="Rx")=TRUE,1,0) -> 0 | AJ61: =IF(OR(N61="?",N61="Mx",N61="Fx",N61="Nilx",N61="Rx")=TRUE,1,0) -> 0 | AK61: =IF(OR(O61="?",O61="Mx",O61="Fx",O61="Nilx",O61="Rx")=TRUE,1,0) -> 0 | AL61: =IF(OR(P61="?",P61="Mx",P61="Fx",P61="Nilx",P61="Rx")=TRUE,1,0) -> 0 | AM61: =IF(OR(Q61="?",Q61="Mx",Q61="Fx",Q61="Nilx",Q61="Rx")=TRUE,1,0) -> 0 | AN61: =IF(OR(R61="?",R61="Mx",R61="Fx",R61="Nilx",R61="Rx")=TRUE,1,0) -> 0 | AO61: =IF(OR(S61="?",S61="Mx",S61="Fx",S61="Nilx",S61="Rx")=TRUE,1,0) -> 0
A62: 53 | C62: 2017 | D62: 223 | E62: 131017 | F62: Pkmn | G62: Ash Pikachu VI | H62: Pokemon Movie Prebooking: SatoPika | K62: x | L62: x | M62: x | N62: x | O62: M | P62: x | Q62: x | R62: x | S62: x | T62: Serial Code | U62: 1 | V62: 1 | AA62: 1 | AD62: =datevalue("2017-6-14") -> 42900 | AE62: - Jun 26, Sep 13 - 25, 2017 | AF62: =IF(OR($C62='Missing Wondercards'!$G$1,'Missing Wondercards'!$G$1="all")=TRUE,IF(SUM(AG62:AO62)>0,1,0),0) -> 0 | AG62: =IF(OR(K62="?",K62="Mx",K62="Fx",K62="Nilx",K62="Rx")=TRUE,1,0) -> 0 | AH62: =IF(OR(L62="?",L62="Mx",L62="Fx",L62="Nilx",L62="Rx")=TRUE,1,0) -> 0 | AI62: =IF(OR(M62="?",M62="Mx",M62="Fx",M62="Nilx",M62="Rx")=TRUE,1,0) -> 0 | AJ62: =IF(OR(N62="?",N62="Mx",N62="Fx",N62="Nilx",N62="Rx")=TRUE,1,0) -> 0 | AK62: =IF(OR(O62="?",O62="Mx",O62="Fx",O62="Nilx",O62="Rx")=TRUE,1,0) -> 0 | AL62: =IF(OR(P62="?",P62="Mx",P62="Fx",P62="Nilx",P62="Rx")=TRUE,1,0) -> 0 | AM62: =IF(OR(Q62="?",Q62="Mx",Q62="Fx",Q62="Nilx",Q62="Rx")=TRUE,1,0) -> 0 | AN62: =IF(OR(R62="?",R62="Mx",R62="Fx",R62="Nilx",R62="Rx")=TRUE,1,0) -> 0 | AO62: =IF(OR(S62="?",S62="Mx",S62="Fx",S62="Nilx",S62="Rx")=TRUE,1,0) -> 0
A63: 54 | C63: 2017 | D63: 223 | E63: 161117 | F63: Pkmn | G63: Ash Pikachu VII | H63: Pokemon Movie Prebooking: SatoPika | K63: x | L63: x | M63: x | N63: x | O63: M | P63: x | Q63: x | R63: x | S63: x | T63: Serial Code | U63: 1 | V63: 1 | AA63: 1 | AD63: =datevalue("2017-6-28") -> 42914 | AE63: - Jul 17, Sep 27 - Oct 8, 2017 | AF63: =IF(OR($C63='Missing Wondercards'!$G$1,'Missing Wondercards'!$G$1="all")=TRUE,IF(SUM(AG63:AO63)>0,1,0),0) -> 0 | AG63: =IF(OR(K63="?",K63="Mx",K63="Fx",K63="Nilx",K63="Rx")=TRUE,1,0) -> 0 | AH63: =IF(OR(L63="?",L63="Mx",L63="Fx",L63="Nilx",L63="Rx")=TRUE,1,0) -> 0 | AI63: =IF(OR(M63="?",M63="Mx",M63="Fx",M63="Nilx",M63="Rx")=TRUE,1,0) -> 0 | AJ63: =IF(OR(N63="?",N63="Mx",N63="Fx",N63="Nilx",N63="Rx")=TRUE,1,0) -> 0 | AK63: =IF(OR(O63="?",O63="Mx",O63="Fx",O63="Nilx",O63="Rx")=TRUE,1,0) -> 0 | AL63: =IF(OR(P63="?",P63="Mx",P63="Fx",P63="Nilx",P63="Rx")=TRUE,1,0) -> 0 | AM63: =IF(OR(Q63="?",Q63="Mx",Q63="Fx",Q63="Nilx",Q63="Rx")=TRUE,1,0) -> 0 | AN63: =IF(OR(R63="?",R63="Mx",R63="Fx",R63="Nilx",R63="Rx")=TRUE,1,0) -> 0 | AO63: =IF(OR(S63="?",S63="Mx",S63="Fx",S63="Nilx",S63="Rx")=TRUE,1,0) -> 0
A64: 55 | C64: 2017 | D64: 224 | E64: 565640 | F64: Pkmn | G64: Charizard | H64: Corocoro Poll Winner | K64: x | L64: x | M64: x | N64: x | O64: M | P64: x | Q64: x | R64: x | S64: x | T64: Serial Code | U64: 1 | V64: 1 | AA64: 1 | AD64: =datevalue("2017-3-15") -> 42809 | AE64: - May 14, 2017 | AF64: =IF(OR($C64='Missing Wondercards'!$G$1,'Missing Wondercards'!$G$1="all")=TRUE,IF(SUM(AG64:AO64)>0,1,0),0) -> 0 | AG64: =IF(OR(K64="?",K64="Mx",K64="Fx",K64="Nilx",K64="Rx")=TRUE,1,0) -> 0 | AH64: =IF(OR(L64="?",L64="Mx",L64="Fx",L64="Nilx",L64="Rx")=TRUE,1,0) -> 0 | AI64: =IF(OR(M64="?",M64="Mx",M64="Fx",M64="Nilx",M64="Rx")=TRUE,1,0) -> 0 | AJ64: =IF(OR(N64="?",N64="Mx",N64="Fx",N64="Nilx",N64="Rx")=TRUE,1,0) -> 0 | AK64: =IF(OR(O64="?",O64="Mx",O64="Fx",O64="Nilx",O64="Rx")=TRUE,1,0) -> 0 | AL64: =IF(OR(P64="?",P64="Mx",P64="Fx",P64="Nilx",P64="Rx")=TRUE,1,0) -> 0 | AM64: =IF(OR(Q64="?",Q64="Mx",Q64="Fx",Q64="Nilx",Q64="Rx")=TRUE,1,0) -> 0 | AN64: =IF(OR(R64="?",R64="Mx",R64="Fx",R64="Nilx",R64="Rx")=TRUE,1,0) -> 0 | AO64: =IF(OR(S64="?",S64="Mx",S64="Fx",S64="Nilx",S64="Rx")=TRUE,1,0) -> 0
A65: 56 | C65: 2017 | D65: 225 | E65: - | F65: BPs | G65: Battle Points | H65: Battle Event Battle Points | K65: x | L65: x | M65: x | N65: x | O65: Nil | P65: x | Q65: x | R65: x | S65: x | T65: Serial Code | U65: 1 | V65: 1 | AA65: 1 | AD65: =datevalue("2017-3-18") -> 42812 | AE65: - Oct 31, 2017 | AF65: =IF(OR($C65='Missing Wondercards'!$G$1,'Missing Wondercards'!$G$1="all")=TRUE,IF(SUM(AG65:AO65)>0,1,0),0) -> 0 | AG65: =IF(OR(K65="?",K65="Mx",K65="Fx",K65="Nilx",K65="Rx")=TRUE,1,0) -> 0 | AH65: =IF(OR(L65="?",L65="Mx",L65="Fx",L65="Nilx",L65="Rx")=TRUE,1,0) -> 0 | AI65: =IF(OR(M65="?",M65="Mx",M65="Fx",M65="Nilx",M65="Rx")=TRUE,1,0) -> 0 | AJ65: =IF(OR(N65="?",N65="Mx",N65="Fx",N65="Nilx",N65="Rx")=TRUE,1,0) -> 0 | AK65: =IF(OR(O65="?",O65="Mx",O65="Fx",O65="Nilx",O65="Rx")=TRUE,1,0) -> 0 | AL65: =IF(OR(P65="?",P65="Mx",P65="Fx",P65="Nilx",P65="Rx")=TRUE,1,0) -> 0 | AM65: =IF(OR(Q65="?",Q65="Mx",Q65="Fx",Q65="Nilx",Q65="Rx")=TRUE,1,0) -> 0 | AN65: =IF(OR(R65="?",R65="Mx",R65="Fx",R65="Nilx",R65="Rx")=TRUE,1,0) -> 0 | AO65: =IF(OR(S65="?",S65="Mx",S65="Fx",S65="Nilx",S65="Rx")=TRUE,1,0) -> 0
A66: 57 | C66: 2017 | D66: 227 | E66: 201703 | F66: Pkmn | G66: Pikachu | H66: 2017 Tohoku Pikachu | K66: x | L66: x | M66: x | N66: x | O66: R | P66: x | Q66: x | R66: x | S66: x | T66: Serial Code | U66: 1 | V66: 1 | AA66: 1 | AD66: =datevalue("2017-3-11") -> 42805 | AE66: - Mar 31, 2017 | AF66: =IF(OR($C66='Missing Wondercards'!$G$1,'Missing Wondercards'!$G$1="all")=TRUE,IF(SUM(AG66:AO66)>0,1,0),0) -> 0 | AG66: =IF(OR(K66="?",K66="Mx",K66="Fx",K66="Nilx",K66="Rx")=TRUE,1,0) -> 0 | AH66: =IF(OR(L66="?",L66="Mx",L66="Fx",L66="Nilx",L66="Rx")=TRUE,1,0) -> 0 | AI66: =IF(OR(M66="?",M66="Mx",M66="Fx",M66="Nilx",M66="Rx")=TRUE,1,0) -> 0 | AJ66: =IF(OR(N66="?",N66="Mx",N66="Fx",N66="Nilx",N66="Rx")=TRUE,1,0) -> 0 | AK66: =IF(OR(O66="?",O66="Mx",O66="Fx",O66="Nilx",O66="Rx")=TRUE,1,0) -> 0 | AL66: =IF(OR(P66="?",P66="Mx",P66="Fx",P66="Nilx",P66="Rx")=TRUE,1,0) -> 0 | AM66: =IF(OR(Q66="?",Q66="Mx",Q66="Fx",Q66="Nilx",Q66="Rx")=TRUE,1,0) -> 0 | AN66: =IF(OR(R66="?",R66="Mx",R66="Fx",R66="Nilx",R66="Rx")=TRUE,1,0) -> 0 | AO66: =IF(OR(S66="?",S66="Mx",S66="Fx",S66="Nilx",S66="Rx")=TRUE,1,0) -> 0
A67: 58 | C67: 2017 | D67: 228 | E67: 170715 | F67: Pkmn | G67: Marshadow | H67: 20th Movie Pokemon | K67: x | L67: x | M67: x | N67: x | O67: Nil | P67: x | Q67: x | R67: x | S67: x | T67: Local Wireless | U67: 1 | V67: 1 | Y67: 1 | Z67: 1 | AA67: 1 | AB67: 1 | AD67: =datevalue("2017-7-15") -> 42931 | AE67: - ? | AF67: =IF(OR($C67='Missing Wondercards'!$G$1,'Missing Wondercards'!$G$1="all")=TRUE,IF(SUM(AG67:AO67)>0,1,0),0) -> 0 | AG67: =IF(OR(K67="?",K67="Mx",K67="Fx",K67="Nilx",K67="Rx")=TRUE,1,0) -> 0 | AH67: =IF(OR(L67="?",L67="Mx",L67="Fx",L67="Nilx",L67="Rx")=TRUE,1,0) -> 0 | AI67: =IF(OR(M67="?",M67="Mx",M67="Fx",M67="Nilx",M67="Rx")=TRUE,1,0) -> 0 | AJ67: =IF(OR(N67="?",N67="Mx",N67="Fx",N67="Nilx",N67="Rx")=TRUE,1,0) -> 0 | AK67: =IF(OR(O67="?",O67="Mx",O67="Fx",O67="Nilx",O67="Rx")=TRUE,1,0) -> 0 | AL67: =IF(OR(P67="?",P67="Mx",P67="Fx",P67="Nilx",P67="Rx")=TRUE,1,0) -> 0 | AM67: =IF(OR(Q67="?",Q67="Mx",Q67="Fx",Q67="Nilx",Q67="Rx")=TRUE,1,0) -> 0 | AN67: =IF(OR(R67="?",R67="Mx",R67="Fx",R67="Nilx",R67="Rx")=TRUE,1,0) -> 0 | AO67: =IF(OR(S67="?",S67="Mx",S67="Fx",S67="Nilx",S67="Rx")=TRUE,1,0) -> 0
A68: 59 | C68: 2017 | D68: 230 | E68: 170503 | F68: Pkmn | G68: Espeon | H68: Eevee Colorful Friends Promotion | K68: x | L68: x | M68: x | N68: x | O68: F | P68: x | Q68: x | R68: x | S68: x | T68: Local Wireless | U68: 1 | V68: 1 | Y68: 1 | Z68: 1 | AA68: 1 | AB68: 1 | AD68: =datevalue("2017-5-13") -> 42868 | AE68: - Jun 23, 2017 | AF68: =IF(OR($C68='Missing Wondercards'!$G$1,'Missing Wondercards'!$G$1="all")=TRUE,IF(SUM(AG68:AO68)>0,1,0),0) -> 0 | AG68: =IF(OR(K68="?",K68="Mx",K68="Fx",K68="Nilx",K68="Rx")=TRUE,1,0) -> 0 | AH68: =IF(OR(L68="?",L68="Mx",L68="Fx",L68="Nilx",L68="Rx")=TRUE,1,0) -> 0 | AI68: =IF(OR(M68="?",M68="Mx",M68="Fx",M68="Nilx",M68="Rx")=TRUE,1,0) -> 0 | AJ68: =IF(OR(N68="?",N68="Mx",N68="Fx",N68="Nilx",N68="Rx")=TRUE,1,0) -> 0 | AK68: =IF(OR(O68="?",O68="Mx",O68="Fx",O68="Nilx",O68="Rx")=TRUE,1,0) -> 0 | AL68: =IF(OR(P68="?",P68="Mx",P68="Fx",P68="Nilx",P68="Rx")=TRUE,1,0) -> 0 | AM68: =IF(OR(Q68="?",Q68="Mx",Q68="Fx",Q68="Nilx",Q68="Rx")=TRUE,1,0) -> 0 | AN68: =IF(OR(R68="?",R68="Mx",R68="Fx",R68="Nilx",R68="Rx")=TRUE,1,0) -> 0 | AO68: =IF(OR(S68="?",S68="Mx",S68="Fx",S68="Nilx",S68="Rx")=TRUE,1,0) -> 0
A69: 60 | C69: 2017 | D69: 230 | E69: 170503 | F69: Pkmn | G69: Flareon | H69: Eevee Colorful Friends Promotion | K69: x | L69: x | M69: x | N69: x | O69: F | P69: x | Q69: x | R69: x | S69: x | T69: Local Wireless | U69: 1 | V69: 1 | Y69: 1 | Z69: 1 | AA69: 1 | AB69: 1 | AD69: =datevalue("2017-5-13") -> 42868 | AE69: - Jun 23, 2017 | AF69: =IF(OR($C69='Missing Wondercards'!$G$1,'Missing Wondercards'!$G$1="all")=TRUE,IF(SUM(AG69:AO69)>0,1,0),0) -> 0 | AG69: =IF(OR(K69="?",K69="Mx",K69="Fx",K69="Nilx",K69="Rx")=TRUE,1,0) -> 0 | AH69: =IF(OR(L69="?",L69="Mx",L69="Fx",L69="Nilx",L69="Rx")=TRUE,1,0) -> 0 | AI69: =IF(OR(M69="?",M69="Mx",M69="Fx",M69="Nilx",M69="Rx")=TRUE,1,0) -> 0 | AJ69: =IF(OR(N69="?",N69="Mx",N69="Fx",N69="Nilx",N69="Rx")=TRUE,1,0) -> 0 | AK69: =IF(OR(O69="?",O69="Mx",O69="Fx",O69="Nilx",O69="Rx")=TRUE,1,0) -> 0 | AL69: =IF(OR(P69="?",P69="Mx",P69="Fx",P69="Nilx",P69="Rx")=TRUE,1,0) -> 0 | AM69: =IF(OR(Q69="?",Q69="Mx",Q69="Fx",Q69="Nilx",Q69="Rx")=TRUE,1,0) -> 0 | AN69: =IF(OR(R69="?",R69="Mx",R69="Fx",R69="Nilx",R69="Rx")=TRUE,1,0) -> 0 | AO69: =IF(OR(S69="?",S69="Mx",S69="Fx",S69="Nilx",S69="Rx")=TRUE,1,0) -> 0
A70: 61 | C70: 2017 | D70: 230 | E70: 170503 | F70: Pkmn | G70: Glaceon | H70: Eevee Colorful Friends Promotion | K70: x | L70: x | M70: x | N70: x | O70: F | P70: x | Q70: x | R70: x | S70: x | T70: Local Wireless | U70: 1 | V70: 1 | Y70: 1 | Z70: 1 | AA70: 1 | AB70: 1 | AD70: =datevalue("2017-5-13") -> 42868 | AE70: - Jun 23, 2017 | AF70: =IF(OR($C70='Missing Wondercards'!$G$1,'Missing Wondercards'!$G$1="all")=TRUE,IF(SUM(AG70:AO70)>0,1,0),0) -> 0 | AG70: =IF(OR(K70="?",K70="Mx",K70="Fx",K70="Nilx",K70="Rx")=TRUE,1,0) -> 0 | AH70: =IF(OR(L70="?",L70="Mx",L70="Fx",L70="Nilx",L70="Rx")=TRUE,1,0) -> 0 | AI70: =IF(OR(M70="?",M70="Mx",M70="Fx",M70="Nilx",M70="Rx")=TRUE,1,0) -> 0 | AJ70: =IF(OR(N70="?",N70="Mx",N70="Fx",N70="Nilx",N70="Rx")=TRUE,1,0) -> 0 | AK70: =IF(OR(O70="?",O70="Mx",O70="Fx",O70="Nilx",O70="Rx")=TRUE,1,0) -> 0 | AL70: =IF(OR(P70="?",P70="Mx",P70="Fx",P70="Nilx",P70="Rx")=TRUE,1,0) -> 0 | AM70: =IF(OR(Q70="?",Q70="Mx",Q70="Fx",Q70="Nilx",Q70="Rx")=TRUE,1,0) -> 0 | AN70: =IF(OR(R70="?",R70="Mx",R70="Fx",R70="Nilx",R70="Rx")=TRUE,1,0) -> 0 | AO70: =IF(OR(S70="?",S70="Mx",S70="Fx",S70="Nilx",S70="Rx")=TRUE,1,0) -> 0
A71: 62 | C71: 2017 | D71: 230 | E71: 170503 | F71: Pkmn | G71: Jolteon | H71: Eevee Colorful Friends Promotion | K71: x | L71: x | M71: x | N71: x | O71: F | P71: x | Q71: x | R71: x | S71: x | T71: Local Wireless | U71: 1 | V71: 1 | Y71: 1 | Z71: 1 | AA71: 1 | AB71: 1 | AD71: =datevalue("2017-5-13") -> 42868 | AE71: - Jun 23, 2017 | AF71: =IF(OR($C71='Missing Wondercards'!$G$1,'Missing Wondercards'!$G$1="all")=TRUE,IF(SUM(AG71:AO71)>0,1,0),0) -> 0 | AG71: =IF(OR(K71="?",K71="Mx",K71="Fx",K71="Nilx",K71="Rx")=TRUE,1,0) -> 0 | AH71: =IF(OR(L71="?",L71="Mx",L71="Fx",L71="Nilx",L71="Rx")=TRUE,1,0) -> 0 | AI71: =IF(OR(M71="?",M71="Mx",M71="Fx",M71="Nilx",M71="Rx")=TRUE,1,0) -> 0 | AJ71: =IF(OR(N71="?",N71="Mx",N71="Fx",N71="Nilx",N71="Rx")=TRUE,1,0) -> 0 | AK71: =IF(OR(O71="?",O71="Mx",O71="Fx",O71="Nilx",O71="Rx")=TRUE,1,0) -> 0 | AL71: =IF(OR(P71="?",P71="Mx",P71="Fx",P71="Nilx",P71="Rx")=TRUE,1,0) -> 0 | AM71: =IF(OR(Q71="?",Q71="Mx",Q71="Fx",Q71="Nilx",Q71="Rx")=TRUE,1,0) -> 0 | AN71: =IF(OR(R71="?",R71="Mx",R71="Fx",R71="Nilx",R71="Rx")=TRUE,1,0) -> 0 | AO71: =IF(OR(S71="?",S71="Mx",S71="Fx",S71="Nilx",S71="Rx")=TRUE,1,0) -> 0
A72: 63 | C72: 2017 | D72: 230 | E72: 170503 | F72: Pkmn | G72: Leafeon | H72: Eevee Colorful Friends Promotion | K72: x | L72: x | M72: x | N72: x | O72: F | P72: x | Q72: x | R72: x | S72: x | T72: Local Wireless | U72: 1 | V72: 1 | Y72: 1 | Z72: 1 | AA72: 1 | AB72: 1 | AD72: =datevalue("2017-5-13") -> 42868 | AE72: - Jun 23, 2017 | AF72: =IF(OR($C72='Missing Wondercards'!$G$1,'Missing Wondercards'!$G$1="all")=TRUE,IF(SUM(AG72:AO72)>0,1,0),0) -> 0 | AG72: =IF(OR(K72="?",K72="Mx",K72="Fx",K72="Nilx",K72="Rx")=TRUE,1,0) -> 0 | AH72: =IF(OR(L72="?",L72="Mx",L72="Fx",L72="Nilx",L72="Rx")=TRUE,1,0) -> 0 | AI72: =IF(OR(M72="?",M72="Mx",M72="Fx",M72="Nilx",M72="Rx")=TRUE,1,0) -> 0 | AJ72: =IF(OR(N72="?",N72="Mx",N72="Fx",N72="Nilx",N72="Rx")=TRUE,1,0) -> 0 | AK72: =IF(OR(O72="?",O72="Mx",O72="Fx",O72="Nilx",O72="Rx")=TRUE,1,0) -> 0 | AL72: =IF(OR(P72="?",P72="Mx",P72="Fx",P72="Nilx",P72="Rx")=TRUE,1,0) -> 0 | AM72: =IF(OR(Q72="?",Q72="Mx",Q72="Fx",Q72="Nilx",Q72="Rx")=TRUE,1,0) -> 0 | AN72: =IF(OR(R72="?",R72="Mx",R72="Fx",R72="Nilx",R72="Rx")=TRUE,1,0) -> 0 | AO72: =IF(OR(S72="?",S72="Mx",S72="Fx",S72="Nilx",S72="Rx")=TRUE,1,0) -> 0
A73: 64 | C73: 2017 | D73: 230 | E73: 170503 | F73: Pkmn | G73: Sylveon | H73: Eevee Colorful Friends Promotion | K73: x | L73: x | M73: x | N73: x | O73: F | P73: x | Q73: x | R73: x | S73: x | T73: Local Wireless | U73: 1 | V73: 1 | Y73: 1 | Z73: 1 | AA73: 1 | AB73: 1 | AD73: =datevalue("2017-5-13") -> 42868 | AE73: - Jun 23, 2017 | AF73: =IF(OR($C73='Missing Wondercards'!$G$1,'Missing Wondercards'!$G$1="all")=TRUE,IF(SUM(AG73:AO73)>0,1,0),0) -> 0 | AG73: =IF(OR(K73="?",K73="Mx",K73="Fx",K73="Nilx",K73="Rx")=TRUE,1,0) -> 0 | AH73: =IF(OR(L73="?",L73="Mx",L73="Fx",L73="Nilx",L73="Rx")=TRUE,1,0) -> 0 | AI73: =IF(OR(M73="?",M73="Mx",M73="Fx",M73="Nilx",M73="Rx")=TRUE,1,0) -> 0 | AJ73: =IF(OR(N73="?",N73="Mx",N73="Fx",N73="Nilx",N73="Rx")=TRUE,1,0) -> 0 | AK73: =IF(OR(O73="?",O73="Mx",O73="Fx",O73="Nilx",O73="Rx")=TRUE,1,0) -> 0 | AL73: =IF(OR(P73="?",P73="Mx",P73="Fx",P73="Nilx",P73="Rx")=TRUE,1,0) -> 0 | AM73: =IF(OR(Q73="?",Q73="Mx",Q73="Fx",Q73="Nilx",Q73="Rx")=TRUE,1,0) -> 0 | AN73: =IF(OR(R73="?",R73="Mx",R73="Fx",R73="Nilx",R73="Rx")=TRUE,1,0) -> 0 | AO73: =IF(OR(S73="?",S73="Mx",S73="Fx",S73="Nilx",S73="Rx")=TRUE,1,0) -> 0
A74: 65 | C74: 2017 | D74: 230 | E74: 170503 | F74: Pkmn | G74: Umbreon | H74: Eevee Colorful Friends Promotion | K74: x | L74: x | M74: x | N74: x | O74: F | P74: x | Q74: x | R74: x | S74: x | T74: Local Wireless | U74: 1 | V74: 1 | Y74: 1 | Z74: 1 | AA74: 1 | AB74: 1 | AD74: =datevalue("2017-5-13") -> 42868 | AE74: - Jun 23, 2017 | AF74: =IF(OR($C74='Missing Wondercards'!$G$1,'Missing Wondercards'!$G$1="all")=TRUE,IF(SUM(AG74:AO74)>0,1,0),0) -> 0 | AG74: =IF(OR(K74="?",K74="Mx",K74="Fx",K74="Nilx",K74="Rx")=TRUE,1,0) -> 0 | AH74: =IF(OR(L74="?",L74="Mx",L74="Fx",L74="Nilx",L74="Rx")=TRUE,1,0) -> 0 | AI74: =IF(OR(M74="?",M74="Mx",M74="Fx",M74="Nilx",M74="Rx")=TRUE,1,0) -> 0 | AJ74: =IF(OR(N74="?",N74="Mx",N74="Fx",N74="Nilx",N74="Rx")=TRUE,1,0) -> 0 | AK74: =IF(OR(O74="?",O74="Mx",O74="Fx",O74="Nilx",O74="Rx")=TRUE,1,0) -> 0 | AL74: =IF(OR(P74="?",P74="Mx",P74="Fx",P74="Nilx",P74="Rx")=TRUE,1,0) -> 0 | AM74: =IF(OR(Q74="?",Q74="Mx",Q74="Fx",Q74="Nilx",Q74="Rx")=TRUE,1,0) -> 0 | AN74: =IF(OR(R74="?",R74="Mx",R74="Fx",R74="Nilx",R74="Rx")=TRUE,1,0) -> 0 | AO74: =IF(OR(S74="?",S74="Mx",S74="Fx",S74="Nilx",S74="Rx")=TRUE,1,0) -> 0
A75: 66 | C75: 2017 | D75: 230 | E75: 170503 | F75: Pkmn | G75: Vaporeon | H75: Eevee Colorful Friends Promotion | K75: x | L75: x | M75: x | N75: x | O75: F | P75: x | Q75: x | R75: x | S75: x | T75: Local Wireless | U75: 1 | V75: 1 | Y75: 1 | Z75: 1 | AA75: 1 | AB75: 1 | AD75: =datevalue("2017-5-13") -> 42868 | AE75: - Jun 23, 2017 | AF75: =IF(OR($C75='Missing Wondercards'!$G$1,'Missing Wondercards'!$G$1="all")=TRUE,IF(SUM(AG75:AO75)>0,1,0),0) -> 0 | AG75: =IF(OR(K75="?",K75="Mx",K75="Fx",K75="Nilx",K75="Rx")=TRUE,1,0) -> 0 | AH75: =IF(OR(L75="?",L75="Mx",L75="Fx",L75="Nilx",L75="Rx")=TRUE,1,0) -> 0 | AI75: =IF(OR(M75="?",M75="Mx",M75="Fx",M75="Nilx",M75="Rx")=TRUE,1,0) -> 0 | AJ75: =IF(OR(N75="?",N75="Mx",N75="Fx",N75="Nilx",N75="Rx")=TRUE,1,0) -> 0 | AK75: =IF(OR(O75="?",O75="Mx",O75="Fx",O75="Nilx",O75="Rx")=TRUE,1,0) -> 0 | AL75: =IF(OR(P75="?",P75="Mx",P75="Fx",P75="Nilx",P75="Rx")=TRUE,1,0) -> 0 | AM75: =IF(OR(Q75="?",Q75="Mx",Q75="Fx",Q75="Nilx",Q75="Rx")=TRUE,1,0) -> 0 | AN75: =IF(OR(R75="?",R75="Mx",R75="Fx",R75="Nilx",R75="Rx")=TRUE,1,0) -> 0 | AO75: =IF(OR(S75="?",S75="Mx",S75="Fx",S75="Nilx",S75="Rx")=TRUE,1,0) -> 0
A76: 67 | C76: 2017 | D76: 231 | E76: 170630 | F76: Pkmn | G76: Victini | H76: Pokemon Center Tohoku Reopening Gift | K76: x | L76: x | M76: x | N76: x | O76: Nil | P76: x | Q76: x | R76: x | S76: x | T76: Local Wireless | U76: 1 | V76: 1 | Y76: 1 | Z76: 1 | AA76: 1 | AB76: 1 | AD76: =datevalue("2017-6-30") -> 42916 | AE76: - Sep 03, 2017 | AF76: =IF(OR($C76='Missing Wondercards'!$G$1,'Missing Wondercards'!$G$1="all")=TRUE,IF(SUM(AG76:AO76)>0,1,0),0) -> 0 | AG76: =IF(OR(K76="?",K76="Mx",K76="Fx",K76="Nilx",K76="Rx")=TRUE,1,0) -> 0 | AH76: =IF(OR(L76="?",L76="Mx",L76="Fx",L76="Nilx",L76="Rx")=TRUE,1,0) -> 0 | AI76: =IF(OR(M76="?",M76="Mx",M76="Fx",M76="Nilx",M76="Rx")=TRUE,1,0) -> 0 | AJ76: =IF(OR(N76="?",N76="Mx",N76="Fx",N76="Nilx",N76="Rx")=TRUE,1,0) -> 0 | AK76: =IF(OR(O76="?",O76="Mx",O76="Fx",O76="Nilx",O76="Rx")=TRUE,1,0) -> 0 | AL76: =IF(OR(P76="?",P76="Mx",P76="Fx",P76="Nilx",P76="Rx")=TRUE,1,0) -> 0 | AM76: =IF(OR(Q76="?",Q76="Mx",Q76="Fx",Q76="Nilx",Q76="Rx")=TRUE,1,0) -> 0 | AN76: =IF(OR(R76="?",R76="Mx",R76="Fx",R76="Nilx",R76="Rx")=TRUE,1,0) -> 0 | AO76: =IF(OR(S76="?",S76="Mx",S76="Fx",S76="Nilx",S76="Rx")=TRUE,1,0) -> 0
A77: 68 | C77: 2017 | D77: 233 | E77: 170428 | F77: Pkmn | G77: Tapu Koko | H77: HKTW Shiny Tapu Koko | K77: Nil | L77: x | M77: x | N77: x | O77: x | P77: x | Q77: x | R77: x | S77: x | T77: Serial Code | U77: 1 | V77: 1 | Z77: 1 | AA77: 1 | AD77: =datevalue("2017-4-28") -> 42853 | AE77: - Jun 30, 2017 | AF77: =IF(OR($C77='Missing Wondercards'!$G$1,'Missing Wondercards'!$G$1="all")=TRUE,IF(SUM(AG77:AO77)>0,1,0),0) -> 0 | AG77: =IF(OR(K77="?",K77="Mx",K77="Fx",K77="Nilx",K77="Rx")=TRUE,1,0) -> 0 | AH77: =IF(OR(L77="?",L77="Mx",L77="Fx",L77="Nilx",L77="Rx")=TRUE,1,0) -> 0 | AI77: =IF(OR(M77="?",M77="Mx",M77="Fx",M77="Nilx",M77="Rx")=TRUE,1,0) -> 0 | AJ77: =IF(OR(N77="?",N77="Mx",N77="Fx",N77="Nilx",N77="Rx")=TRUE,1,0) -> 0 | AK77: =IF(OR(O77="?",O77="Mx",O77="Fx",O77="Nilx",O77="Rx")=TRUE,1,0) -> 0 | AL77: =IF(OR(P77="?",P77="Mx",P77="Fx",P77="Nilx",P77="Rx")=TRUE,1,0) -> 0 | AM77: =IF(OR(Q77="?",Q77="Mx",Q77="Fx",Q77="Nilx",Q77="Rx")=TRUE,1,0) -> 0 | AN77: =IF(OR(R77="?",R77="Mx",R77="Fx",R77="Nilx",R77="Rx")=TRUE,1,0) -> 0 | AO77: =IF(OR(S77="?",S77="Mx",S77="Fx",S77="Nilx",S77="Rx")=TRUE,1,0) -> 0
A78: 69 | C78: 2017 | D78: 234 | E78: 170617 | F78: Pkmn | G78: Steenee | H78: Japanese Anime Pokemon | K78: x | L78: x | M78: x | N78: x | O78: F | P78: x | Q78: x | R78: x | S78: x | T78: Serial Code | U78: 1 | V78: 1 | AA78: 1 | AD78: =datevalue("2017-6-17") -> 42903 | AE78: - Jun 25, 2017 | AF78: =IF(OR($C78='Missing Wondercards'!$G$1,'Missing Wondercards'!$G$1="all")=TRUE,IF(SUM(AG78:AO78)>0,1,0),0) -> 0 | AG78: =IF(OR(K78="?",K78="Mx",K78="Fx",K78="Nilx",K78="Rx")=TRUE,1,0) -> 0 | AH78: =IF(OR(L78="?",L78="Mx",L78="Fx",L78="Nilx",L78="Rx")=TRUE,1,0) -> 0 | AI78: =IF(OR(M78="?",M78="Mx",M78="Fx",M78="Nilx",M78="Rx")=TRUE,1,0) -> 0 | AJ78: =IF(OR(N78="?",N78="Mx",N78="Fx",N78="Nilx",N78="Rx")=TRUE,1,0) -> 0 | AK78: =IF(OR(O78="?",O78="Mx",O78="Fx",O78="Nilx",O78="Rx")=TRUE,1,0) -> 0 | AL78: =IF(OR(P78="?",P78="Mx",P78="Fx",P78="Nilx",P78="Rx")=TRUE,1,0) -> 0 | AM78: =IF(OR(Q78="?",Q78="Mx",Q78="Fx",Q78="Nilx",Q78="Rx")=TRUE,1,0) -> 0 | AN78: =IF(OR(R78="?",R78="Mx",R78="Fx",R78="Nilx",R78="Rx")=TRUE,1,0) -> 0 | AO78: =IF(OR(S78="?",S78="Mx",S78="Fx",S78="Nilx",S78="Rx")=TRUE,1,0) -> 0
A79: 70 | C79: 2017 | D79: 235 | E79: 170626 | F79: Pkmn | G79: Turtonator | H79: Japanese Anime Pokemon | K79: x | L79: x | M79: x | N79: x | O79: M | P79: x | Q79: x | R79: x | S79: x | T79: Serial Code | U79: 1 | V79: 1 | AA79: 1 | AD79: =datevalue("2017-6-26") -> 42912 | AE79: - Jul 04, 2017 | AF79: =IF(OR($C79='Missing Wondercards'!$G$1,'Missing Wondercards'!$G$1="all")=TRUE,IF(SUM(AG79:AO79)>0,1,0),0) -> 0 | AG79: =IF(OR(K79="?",K79="Mx",K79="Fx",K79="Nilx",K79="Rx")=TRUE,1,0) -> 0 | AH79: =IF(OR(L79="?",L79="Mx",L79="Fx",L79="Nilx",L79="Rx")=TRUE,1,0) -> 0 | AI79: =IF(OR(M79="?",M79="Mx",M79="Fx",M79="Nilx",M79="Rx")=TRUE,1,0) -> 0 | AJ79: =IF(OR(N79="?",N79="Mx",N79="Fx",N79="Nilx",N79="Rx")=TRUE,1,0) -> 0 | AK79: =IF(OR(O79="?",O79="Mx",O79="Fx",O79="Nilx",O79="Rx")=TRUE,1,0) -> 0 | AL79: =IF(OR(P79="?",P79="Mx",P79="Fx",P79="Nilx",P79="Rx")=TRUE,1,0) -> 0 | AM79: =IF(OR(Q79="?",Q79="Mx",Q79="Fx",Q79="Nilx",Q79="Rx")=TRUE,1,0) -> 0 | AN79: =IF(OR(R79="?",R79="Mx",R79="Fx",R79="Nilx",R79="Rx")=TRUE,1,0) -> 0 | AO79: =IF(OR(S79="?",S79="Mx",S79="Fx",S79="Nilx",S79="Rx")=TRUE,1,0) -> 0
A80: 71 | C80: 2017 | D80: 236 | E80: 170705 | F80: Pkmn | G80: Vulpix (Alolan) | H80: Japanese Anime Pokemon | K80: x | L80: x | M80: x | N80: x | O80: F | P80: x | Q80: x | R80: x | S80: x | T80: Serial Code | U80: 1 | V80: 1 | AA80: 1 | AD80: =datevalue("2017-7-5") -> 42921 | AE80: - Jul 14, 2017 | AF80: =IF(OR($C80='Missing Wondercards'!$G$1,'Missing Wondercards'!$G$1="all")=TRUE,IF(SUM(AG80:AO80)>0,1,0),0) -> 0 | AG80: =IF(OR(K80="?",K80="Mx",K80="Fx",K80="Nilx",K80="Rx")=TRUE,1,0) -> 0 | AH80: =IF(OR(L80="?",L80="Mx",L80="Fx",L80="Nilx",L80="Rx")=TRUE,1,0) -> 0 | AI80: =IF(OR(M80="?",M80="Mx",M80="Fx",M80="Nilx",M80="Rx")=TRUE,1,0) -> 0 | AJ80: =IF(OR(N80="?",N80="Mx",N80="Fx",N80="Nilx",N80="Rx")=TRUE,1,0) -> 0 | AK80: =IF(OR(O80="?",O80="Mx",O80="Fx",O80="Nilx",O80="Rx")=TRUE,1,0) -> 0 | AL80: =IF(OR(P80="?",P80="Mx",P80="Fx",P80="Nilx",P80="Rx")=TRUE,1,0) -> 0 | AM80: =IF(OR(Q80="?",Q80="Mx",Q80="Fx",Q80="Nilx",Q80="Rx")=TRUE,1,0) -> 0 | AN80: =IF(OR(R80="?",R80="Mx",R80="Fx",R80="Nilx",R80="Rx")=TRUE,1,0) -> 0 | AO80: =IF(OR(S80="?",S80="Mx",S80="Fx",S80="Nilx",S80="Rx")=TRUE,1,0) -> 0
A81: 72 | C81: 2017 | D81: 599 | E81: - | F81: Item | G81: Bottle Cap | H81: US and EU TCG Sun Moon Release (separate) | K81: Nil | L81: Nil | M81: Nil | N81: Nil | O81: x | P81: x | Q81: Nil | R81: x | S81: x | T81: Serial Code | U81: 1 | V81: 1 | Y81: 1 | Z81: 1 | AD81: =datevalue("2017-2-3") -> 42769 | AE81: - Mar 9, 2017 | AF81: =IF(OR($C81='Missing Wondercards'!$G$1,'Missing Wondercards'!$G$1="all")=TRUE,IF(SUM(AG81:AO81)>0,1,0),0) -> 0 | AG81: =IF(OR(K81="?",K81="Mx",K81="Fx",K81="Nilx",K81="Rx")=TRUE,1,0) -> 0 | AH81: =IF(OR(L81="?",L81="Mx",L81="Fx",L81="Nilx",L81="Rx")=TRUE,1,0) -> 0 | AI81: =IF(OR(M81="?",M81="Mx",M81="Fx",M81="Nilx",M81="Rx")=TRUE,1,0) -> 0 | AJ81: =IF(OR(N81="?",N81="Mx",N81="Fx",N81="Nilx",N81="Rx")=TRUE,1,0) -> 0 | AK81: =IF(OR(O81="?",O81="Mx",O81="Fx",O81="Nilx",O81="Rx")=TRUE,1,0) -> 0 | AL81: =IF(OR(P81="?",P81="Mx",P81="Fx",P81="Nilx",P81="Rx")=TRUE,1,0) -> 0 | AM81: =IF(OR(Q81="?",Q81="Mx",Q81="Fx",Q81="Nilx",Q81="Rx")=TRUE,1,0) -> 0 | AN81: =IF(OR(R81="?",R81="Mx",R81="Fx",R81="Nilx",R81="Rx")=TRUE,1,0) -> 0 | AO81: =IF(OR(S81="?",S81="Mx",S81="Fx",S81="Nilx",S81="Rx")=TRUE,1,0) -> 0
A82: 73 | C82: 2017 | D82: 606 | E82: 51517 | F82: Pkmn | G82: Lycanroc (Midnight) | H82: Guardian Rising No Guard Lycanroc (EU) | K82: R | L82: R | M82: R | N82: R | O82: x | P82: x | Q82: R | R82: x | S82: x | T82: Serial Code | U82: 1 | V82: 1 | Y82: 1 | Z82: 1 | AD82: =datevalue("2017-5-5") -> 42860 | AE82: - Aug 04, 2017 | AF82: =IF(OR($C82='Missing Wondercards'!$G$1,'Missing Wondercards'!$G$1="all")=TRUE,IF(SUM(AG82:AO82)>0,1,0),0) -> 0 | AG82: =IF(OR(K82="?",K82="Mx",K82="Fx",K82="Nilx",K82="Rx")=TRUE,1,0) -> 0 | AH82: =IF(OR(L82="?",L82="Mx",L82="Fx",L82="Nilx",L82="Rx")=TRUE,1,0) -> 0 | AI82: =IF(OR(M82="?",M82="Mx",M82="Fx",M82="Nilx",M82="Rx")=TRUE,1,0) -> 0 | AJ82: =IF(OR(N82="?",N82="Mx",N82="Fx",N82="Nilx",N82="Rx")=TRUE,1,0) -> 0 | AK82: =IF(OR(O82="?",O82="Mx",O82="Fx",O82="Nilx",O82="Rx")=TRUE,1,0) -> 0 | AL82: =IF(OR(P82="?",P82="Mx",P82="Fx",P82="Nilx",P82="Rx")=TRUE,1,0) -> 0 | AM82: =IF(OR(Q82="?",Q82="Mx",Q82="Fx",Q82="Nilx",Q82="Rx")=TRUE,1,0) -> 0 | AN82: =IF(OR(R82="?",R82="Mx",R82="Fx",R82="Nilx",R82="Rx")=TRUE,1,0) -> 0 | AO82: =IF(OR(S82="?",S82="Mx",S82="Fx",S82="Nilx",S82="Rx")=TRUE,1,0) -> 0
A83: 74 | C83: 2017 | D83: 615 | E83: 63017 | F83: Pkmn | G83: Arcanine | H83: International Championship @ Indiana | K83: R | L83: x | M83: x | N83: x | O83: x | P83: x | Q83: x | R83: x | S83: x | T83: Local Wireless | U83: 1 | V83: 1 | Y83: 1 | Z83: 1 | AA83: 1 | AB83: 1 | AD83: =datevalue("2017-6-30") -> 42916 | AE83: - Jul 02, 2017 | AF83: =IF(OR($C83='Missing Wondercards'!$G$1,'Missing Wondercards'!$G$1="all")=TRUE,IF(SUM(AG83:AO83)>0,1,0),0) -> 0 | AG83: =IF(OR(K83="?",K83="Mx",K83="Fx",K83="Nilx",K83="Rx")=TRUE,1,0) -> 0 | AH83: =IF(OR(L83="?",L83="Mx",L83="Fx",L83="Nilx",L83="Rx")=TRUE,1,0) -> 0 | AI83: =IF(OR(M83="?",M83="Mx",M83="Fx",M83="Nilx",M83="Rx")=TRUE,1,0) -> 0 | AJ83: =IF(OR(N83="?",N83="Mx",N83="Fx",N83="Nilx",N83="Rx")=TRUE,1,0) -> 0 | AK83: =IF(OR(O83="?",O83="Mx",O83="Fx",O83="Nilx",O83="Rx")=TRUE,1,0) -> 0 | AL83: =IF(OR(P83="?",P83="Mx",P83="Fx",P83="Nilx",P83="Rx")=TRUE,1,0) -> 0 | AM83: =IF(OR(Q83="?",Q83="Mx",Q83="Fx",Q83="Nilx",Q83="Rx")=TRUE,1,0) -> 0 | AN83: =IF(OR(R83="?",R83="Mx",R83="Fx",R83="Nilx",R83="Rx")=TRUE,1,0) -> 0 | AO83: =IF(OR(S83="?",S83="Mx",S83="Fx",S83="Nilx",S83="Rx")=TRUE,1,0) -> 0
A84: 75 | C84: 2017 | D84: 1103 | E84: - | F84: Item | G84: Max Revive | H84: Korean Times Square Event | K84: x | L84: x | M84: x | N84: x | O84: x | P84: Nil | Q84: x | R84: x | S84: x | T84: Infrared | U84: 1 | V84: 1 | Y84: 1 | Z84: 1 | AA84: 1 | AB84: 1 | AD84: =datevalue("2017-3-18") -> 42812 | AE84: - Mar 19, 2017 | AF84: =IF(OR($C84='Missing Wondercards'!$G$1,'Missing Wondercards'!$G$1="all")=TRUE,IF(SUM(AG84:AO84)>0,1,0),0) -> 0 | AG84: =IF(OR(K84="?",K84="Mx",K84="Fx",K84="Nilx",K84="Rx")=TRUE,1,0) -> 0 | AH84: =IF(OR(L84="?",L84="Mx",L84="Fx",L84="Nilx",L84="Rx")=TRUE,1,0) -> 0 | AI84: =IF(OR(M84="?",M84="Mx",M84="Fx",M84="Nilx",M84="Rx")=TRUE,1,0) -> 0 | AJ84: =IF(OR(N84="?",N84="Mx",N84="Fx",N84="Nilx",N84="Rx")=TRUE,1,0) -> 0 | AK84: =IF(OR(O84="?",O84="Mx",O84="Fx",O84="Nilx",O84="Rx")=TRUE,1,0) -> 0 | AL84: =IF(OR(P84="?",P84="Mx",P84="Fx",P84="Nilx",P84="Rx")=TRUE,1,0) -> 0 | AM84: =IF(OR(Q84="?",Q84="Mx",Q84="Fx",Q84="Nilx",Q84="Rx")=TRUE,1,0) -> 0 | AN84: =IF(OR(R84="?",R84="Mx",R84="Fx",R84="Nilx",R84="Rx")=TRUE,1,0) -> 0 | AO84: =IF(OR(S84="?",S84="Mx",S84="Fx",S84="Nilx",S84="Rx")=TRUE,1,0) -> 0
A85: 76 | C85: 2017 | D85: 1105 | E85: 170408 | F85: Pkmn | G85: Tapu Koko | H85: Melemele Shiny Tapu Koko | K85: x | L85: x | M85: x | N85: x | O85: x | P85: Nil | Q85: x | R85: x | S85: x | T85: Infrared | U85: 1 | V85: 1 | Y85: 1 | Z85: 1 | AA85: 1 | AB85: 1 | AD85: =datevalue("2017-4-8") -> 42833 | AE85: - Apr 9, 2017 | AF85: =IF(OR($C85='Missing Wondercards'!$G$1,'Missing Wondercards'!$G$1="all")=TRUE,IF(SUM(AG85:AO85)>0,1,0),0) -> 0 | AG85: =IF(OR(K85="?",K85="Mx",K85="Fx",K85="Nilx",K85="Rx")=TRUE,1,0) -> 0 | AH85: =IF(OR(L85="?",L85="Mx",L85="Fx",L85="Nilx",L85="Rx")=TRUE,1,0) -> 0 | AI85: =IF(OR(M85="?",M85="Mx",M85="Fx",M85="Nilx",M85="Rx")=TRUE,1,0) -> 0 | AJ85: =IF(OR(N85="?",N85="Mx",N85="Fx",N85="Nilx",N85="Rx")=TRUE,1,0) -> 0 | AK85: =IF(OR(O85="?",O85="Mx",O85="Fx",O85="Nilx",O85="Rx")=TRUE,1,0) -> 0 | AL85: =IF(OR(P85="?",P85="Mx",P85="Fx",P85="Nilx",P85="Rx")=TRUE,1,0) -> 0 | AM85: =IF(OR(Q85="?",Q85="Mx",Q85="Fx",Q85="Nilx",Q85="Rx")=TRUE,1,0) -> 0 | AN85: =IF(OR(R85="?",R85="Mx",R85="Fx",R85="Nilx",R85="Rx")=TRUE,1,0) -> 0 | AO85: =IF(OR(S85="?",S85="Mx",S85="Fx",S85="Nilx",S85="Rx")=TRUE,1,0) -> 0
A86: 77 | C86: 2017 | D86: 1107 | E86: 170404 | F86: Pkmn | G86: Vulpix (Alolan) | H86: Pocket Monster Sun Moon Anime Korea | K86: x | L86: x | M86: x | N86: x | O86: x | P86: R | Q86: x | R86: x | S86: x | T86: Serial Code | U86: 1 | V86: 1 | AB86: 1 | AD86: =datevalue("2017-4-4") -> 42829 | AE86: - ? | AF86: =IF(OR($C86='Missing Wondercards'!$G$1,'Missing Wondercards'!$G$1="all")=TRUE,IF(SUM(AG86:AO86)>0,1,0),0) -> 0 | AG86: =IF(OR(K86="?",K86="Mx",K86="Fx",K86="Nilx",K86="Rx")=TRUE,1,0) -> 0 | AH86: =IF(OR(L86="?",L86="Mx",L86="Fx",L86="Nilx",L86="Rx")=TRUE,1,0) -> 0 | AI86: =IF(OR(M86="?",M86="Mx",M86="Fx",M86="Nilx",M86="Rx")=TRUE,1,0) -> 0 | AJ86: =IF(OR(N86="?",N86="Mx",N86="Fx",N86="Nilx",N86="Rx")=TRUE,1,0) -> 0 | AK86: =IF(OR(O86="?",O86="Mx",O86="Fx",O86="Nilx",O86="Rx")=TRUE,1,0) -> 0 | AL86: =IF(OR(P86="?",P86="Mx",P86="Fx",P86="Nilx",P86="Rx")=TRUE,1,0) -> 0 | AM86: =IF(OR(Q86="?",Q86="Mx",Q86="Fx",Q86="Nilx",Q86="Rx")=TRUE,1,0) -> 0 | AN86: =IF(OR(R86="?",R86="Mx",R86="Fx",R86="Nilx",R86="Rx")=TRUE,1,0) -> 0 | AO86: =IF(OR(S86="?",S86="Mx",S86="Fx",S86="Nilx",S86="Rx")=TRUE,1,0) -> 0
A87: 78 | C87: 2017 | D87: 1108 | E87: 170502 | F87: Pkmn | G87: Sandshrew (Alolan) | H87: Animax Korean Anime Broadcast | K87: x | L87: x | M87: x | N87: x | O87: x | P87: R | Q87: x | R87: x | S87: x | T87: Serial Code | U87: 1 | V87: 1 | AB87: 1 | AD87: =datevalue("2017-5-9") -> 42864 | AE87: - May 31, 2017 | AF87: =IF(OR($C87='Missing Wondercards'!$G$1,'Missing Wondercards'!$G$1="all")=TRUE,IF(SUM(AG87:AO87)>0,1,0),0) -> 0 | AG87: =IF(OR(K87="?",K87="Mx",K87="Fx",K87="Nilx",K87="Rx")=TRUE,1,0) -> 0 | AH87: =IF(OR(L87="?",L87="Mx",L87="Fx",L87="Nilx",L87="Rx")=TRUE,1,0) -> 0 | AI87: =IF(OR(M87="?",M87="Mx",M87="Fx",M87="Nilx",M87="Rx")=TRUE,1,0) -> 0 | AJ87: =IF(OR(N87="?",N87="Mx",N87="Fx",N87="Nilx",N87="Rx")=TRUE,1,0) -> 0 | AK87: =IF(OR(O87="?",O87="Mx",O87="Fx",O87="Nilx",O87="Rx")=TRUE,1,0) -> 0 | AL87: =IF(OR(P87="?",P87="Mx",P87="Fx",P87="Nilx",P87="Rx")=TRUE,1,0) -> 0 | AM87: =IF(OR(Q87="?",Q87="Mx",Q87="Fx",Q87="Nilx",Q87="Rx")=TRUE,1,0) -> 0 | AN87: =IF(OR(R87="?",R87="Mx",R87="Fx",R87="Nilx",R87="Rx")=TRUE,1,0) -> 0 | AO87: =IF(OR(S87="?",S87="Mx",S87="Fx",S87="Nilx",S87="Rx")=TRUE,1,0) -> 0
A88: 79 | C88: 2017 | D88: 1109 | E88: 170502 | F88: Pkmn | G88: Diglett (Alolan) | H88: Animax Korean Anime Broadcast | K88: x | L88: x | M88: x | N88: x | O88: x | P88: R | Q88: x | R88: x | S88: x | T88: Serial Code | U88: 1 | V88: 1 | AB88: 1 | AD88: =datevalue("2017-5-2") -> 42857 | AE88: - ? | AF88: =IF(OR($C88='Missing Wondercards'!$G$1,'Missing Wondercards'!$G$1="all")=TRUE,IF(SUM(AG88:AO88)>0,1,0),0) -> 0 | AG88: =IF(OR(K88="?",K88="Mx",K88="Fx",K88="Nilx",K88="Rx")=TRUE,1,0) -> 0 | AH88: =IF(OR(L88="?",L88="Mx",L88="Fx",L88="Nilx",L88="Rx")=TRUE,1,0) -> 0 | AI88: =IF(OR(M88="?",M88="Mx",M88="Fx",M88="Nilx",M88="Rx")=TRUE,1,0) -> 0 | AJ88: =IF(OR(N88="?",N88="Mx",N88="Fx",N88="Nilx",N88="Rx")=TRUE,1,0) -> 0 | AK88: =IF(OR(O88="?",O88="Mx",O88="Fx",O88="Nilx",O88="Rx")=TRUE,1,0) -> 0 | AL88: =IF(OR(P88="?",P88="Mx",P88="Fx",P88="Nilx",P88="Rx")=TRUE,1,0) -> 0 | AM88: =IF(OR(Q88="?",Q88="Mx",Q88="Fx",Q88="Nilx",Q88="Rx")=TRUE,1,0) -> 0 | AN88: =IF(OR(R88="?",R88="Mx",R88="Fx",R88="Nilx",R88="Rx")=TRUE,1,0) -> 0 | AO88: =IF(OR(S88="?",S88="Mx",S88="Fx",S88="Nilx",S88="Rx")=TRUE,1,0) -> 0
A89: 80 | C89: 2017 | D89: 1110 | E89: 170502 | F89: Pkmn | G89: Grimer (Alolan) | H89: Animax Korean Anime Broadcast | K89: x | L89: x | M89: x | N89: x | O89: x | P89: R | Q89: x | R89: x | S89: x | T89: Serial Code | U89: 1 | V89: 1 | AB89: 1 | AD89: =datevalue("2017-5-2") -> 42857 | AE89: - May 22, 2017 | AF89: =IF(OR($C89='Missing Wondercards'!$G$1,'Missing Wondercards'!$G$1="all")=TRUE,IF(SUM(AG89:AO89)>0,1,0),0) -> 0 | AG89: =IF(OR(K89="?",K89="Mx",K89="Fx",K89="Nilx",K89="Rx")=TRUE,1,0) -> 0 | AH89: =IF(OR(L89="?",L89="Mx",L89="Fx",L89="Nilx",L89="Rx")=TRUE,1,0) -> 0 | AI89: =IF(OR(M89="?",M89="Mx",M89="Fx",M89="Nilx",M89="Rx")=TRUE,1,0) -> 0 | AJ89: =IF(OR(N89="?",N89="Mx",N89="Fx",N89="Nilx",N89="Rx")=TRUE,1,0) -> 0 | AK89: =IF(OR(O89="?",O89="Mx",O89="Fx",O89="Nilx",O89="Rx")=TRUE,1,0) -> 0 | AL89: =IF(OR(P89="?",P89="Mx",P89="Fx",P89="Nilx",P89="Rx")=TRUE,1,0) -> 0 | AM89: =IF(OR(Q89="?",Q89="Mx",Q89="Fx",Q89="Nilx",Q89="Rx")=TRUE,1,0) -> 0 | AN89: =IF(OR(R89="?",R89="Mx",R89="Fx",R89="Nilx",R89="Rx")=TRUE,1,0) -> 0 | AO89: =IF(OR(S89="?",S89="Mx",S89="Fx",S89="Nilx",S89="Rx")=TRUE,1,0) -> 0
A90: 81 | C90: 2017 | D90: 1111 | E90: - | F90: Pkmn | G90: Drampa | H90: Korean Pikachu's Easter Eggs | K90: x | L90: x | M90: x | N90: x | O90: x | P90: R | Q90: x | R90: x | S90: x | T90: Infrared | U90: 1 | V90: 1 | Y90: 1 | Z90: 1 | AA90: 1 | AB90: 1 | AD90: =datevalue("2017-4-29") -> 42854 | AE90: - May 07, 2017 | AF90: =IF(OR($C90='Missing Wondercards'!$G$1,'Missing Wondercards'!$G$1="all")=TRUE,IF(SUM(AG90:AO90)>0,1,0),0) -> 0 | AG90: =IF(OR(K90="?",K90="Mx",K90="Fx",K90="Nilx",K90="Rx")=TRUE,1,0) -> 0 | AH90: =IF(OR(L90="?",L90="Mx",L90="Fx",L90="Nilx",L90="Rx")=TRUE,1,0) -> 0 | AI90: =IF(OR(M90="?",M90="Mx",M90="Fx",M90="Nilx",M90="Rx")=TRUE,1,0) -> 0 | AJ90: =IF(OR(N90="?",N90="Mx",N90="Fx",N90="Nilx",N90="Rx")=TRUE,1,0) -> 0 | AK90: =IF(OR(O90="?",O90="Mx",O90="Fx",O90="Nilx",O90="Rx")=TRUE,1,0) -> 0 | AL90: =IF(OR(P90="?",P90="Mx",P90="Fx",P90="Nilx",P90="Rx")=TRUE,1,0) -> 0 | AM90: =IF(OR(Q90="?",Q90="Mx",Q90="Fx",Q90="Nilx",Q90="Rx")=TRUE,1,0) -> 0 | AN90: =IF(OR(R90="?",R90="Mx",R90="Fx",R90="Nilx",R90="Rx")=TRUE,1,0) -> 0 | AO90: =IF(OR(S90="?",S90="Mx",S90="Fx",S90="Nilx",S90="Rx")=TRUE,1,0) -> 0
A91: 82 | C91: 2017 | D91: 1111 | E91: - | F91: Pkmn | G91: Goomy | H91: Korean Pikachu's Easter Eggs | K91: x | L91: x | M91: x | N91: x | O91: x | P91: R | Q91: x | R91: x | S91: x | T91: Infrared | U91: 1 | V91: 1 | Y91: 1 | Z91: 1 | AA91: 1 | AB91: 1 | AD91: =datevalue("2017-4-29") -> 42854 | AE91: - May 07, 2017 | AF91: =IF(OR($C91='Missing Wondercards'!$G$1,'Missing Wondercards'!$G$1="all")=TRUE,IF(SUM(AG91:AO91)>0,1,0),0) -> 0 | AG91: =IF(OR(K91="?",K91="Mx",K91="Fx",K91="Nilx",K91="Rx")=TRUE,1,0) -> 0 | AH91: =IF(OR(L91="?",L91="Mx",L91="Fx",L91="Nilx",L91="Rx")=TRUE,1,0) -> 0 | AI91: =IF(OR(M91="?",M91="Mx",M91="Fx",M91="Nilx",M91="Rx")=TRUE,1,0) -> 0 | AJ91: =IF(OR(N91="?",N91="Mx",N91="Fx",N91="Nilx",N91="Rx")=TRUE,1,0) -> 0 | AK91: =IF(OR(O91="?",O91="Mx",O91="Fx",O91="Nilx",O91="Rx")=TRUE,1,0) -> 0 | AL91: =IF(OR(P91="?",P91="Mx",P91="Fx",P91="Nilx",P91="Rx")=TRUE,1,0) -> 0 | AM91: =IF(OR(Q91="?",Q91="Mx",Q91="Fx",Q91="Nilx",Q91="Rx")=TRUE,1,0) -> 0 | AN91: =IF(OR(R91="?",R91="Mx",R91="Fx",R91="Nilx",R91="Rx")=TRUE,1,0) -> 0 | AO91: =IF(OR(S91="?",S91="Mx",S91="Fx",S91="Nilx",S91="Rx")=TRUE,1,0) -> 0
A92: 83 | C92: 2017 | D92: 1111 | E92: - | F92: Pkmn | G92: Mareanie | H92: Korean Pikachu's Easter Eggs | K92: x | L92: x | M92: x | N92: x | O92: x | P92: R | Q92: x | R92: x | S92: x | T92: Infrared | U92: 1 | V92: 1 | Y92: 1 | Z92: 1 | AA92: 1 | AB92: 1 | AD92: =datevalue("2017-4-29") -> 42854 | AE92: - May 07, 2017 | AF92: =IF(OR($C92='Missing Wondercards'!$G$1,'Missing Wondercards'!$G$1="all")=TRUE,IF(SUM(AG92:AO92)>0,1,0),0) -> 0 | AG92: =IF(OR(K92="?",K92="Mx",K92="Fx",K92="Nilx",K92="Rx")=TRUE,1,0) -> 0 | AH92: =IF(OR(L92="?",L92="Mx",L92="Fx",L92="Nilx",L92="Rx")=TRUE,1,0) -> 0 | AI92: =IF(OR(M92="?",M92="Mx",M92="Fx",M92="Nilx",M92="Rx")=TRUE,1,0) -> 0 | AJ92: =IF(OR(N92="?",N92="Mx",N92="Fx",N92="Nilx",N92="Rx")=TRUE,1,0) -> 0 | AK92: =IF(OR(O92="?",O92="Mx",O92="Fx",O92="Nilx",O92="Rx")=TRUE,1,0) -> 0 | AL92: =IF(OR(P92="?",P92="Mx",P92="Fx",P92="Nilx",P92="Rx")=TRUE,1,0) -> 0 | AM92: =IF(OR(Q92="?",Q92="Mx",Q92="Fx",Q92="Nilx",Q92="Rx")=TRUE,1,0) -> 0 | AN92: =IF(OR(R92="?",R92="Mx",R92="Fx",R92="Nilx",R92="Rx")=TRUE,1,0) -> 0 | AO92: =IF(OR(S92="?",S92="Mx",S92="Fx",S92="Nilx",S92="Rx")=TRUE,1,0) -> 0
A93: 84 | C93: 2017 | D93: 1111 | E93: - | F93: Pkmn | G93: Oranguru | H93: Korean Pikachu's Easter Eggs | K93: x | L93: x | M93: x | N93: x | O93: x | P93: R | Q93: x | R93: x | S93: x | T93: Infrared | U93: 1 | V93: 1 | Y93: 1 | Z93: 1 | AA93: 1 | AB93: 1 | AD93: =datevalue("2017-4-29") -> 42854 | AE93: - May 07, 2017 | AF93: =IF(OR($C93='Missing Wondercards'!$G$1,'Missing Wondercards'!$G$1="all")=TRUE,IF(SUM(AG93:AO93)>0,1,0),0) -> 0 | AG93: =IF(OR(K93="?",K93="Mx",K93="Fx",K93="Nilx",K93="Rx")=TRUE,1,0) -> 0 | AH93: =IF(OR(L93="?",L93="Mx",L93="Fx",L93="Nilx",L93="Rx")=TRUE,1,0) -> 0 | AI93: =IF(OR(M93="?",M93="Mx",M93="Fx",M93="Nilx",M93="Rx")=TRUE,1,0) -> 0 | AJ93: =IF(OR(N93="?",N93="Mx",N93="Fx",N93="Nilx",N93="Rx")=TRUE,1,0) -> 0 | AK93: =IF(OR(O93="?",O93="Mx",O93="Fx",O93="Nilx",O93="Rx")=TRUE,1,0) -> 0 | AL93: =IF(OR(P93="?",P93="Mx",P93="Fx",P93="Nilx",P93="Rx")=TRUE,1,0) -> 0 | AM93: =IF(OR(Q93="?",Q93="Mx",Q93="Fx",Q93="Nilx",Q93="Rx")=TRUE,1,0) -> 0 | AN93: =IF(OR(R93="?",R93="Mx",R93="Fx",R93="Nilx",R93="Rx")=TRUE,1,0) -> 0 | AO93: =IF(OR(S93="?",S93="Mx",S93="Fx",S93="Nilx",S93="Rx")=TRUE,1,0) -> 0
A94: 85 | C94: 2017 | D94: 1111 | E94: - | F94: Pkmn | G94: Passimian | H94: Korean Pikachu's Easter Eggs | K94: x | L94: x | M94: x | N94: x | O94: x | P94: R | Q94: x | R94: x | S94: x | T94: Infrared | U94: 1 | V94: 1 | Y94: 1 | Z94: 1 | AA94: 1 | AB94: 1 | AD94: =datevalue("2017-4-29") -> 42854 | AE94: - May 07, 2017 | AF94: =IF(OR($C94='Missing Wondercards'!$G$1,'Missing Wondercards'!$G$1="all")=TRUE,IF(SUM(AG94:AO94)>0,1,0),0) -> 0 | AG94: =IF(OR(K94="?",K94="Mx",K94="Fx",K94="Nilx",K94="Rx")=TRUE,1,0) -> 0 | AH94: =IF(OR(L94="?",L94="Mx",L94="Fx",L94="Nilx",L94="Rx")=TRUE,1,0) -> 0 | AI94: =IF(OR(M94="?",M94="Mx",M94="Fx",M94="Nilx",M94="Rx")=TRUE,1,0) -> 0 | AJ94: =IF(OR(N94="?",N94="Mx",N94="Fx",N94="Nilx",N94="Rx")=TRUE,1,0) -> 0 | AK94: =IF(OR(O94="?",O94="Mx",O94="Fx",O94="Nilx",O94="Rx")=TRUE,1,0) -> 0 | AL94: =IF(OR(P94="?",P94="Mx",P94="Fx",P94="Nilx",P94="Rx")=TRUE,1,0) -> 0 | AM94: =IF(OR(Q94="?",Q94="Mx",Q94="Fx",Q94="Nilx",Q94="Rx")=TRUE,1,0) -> 0 | AN94: =IF(OR(R94="?",R94="Mx",R94="Fx",R94="Nilx",R94="Rx")=TRUE,1,0) -> 0 | AO94: =IF(OR(S94="?",S94="Mx",S94="Fx",S94="Nilx",S94="Rx")=TRUE,1,0) -> 0
A95: 86 | C95: 2017 | D95: 1111 | E95: - | F95: Pkmn | G95: Turtonator | H95: Korean Pikachu's Easter Eggs | K95: x | L95: x | M95: x | N95: x | O95: x | P95: R | Q95: x | R95: x | S95: x | T95: Infrared | U95: 1 | V95: 1 | Y95: 1 | Z95: 1 | AA95: 1 | AB95: 1 | AD95: =datevalue("2017-4-29") -> 42854 | AE95: - May 07, 2017 | AF95: =IF(OR($C95='Missing Wondercards'!$G$1,'Missing Wondercards'!$G$1="all")=TRUE,IF(SUM(AG95:AO95)>0,1,0),0) -> 0 | AG95: =IF(OR(K95="?",K95="Mx",K95="Fx",K95="Nilx",K95="Rx")=TRUE,1,0) -> 0 | AH95: =IF(OR(L95="?",L95="Mx",L95="Fx",L95="Nilx",L95="Rx")=TRUE,1,0) -> 0 | AI95: =IF(OR(M95="?",M95="Mx",M95="Fx",M95="Nilx",M95="Rx")=TRUE,1,0) -> 0 | AJ95: =IF(OR(N95="?",N95="Mx",N95="Fx",N95="Nilx",N95="Rx")=TRUE,1,0) -> 0 | AK95: =IF(OR(O95="?",O95="Mx",O95="Fx",O95="Nilx",O95="Rx")=TRUE,1,0) -> 0 | AL95: =IF(OR(P95="?",P95="Mx",P95="Fx",P95="Nilx",P95="Rx")=TRUE,1,0) -> 0 | AM95: =IF(OR(Q95="?",Q95="Mx",Q95="Fx",Q95="Nilx",Q95="Rx")=TRUE,1,0) -> 0 | AN95: =IF(OR(R95="?",R95="Mx",R95="Fx",R95="Nilx",R95="Rx")=TRUE,1,0) -> 0 | AO95: =IF(OR(S95="?",S95="Mx",S95="Fx",S95="Nilx",S95="Rx")=TRUE,1,0) -> 0
A96: 87 | C96: 2017 | D96: 1112 | E96: 170505 | F96: Pkmn | G96: Mew | H96: WCS 2017 Korean Mew | K96: x | L96: x | M96: x | N96: x | O96: x | P96: Nil | Q96: x | R96: x | S96: x | T96: Infrared | U96: 1 | V96: 1 | Y96: 1 | Z96: 1 | AA96: 1 | AB96: 1 | AD96: =datevalue("2017-5-5") -> 42860 | AE96: - May 07, 2017 | AF96: =IF(OR($C96='Missing Wondercards'!$G$1,'Missing Wondercards'!$G$1="all")=TRUE,IF(SUM(AG96:AO96)>0,1,0),0) -> 0 | AG96: =IF(OR(K96="?",K96="Mx",K96="Fx",K96="Nilx",K96="Rx")=TRUE,1,0) -> 0 | AH96: =IF(OR(L96="?",L96="Mx",L96="Fx",L96="Nilx",L96="Rx")=TRUE,1,0) -> 0 | AI96: =IF(OR(M96="?",M96="Mx",M96="Fx",M96="Nilx",M96="Rx")=TRUE,1,0) -> 0 | AJ96: =IF(OR(N96="?",N96="Mx",N96="Fx",N96="Nilx",N96="Rx")=TRUE,1,0) -> 0 | AK96: =IF(OR(O96="?",O96="Mx",O96="Fx",O96="Nilx",O96="Rx")=TRUE,1,0) -> 0 | AL96: =IF(OR(P96="?",P96="Mx",P96="Fx",P96="Nilx",P96="Rx")=TRUE,1,0) -> 0 | AM96: =IF(OR(Q96="?",Q96="Mx",Q96="Fx",Q96="Nilx",Q96="Rx")=TRUE,1,0) -> 0 | AN96: =IF(OR(R96="?",R96="Mx",R96="Fx",R96="Nilx",R96="Rx")=TRUE,1,0) -> 0 | AO96: =IF(OR(S96="?",S96="Mx",S96="Fx",S96="Nilx",S96="Rx")=TRUE,1,0) -> 0
A97: 88 | C97: 2017 | D97: 1604 | E97: - | F97: Item | G97: Rare Candy | H97: Bundled with Friend Ball, Global Mission | K97: Nil | L97: Nil | M97: Nil | N97: Nil | O97: Nil | P97: Nil | Q97: Nil | R97: x | S97: x | T97: Serial Code | U97: 1 | V97: 1 | Y97: 1 | Z97: 1 | AA97: 1 | AB97: 1 | AD97: =datevalue("2017-2-21") -> 42787 | AE97: - Mar 31, 2017 | AF97: =IF(OR($C97='Missing Wondercards'!$G$1,'Missing Wondercards'!$G$1="all")=TRUE,IF(SUM(AG97:AO97)>0,1,0),0) -> 0 | AG97: =IF(OR(K97="?",K97="Mx",K97="Fx",K97="Nilx",K97="Rx")=TRUE,1,0) -> 0 | AH97: =IF(OR(L97="?",L97="Mx",L97="Fx",L97="Nilx",L97="Rx")=TRUE,1,0) -> 0 | AI97: =IF(OR(M97="?",M97="Mx",M97="Fx",M97="Nilx",M97="Rx")=TRUE,1,0) -> 0 | AJ97: =IF(OR(N97="?",N97="Mx",N97="Fx",N97="Nilx",N97="Rx")=TRUE,1,0) -> 0 | AK97: =IF(OR(O97="?",O97="Mx",O97="Fx",O97="Nilx",O97="Rx")=TRUE,1,0) -> 0 | AL97: =IF(OR(P97="?",P97="Mx",P97="Fx",P97="Nilx",P97="Rx")=TRUE,1,0) -> 0 | AM97: =IF(OR(Q97="?",Q97="Mx",Q97="Fx",Q97="Nilx",Q97="Rx")=TRUE,1,0) -> 0 | AN97: =IF(OR(R97="?",R97="Mx",R97="Fx",R97="Nilx",R97="Rx")=TRUE,1,0) -> 0 | AO97: =IF(OR(S97="?",S97="Mx",S97="Fx",S97="Nilx",S97="Rx")=TRUE,1,0) -> 0
A98: 89 | C98: 2017 | D98: 1605 | E98: - | F98: Item | G98: Mewtwonite X | H98: Mega Stone Gift | K98: Nil | L98: Nil | M98: Nil | N98: Nil | O98: Nil | P98: Nil | Q98: Nil | R98: x | S98: x | T98: Serial Code | U98: 1 | V98: 1 | Y98: 1 | Z98: 1 | AA98: 1 | AB98: 1 | AD98: =datevalue("2017-3-3") -> 42797 | AE98: - ? | AF98: =IF(OR($C98='Missing Wondercards'!$G$1,'Missing Wondercards'!$G$1="all")=TRUE,IF(SUM(AG98:AO98)>0,1,0),0) -> 0 | AG98: =IF(OR(K98="?",K98="Mx",K98="Fx",K98="Nilx",K98="Rx")=TRUE,1,0) -> 0 | AH98: =IF(OR(L98="?",L98="Mx",L98="Fx",L98="Nilx",L98="Rx")=TRUE,1,0) -> 0 | AI98: =IF(OR(M98="?",M98="Mx",M98="Fx",M98="Nilx",M98="Rx")=TRUE,1,0) -> 0 | AJ98: =IF(OR(N98="?",N98="Mx",N98="Fx",N98="Nilx",N98="Rx")=TRUE,1,0) -> 0 | AK98: =IF(OR(O98="?",O98="Mx",O98="Fx",O98="Nilx",O98="Rx")=TRUE,1,0) -> 0 | AL98: =IF(OR(P98="?",P98="Mx",P98="Fx",P98="Nilx",P98="Rx")=TRUE,1,0) -> 0 | AM98: =IF(OR(Q98="?",Q98="Mx",Q98="Fx",Q98="Nilx",Q98="Rx")=TRUE,1,0) -> 0 | AN98: =IF(OR(R98="?",R98="Mx",R98="Fx",R98="Nilx",R98="Rx")=TRUE,1,0) -> 0 | AO98: =IF(OR(S98="?",S98="Mx",S98="Fx",S98="Nilx",S98="Rx")=TRUE,1,0) -> 0
A99: 90 | C99: 2017 | D99: 1606 | E99: - | F99: Item | G99: Mawilite | H99: Feb Competition: Mawilite and Beedrillite | K99: Nil | L99: Nil | M99: Nil | N99: Nil | O99: Nil | P99: Nil | Q99: Nil | R99: x | S99: x | T99: Serial Code | U99: 1 | V99: 1 | Y99: 1 | Z99: 1 | AA99: 1 | AB99: 1 | AD99: =datevalue("2017-3-7") -> 42801 | AE99: - Apr 27, 2017 | AF99: =IF(OR($C99='Missing Wondercards'!$G$1,'Missing Wondercards'!$G$1="all")=TRUE,IF(SUM(AG99:AO99)>0,1,0),0) -> 0 | AG99: =IF(OR(K99="?",K99="Mx",K99="Fx",K99="Nilx",K99="Rx")=TRUE,1,0) -> 0 | AH99: =IF(OR(L99="?",L99="Mx",L99="Fx",L99="Nilx",L99="Rx")=TRUE,1,0) -> 0 | AI99: =IF(OR(M99="?",M99="Mx",M99="Fx",M99="Nilx",M99="Rx")=TRUE,1,0) -> 0 | AJ99: =IF(OR(N99="?",N99="Mx",N99="Fx",N99="Nilx",N99="Rx")=TRUE,1,0) -> 0 | AK99: =IF(OR(O99="?",O99="Mx",O99="Fx",O99="Nilx",O99="Rx")=TRUE,1,0) -> 0 | AL99: =IF(OR(P99="?",P99="Mx",P99="Fx",P99="Nilx",P99="Rx")=TRUE,1,0) -> 0 | AM99: =IF(OR(Q99="?",Q99="Mx",Q99="Fx",Q99="Nilx",Q99="Rx")=TRUE,1,0) -> 0 | AN99: =IF(OR(R99="?",R99="Mx",R99="Fx",R99="Nilx",R99="Rx")=TRUE,1,0) -> 0 | AO99: =IF(OR(S99="?",S99="Mx",S99="Fx",S99="Nilx",S99="Rx")=TRUE,1,0) -> 0
A100: 91 | C100: 2017 | D100: 1607 | E100: - | F100: Item | G100: Rare Candy | H100: Bundled with Heavy Ball, Global Mission | K100: Nil | L100: Nil | M100: Nil | N100: Nil | O100: Nil | P100: Nil | Q100: Nil | R100: x | S100: x | T100: Serial Code | U100: 1 | V100: 1 | Y100: 1 | Z100: 1 | AA100: 1 | AB100: 1 | AD100: =datevalue("2017-3-21") -> 42815 | AE100: - Apr 27, 2017 | AF100: =IF(OR($C100='Missing Wondercards'!$G$1,'Missing Wondercards'!$G$1="all")=TRUE,IF(SUM(AG100:AO100)>0,1,0),0) -> 0 | AG100: =IF(OR(K100="?",K100="Mx",K100="Fx",K100="Nilx",K100="Rx")=TRUE,1,0) -> 0 | AH100: =IF(OR(L100="?",L100="Mx",L100="Fx",L100="Nilx",L100="Rx")=TRUE,1,0) -> 0 | AI100: =IF(OR(M100="?",M100="Mx",M100="Fx",M100="Nilx",M100="Rx")=TRUE,1,0) -> 0 | AJ100: =IF(OR(N100="?",N100="Mx",N100="Fx",N100="Nilx",N100="Rx")=TRUE,1,0) -> 0 | AK100: =IF(OR(O100="?",O100="Mx",O100="Fx",O100="Nilx",O100="Rx")=TRUE,1,0) -> 0 | AL100: =IF(OR(P100="?",P100="Mx",P100="Fx",P100="Nilx",P100="Rx")=TRUE,1,0) -> 0 | AM100: =IF(OR(Q100="?",Q100="Mx",Q100="Fx",Q100="Nilx",Q100="Rx")=TRUE,1,0) -> 0 | AN100: =IF(OR(R100="?",R100="Mx",R100="Fx",R100="Nilx",R100="Rx")=TRUE,1,0) -> 0 | AO100: =IF(OR(S100="?",S100="Mx",S100="Fx",S100="Nilx",S100="Rx")=TRUE,1,0) -> 0
A101: 92 | C101: 2017 | D101: 1608 | E101: - | F101: Item | G101: Pidgeotite | H101: Mar Competition:Pidgeotite and Steelixite | K101: Nil | L101: Nil | M101: Nil | N101: Nil | O101: Nil | P101: Nil | Q101: Nil | R101: x | S101: x | T101: Serial Code | U101: 1 | V101: 1 | Y101: 1 | Z101: 1 | AA101: 1 | AB101: 1 | AD101: =datevalue("2017-3-28") -> 42822 | AE101: - ? | AF101: =IF(OR($C101='Missing Wondercards'!$G$1,'Missing Wondercards'!$G$1="all")=TRUE,IF(SUM(AG101:AO101)>0,1,0),0) -> 0 | AG101: =IF(OR(K101="?",K101="Mx",K101="Fx",K101="Nilx",K101="Rx")=TRUE,1,0) -> 0 | AH101: =IF(OR(L101="?",L101="Mx",L101="Fx",L101="Nilx",L101="Rx")=TRUE,1,0) -> 0 | AI101: =IF(OR(M101="?",M101="Mx",M101="Fx",M101="Nilx",M101="Rx")=TRUE,1,0) -> 0 | AJ101: =IF(OR(N101="?",N101="Mx",N101="Fx",N101="Nilx",N101="Rx")=TRUE,1,0) -> 0 | AK101: =IF(OR(O101="?",O101="Mx",O101="Fx",O101="Nilx",O101="Rx")=TRUE,1,0) -> 0 | AL101: =IF(OR(P101="?",P101="Mx",P101="Fx",P101="Nilx",P101="Rx")=TRUE,1,0) -> 0 | AM101: =IF(OR(Q101="?",Q101="Mx",Q101="Fx",Q101="Nilx",Q101="Rx")=TRUE,1,0) -> 0 | AN101: =IF(OR(R101="?",R101="Mx",R101="Fx",R101="Nilx",R101="Rx")=TRUE,1,0) -> 0 | AO101: =IF(OR(S101="?",S101="Mx",S101="Fx",S101="Nilx",S101="Rx")=TRUE,1,0) -> 0
...

Sheet Credits
B1: * Note: I only credited the first contribution of that species + wc ID + gender + language. Later entries are not credited, else it'll drive me (and perhaps readers) nuts
B3: User | C3: wc id | D3: Contributions | E3: Date | F3: ENG | G3: FRE | H3: GER | I3: ITA | J3: SPA | K3: JPN | L3: KOR | M3: CHS | N3: CHT
B4: theSLAYER | C4: 2040 | D4: Stardust | E4: 42692 | F4: =F$3 -> ENG | G4: =G$3 -> FRE | H4: =H$3 -> GER | I4: =I$3 -> ITA | J4: =J$3 -> SPA | K4: =K$3 -> JPN | L4: =L$3 -> KOR | M4: =M$3 -> CHS | N4: =N$3 -> CHT
B5: theSLAYER | C5: 2041 | D5: Star Piece | E5: 42692 | F5: =F$3 -> ENG | G5: =G$3 -> FRE | H5: =H$3 -> GER | I5: =I$3 -> ITA | J5: =J$3 -> SPA | K5: =K$3 -> JPN | L5: =L$3 -> KOR | M5: =M$3 -> CHS | N5: =N$3 -> CHT
B6: theSLAYER | C6: 2042 | D6: Nugget | E6: 42692 | F6: =F$3 -> ENG | G6: =G$3 -> FRE | H6: =H$3 -> GER | I6: =I$3 -> ITA | J6: =J$3 -> SPA | K6: =K$3 -> JPN | L6: =L$3 -> KOR | M6: =M$3 -> CHS | N6: =N$3 -> CHT
B7: theSLAYER | C7: 2043 | D7: Pretty Wing | E7: 42692 | F7: =F$3 -> ENG | G7: =G$3 -> FRE | H7: =H$3 -> GER | I7: =I$3 -> ITA | J7: =J$3 -> SPA | K7: =K$3 -> JPN | L7: =L$3 -> KOR | M7: =M$3 -> CHS | N7: =N$3 -> CHT
B8: theSLAYER | C8: 2044 | D8: Balm Mushroom | E8: 42692 | F8: =F$3 -> ENG | G8: =G$3 -> FRE | H8: =H$3 -> GER | I8: =I$3 -> ITA | J8: =J$3 -> SPA | K8: =K$3 -> JPN | L8: =L$3 -> KOR | M8: =M$3 -> CHS | N8: =N$3 -> CHT
B9: theSLAYER | C9: 2045 | D9: Comet Shard | E9: 42692 | F9: =F$3 -> ENG | G9: =G$3 -> FRE | H9: =H$3 -> GER | I9: =I$3 -> ITA | J9: =J$3 -> SPA | K9: =K$3 -> JPN | L9: =L$3 -> KOR | M9: =M$3 -> CHS | N9: =N$3 -> CHT
B10: theSLAYER | C10: 2046 | D10: Ash-Greninja | E10: 42692 | F10: =F$3 -> ENG | G10: =G$3 -> FRE | H10: =H$3 -> GER | I10: =I$3 -> ITA | J10: =J$3 -> SPA | K10: =K$3 -> JPN | L10: =L$3 -> KOR | M10: =M$3 -> CHS | N10: =N$3 -> CHT
B11: theSLAYER | C11: 1602 | D11: Quick Ball | E11: 42692 | F11: =F$3 -> ENG | G11: =G$3 -> FRE | H11: =H$3 -> GER | I11: =I$3 -> ITA | J11: =J$3 -> SPA | K11: =K$3 -> JPN
B12: theSLAYER | C12: 1603 | D12: Poke Ball | E12: 42692 | F12: =F$3 -> ENG | G12: =G$3 -> FRE | J12: =J$3 -> SPA | K12: =K$3 -> JPN | L12: =L$3 -> KOR
B13: theSLAYER | C13: 202 | D13: Revival Herb | E13: 42692 | F13: =F$3 -> ENG
B14: theSLAYER | C14: 201 | D14: Munchlax | E14: 42692 | F14: =F$3 -> ENG | G14: =G$3 -> FRE | H14: =H$3 -> GER | I14: =I$3 -> ITA | J14: =J$3 -> SPA | K14: =K$3 -> JPN | L14: =L$3 -> KOR
B15: theSLAYER | C15: 205 | D15: Choice Band | E15: 42719 | K15: =K$3 -> JPN
B16: theSLAYER | C16: 205 | D16: Choice Scarf | E16: 42719 | K16: =K$3 -> JPN
B17: theSLAYER | C17: 210 | D17: Gold Bottle Cap | E17: 42719 | K17: =K$3 -> JPN
B18: Rei Keima | C18: 2047 | D18: Battle Points x50 | E18: 42726 | F18: ENG
B19: theSLAYER | C19: 2047 | D19: Battle Points x50 | E19: 42726 | G19: =G$3 -> FRE | H19: =H$3 -> GER | I19: =I$3 -> ITA | J19: =J$3 -> SPA | K19: =K$3 -> JPN | L19: =L$3 -> KOR
B20: argus1963 | C20: 203 | D20: Vulpix (Alola) | E20: 42739 | K20: =K$3 -> JPN
B21: argus1963 | C21: 204 | D21: Potion | E21: 42744 | K21: =K$3 -> JPN
B22: argus1963 | C22: 204 | D22: Hyper Potion | E22: 42744 | K22: =K$3 -> JPN
B23: argus1963 | C23: 204 | D23: Revive | E23: 42744 | K23: =K$3 -> JPN
B24: argus1963 | C24: 204 | D24: Heal Powder | E24: 42744 | K24: =K$3 -> JPN
B25: argus1963 | C25: 204 | D25: Full Heal | E25: 42744 | K25: =K$3 -> JPN
B26: argus1963 | C26: 204 | D26: Full Restore | E26: 42744 | K26: =K$3 -> JPN
B27: theSLAYER | C27: 208 | D27: Rare Candy | E27: 42748 | K27: =K$3 -> JPN
B28: argus1963 | C28: 207 | D28: Big Nugget | E28: 42759 | K28: =K$3 -> JPN
B29: theSLAYER | C29: 0 | D29: Mewnium Z | E29: 42760 | F29: ENG
B30: Citracy | C30: 218 | D30: Magikarp | E30: 42762 | F30: ENG
B31: theSLAYER | C31: 599 | D31: Bottle Cap | E31: 42769 | F31: =F$3 -> ENG | G31: =G$3 -> FRE | H31: =H$3 -> GER | I31: =I$3 -> ITA | J31: =J$3 -> SPA
B32: SciresM | C32: 219 | D32: Machamp | E32: 42774 | K32: =K$3 -> JPN
B33: theSLAYER | C33: 599 | D33: Bottle Cap | E33: 42777 | F33: =F$3 -> ENG | G33: =G$3 -> FRE | J33: =J$3 -> SPA
B34: argus1963 | C34: 201 | D34: Pikachu | E34: 42777 | K34: =K$3 -> JPN
B35: argus1963 | C35: 201 | D35: Eevee | E35: 42777 | K35: =K$3 -> JPN
B36: argus1963 | C36: 201 | D36: Comfey | E36: 42777 | K36: =K$3 -> JPN
B37: argus1963 | C37: 211 | D37: Ice Heal | E37: 42777 | K37: =K$3 -> JPN
B38: argus1963 | C38: 211 | D38: Ice Stone | E38: 42777 | K38: =K$3 -> JPN
B39: argus1963 | C39: 211 | D39: Icy Rock | E39: 42777 | K39: =K$3 -> JPN
B40: argus1963 | C40: 211 | D40: Never-Melt Ice | E40: 42777 | K40: =K$3 -> JPN
B41: argus1963 | C41: 211 | D41: Aspear Berry | E41: 42777 | K41: =K$3 -> JPN
B42: argus1963 | C42: 211 | D42: Casteliacone | E42: 42777 | K42: =K$3 -> JPN
B43: argus1963 | C43: 211 | D43: Snowball | E43: 42777 | K43: =K$3 -> JPN
B44: theSLAYER | C44: 1604 | D44: Rare Candy | E44: 42787 | F44: =F$3 -> ENG | G44: =G$3 -> FRE | H44: =H$3 -> GER | I44: =I$3 -> ITA | J44: =J$3 -> SPA | K44: =K$3 -> JPN | L44: =L$3 -> KOR
B45: theSLAYER | C45: 1605 | D45: Mewtwonite XY | E45: 42797 | F45: =F$3 -> ENG | G45: =G$3 -> FRE | H45: =H$3 -> GER | I45: =I$3 -> ITA | J45: =J$3 -> SPA | K45: =K$3 -> JPN | L45: =L$3 -> KOR
B46: theSLAYER | C46: 1606 | D46: Mawilite | E46: 42801 | F46: =F$3 -> ENG | G46: =G$3 -> FRE | H46: =H$3 -> GER | I46: =I$3 -> ITA | J46: =J$3 -> SPA | K46: =K$3 -> JPN | L46: =L$3 -> KOR
B47: theSLAYER | C47: 227 | D47: Pikachu | E47: 42805 | K47: =K$3 -> JPN
B48: theSLAYER | C48: 224 | D48: Charizard | E48: 42808 | K48: =K$3 -> JPN
B49: theSLAYER | C49: 220 | D49: Tapu Koko | E49: 42810 | K49: =K$3 -> JPN
B50: argus1963 | C50: 211 | D50: Oranguru | E50: 42812 | K50: =K$3 -> JPN
B51: argus1963 | C51: 211 | D51: Drampa | E51: 42812 | K51: =K$3 -> JPN
B52: argus1963 | C52: 211 | D52: Passimian | E52: 42812 | K52: =K$3 -> JPN
B53: argus1963 | C53: 211 | D53: Goomy | E53: 42812 | K53: =K$3 -> JPN
B54: argus1963 | C54: 211 | D54: Turtonator | E54: 42812 | K54: =K$3 -> JPN
B55: argus1963 | C55: 211 | D55: Mareanie | E55: 42812 | K55: =K$3 -> JPN
B56: theSLAYER | C56: 225 | D56: Battle Points x10 | E56: 42815 | K56: =K$3 -> JPN
B57: theSLAYER | C57: 1607 | D57: Rare Candy | E57: 42815 | F57: =F$3 -> ENG | G57: =G$3 -> FRE | H57: =H$3 -> GER | I57: =I$3 -> ITA | J57: =J$3 -> SPA | K57: =K$3 -> JPN | L57: =L$3 -> KOR
B58: theSLAYER | C58: 1608 | D58: Pidgeotite | E58: 42822 | F58: =F$3 -> ENG | G58: =G$3 -> FRE | H58: =H$3 -> GER | I58: =I$3 -> ITA | J58: =J$3 -> SPA | K58: =K$3 -> JPN | L58: =L$3 -> KOR
B59: theSLAYER | C59: 1107 | D59: Vulpix (Alola) | E59: 42829 | L59: =L$3 -> KOR
B60: theSLAYER | C60: 1609 | D60: Mawilite | E60: 42832 | F60: =F$3 -> ENG | G60: =G$3 -> FRE | I60: =I$3 -> ITA | J60: =J$3 -> SPA | K60: =K$3 -> JPN | L60: =L$3 -> KOR
B61: King Impoleon | C61: 1609 | D61: Mawilite | E61: 42832 | H61: =H$3 -> GER
B62: Blackbird & Katsuya | C62: 1105 | D62: Tapu Koko | E62: 42833 | L62: =L$3 -> KOR
B63: theSLAYER | C63: 223 | D63: Ash Pikachu I | E63: 42839 | K63: =K$3 -> JPN
B64: argus1963 | C64: 222 | D64: Bewear | E64: 42840 | K64: =K$3 -> JPN
B65: theSLAYER | C65: 1610 | D65: Rare Candy | E65: 42843 | F65: =F$3 -> ENG | G65: =G$3 -> FRE | H65: =H$3 -> GER | I65: =I$3 -> ITA | J65: =J$3 -> SPA | K65: =K$3 -> JPN | L65: =L$3 -> KOR
B66: theSLAYER | C66: 223 | D66: Tapu Koko | E66: 42853 | F66: =F$3 -> ENG
B67: theSLAYER | C67: 204 | D67: Comet Shard | E67: 42853 | K67: =K$3 -> JPN | P67: C
B68: Blackbird & Katsuya | C68: 1111 | D68: Oranguru | E68: 42854 | L68: =L$3 -> KOR
B69: Blackbird & Katsuya | C69: 1111 | D69: Drampa | E69: 42854 | L69: =L$3 -> KOR
B70: Blackbird & Katsuya | C70: 1111 | D70: Passimian | E70: 42854 | L70: =L$3 -> KOR
B71: Blackbird & Katsuya | C71: 1111 | D71: Goomy | E71: 42854 | L71: =L$3 -> KOR
B72: Blackbird & Katsuya | C72: 1111 | D72: Turtonator | E72: 42854 | L72: =L$3 -> KOR
B73: Blackbird & Katsuya | C73: 1111 | D73: Mareanie | E73: 42854 | L73: =L$3 -> KOR
B74: Johnwraight | C74: 1109 | D74: Diglett | E74: 42857 | L74: =L$3 -> KOR
B75: Johnwraight | C75: 1110 | D75: Grimer | E75: 42857 | L75: =L$3 -> KOR
B76: theSLAYER | C76: 223 | D76: Ash Pikachu III | E76: 42858 | K76: =K$3 -> JPN
B77: BLACKBIRD | C77: 1112 | D77: Mew | E77: 42859 | L77: =L$3 -> KOR
B78: Johnwraight & Nessus | C78: 606 | D78: Lycanroc | E78: 42861 | F78: =F$3 -> ENG | O78: EU
B79: King Impoleon | C79: 606 | D79: Lycanroc | E79: 42861 | H79: =H$3 -> GER | I79: =I$3 -> ITA | J79: =J$3 -> SPA | O79: EU
B80: theSLAYER | C80: 606 | D80: Lycanroc | E80: 42864 | G80: =G$3 -> FRE
B81: Johnwraight | C81: 1108 | D81: Sandshrew (Alolan) | E81: 42864 | L81: =L$3 -> KOR
B82: King Impoleon | C82: 1611 | D82: Pidgeotite | E82: 42867 | F82: =F$3 -> ENG | G82: =G$3 -> FRE | I82: =I$3 -> ITA | J82: =J$3 -> SPA
B83: theSLAYER | C83: 1611 | D83: Pidgeotite | E83: 42867 | H83: =H$3 -> GER | K83: =K$3 -> JPN | L83: =L$3 -> KOR
B84: Kirzi | C84: 230 | D84: Glaceon | E84: 42868 | K84: =K$3 -> JPN
B85: Kirzi & ReignOfComputer | C85: 230 | D85: Jolteon | E85: 42868 | K85: =K$3 -> JPN
B86: ReignOfComputer | C86: 230 | D86: Vaporeon | E86: 42868 | K86: =K$3 -> JPN
B87: ReignOfComputer | C87: 230 | D87: Flareon | E87: 42868 | K87: =K$3 -> JPN
B88: ReignOfComputer | C88: 230 | D88: Espeon | E88: 42868 | K88: =K$3 -> JPN
B89: ReignOfComputer | C89: 230 | D89: Umbreon | E89: 42868 | K89: =K$3 -> JPN
B90: ReignOfComputer | C90: 230 | D90: Leafeon | E90: 42868 | K90: =K$3 -> JPN
B91: ReignOfComputer | C91: 230 | D91: Sylveon | E91: 42868 | K91: =K$3 -> JPN
B92: =HYPERLINK("http://gbatemp.net/threads/pok%C3%A9mon-sun-moon-save-game-event-sharing-thread.448481/page-25#post-7308390","fearcryo (gbatemp)") -> fearcryo (gbatemp) | C92: 206 | D92: Bottle Cap | E92: 42879 | K92: =K$3 -> JPN
B93: =HYPERLINK("http://gbatemp.net/threads/pok%C3%A9mon-sun-moon-save-game-event-sharing-thread.448481/page-25#post-7308390","fearcryo (gbatemp)") -> fearcryo (gbatemp) | C93: 1101 | D93: Big Nugget | E93: 42879 | L93: =L$3 -> KOR
B94: =HYPERLINK("http://gbatemp.net/threads/pok%C3%A9mon-sun-moon-save-game-event-sharing-thread.448481/page-25#post-7308390","fearcryo (gbatemp)") -> fearcryo (gbatemp) | C94: 1103 | D94: Max Revive | E94: 42879 | L94: =L$3 -> KOR
B95: theSLAYER | C95: 1612 | D95: Rare Candy | E95: 42881 | F95: =F$3 -> ENG | G95: =G$3 -> FRE | H95: =H$3 -> GER | I95: =I$3 -> ITA | J95: =J$3 -> SPA | K95: =K$3 -> JPN | L95: =L$3 -> KOR
B96: theSLAYER | C96: 223 | D96: Ash Pikachu IV | E96: 42881 | K96: =K$3 -> JPN
B97: theSLAYER | C97: 1613 | D97: Sceptilite | E97: 42885 | F97: =F$3 -> ENG | G97: =G$3 -> FRE | H97: =H$3 -> GER | I97: =I$3 -> ITA | J97: =J$3 -> SPA | K97: =K$3 -> JPN | L97: =L$3 -> KOR
B98: theSLAYER | C98: 223 | D98: Ash Pikachu V | E98: 42893 | K98: =K$3 -> JPN
B99: theSLAYER | C99: 1614 | D99: Tyranitarite | E99: 42893 | F99: =F$3 -> ENG | G99: =G$3 -> FRE | H99: =H$3 -> GER | I99: =I$3 -> ITA | J99: =J$3 -> SPA | K99: =K$3 -> JPN | L99: =L$3 -> KOR
B100: theSLAYER | C100: 223 | D100: Ash Pikachu VI | E100: 42899 | K100: =K$3 -> JPN
B101: theSLAYER | C101: 234 | D101: Steenee | E101: 42902 | K101: =K$3 -> JPN
...

Sheet Misc= wc7full Entries 
C2: Note: All WC6full entries are collected from the same users who provided the WC6
C3: Note2: All OT refers to their ENG OT, if there are multiple OT
G4: ENG | H4: FRE | I4: GER | J4: ITA | K4: SPA | L4: JPN | M4: KOR | N4: CHS | O4: CHT
C5: Date archived | D5: ID | E5: Pokemon | F5: OT | G5: Languages
B6: theSLAYER | C6: 42692 | D6: 1602 | E6: Quick Ball | F6: none | G6: =G$4 -> ENG | H6: =H$4 -> FRE | I6: =I$4 -> GER | J6: =J$4 -> ITA | K6: =K$4 -> SPA | L6: =L$4 -> JPN
B7: theSLAYER | C7: 42692 | D7: 1603 | E7: Poke Ball | F7: none | G7: =G$4 -> ENG | H7: =H$4 -> FRE | K7: =K$4 -> SPA | L7: =L$4 -> JPN | M7: =M$4 -> KOR
B8: theSLAYER | C8: 42692 | D8: 202 | E8: Revival Herb | F8: none | G8: =G$4 -> ENG
B9: theSLAYER | C9: 42692 | D9: 201 | E9: Munchlax | F9: Yours | G9: =G$4 -> ENG | H9: =H$4 -> FRE | I9: =I$4 -> GER | J9: =J$4 -> ITA | K9: =K$4 -> SPA | L9: =L$4 -> JPN | M9: =M$4 -> KOR
B10: theSLAYER | C10: 42719 | D10: 205 | E10: Choice Band | F10: none | L10: =L$4 -> JPN
B11: theSLAYER | C11: 42719 | D11: 205 | E11: Choice Scarf | F11: none | L11: =L$4 -> JPN
B12: theSLAYER | C12: 42719 | D12: 210 | E12: Gold Bottle Cap | F12: none | L12: =L$4 -> JPN
B13: Rei Keima | C13: 42726 | D13: 2047 | E13: Battle Points x50 | F13: none | G13: =G$4 -> ENG
B14: theSLAYER | C14: 42726 | D14: 2047 | E14: Battle Points x50 | F14: none | H14: =H$4 -> FRE | I14: =I$4 -> GER | J14: =J$4 -> ITA | K14: =K$4 -> SPA | L14: =L$4 -> JPN | M14: =M$4 -> KOR
B15: theSLAYER | C15: 42748 | D15: 208 | E15: Rare Candy | F15: none | L15: =L$4 -> JPN
B16: theSLAYER | C16: 42760 | D16: 0 | E16: Mewnium Z | F16: none | G16: =G$4 -> ENG
B17: theSLAYER | C17: 42762 | D17: 218 | E17: Magikarp | F17: Lunar | G17: =G$4 -> ENG
B18: theSLAYER | C18: 42769 | D18: 599 | E18: Bottle Cap | F18: none | G18: =G$4 -> ENG | H18: =H$4 -> FRE | I18: =I$4 -> GER | J18: =J$4 -> ITA | K18: =K$4 -> SPA
B19: SciresM | C19: 42774 | D19: 219 | E19: Machamp | F19: サオリ | L19: =L$4 -> JPN
B20: theSLAYER | C20: 42787 | D20: 1604 | E20: Rare Candy | F20: none | G20: =G$4 -> ENG | H20: =H$4 -> FRE | I20: =I$4 -> GER | J20: =J$4 -> ITA | K20: =K$4 -> SPA | L20: =L$4 -> JPN | M20: =M$4 -> KOR
B21: theSLAYER | C21: 42797 | D21: 1605 | E21: Mewtwonite XY | F21: none | G21: =G$4 -> ENG | H21: =H$4 -> FRE | I21: =I$4 -> GER | J21: =J$4 -> ITA | K21: =K$4 -> SPA | L21: =L$4 -> JPN | M21: =M$4 -> KOR
B22: theSLAYER | C22: 42801 | D22: 1606 | E22: Mawilite | F22: none | G22: =G$4 -> ENG | H22: =H$4 -> FRE | I22: =I$4 -> GER | J22: =J$4 -> ITA | K22: =K$4 -> SPA | L22: =L$4 -> JPN | M22: =M$4 -> KOR
B23: theSLAYER | C23: 42805 | D23: 227 | E23: Pikachu | F23: トウホク | L23: =L$4 -> JPN
B24: theSLAYER | C24: 42808 | D24: 224 | E24: Charizard | F24: コロコロ | L24: =L$4 -> JPN
B25: theSLAYER | C25: 42810 | D25: 220 | E25: Tapu Koko | F25: メレメレ | L25: =L$4 -> JPN
B26: theSLAYER | C26: 42815 | D26: 225 | E26: Battle Points x10 | F26: none | L26: =L$4 -> JPN
B27: theSLAYER | C27: 42815 | D27: 1607 | E27: Rare Candy | F27: none | G27: =G$4 -> ENG | H27: =H$4 -> FRE | I27: =I$4 -> GER | J27: =J$4 -> ITA | K27: =K$4 -> SPA | L27: =L$4 -> JPN | M27: =M$4 -> KOR
B28: theSLAYER | C28: 42822 | D28: 1608 | E28: Pidgeotite | F28: none | G28: =G$4 -> ENG | H28: =H$4 -> FRE | I28: =I$4 -> GER | J28: =J$4 -> ITA | K28: =K$4 -> SPA | L28: =L$4 -> JPN | M28: =M$4 -> KOR
B29: theSLAYER | C29: 42829 | D29: 1107 | E29: Vulpix (Alola) | F29: 썬문 | M29: =M$4 -> KOR
B30: theSLAYER | C30: 42832 | D30: 1609 | E30: Mawilite | F30: none | G30: =G$4 -> ENG | H30: =H$4 -> FRE | I30: =I$4 -> GER | J30: =J$4 -> ITA | K30: =K$4 -> SPA | L30: =L$4 -> JPN | M30: =M$4 -> KOR
B31: theSLAYER | C31: 42839 | D31: 223 | E31: Ash Pikachu I | F31: サトシ | L31: =L$4 -> JPN
B32: theSLAYER | C32: 42843 | D32: 1610 | E32: Rare Candy | F32: none | G32: =G$4 -> ENG | H32: =H$4 -> FRE | I32: =I$4 -> GER | J32: =J$4 -> ITA | K32: =K$4 -> SPA | L32: =L$4 -> JPN | M32: =M$4 -> KOR
B33: theSLAYER | C33: 42853 | D33: 223 | E33: Tapu Koko | F33: Melemele | G33: =G$4 -> ENG
B34: theSLAYER | C34: 42857 | D34: 1109 | E34: Diglett | F34: 썬문 | M34: =M$4 -> KOR
B35: theSLAYER | C35: 42857 | D35: 1110 | E35: Grimer | F35: 썬문 | M35: =M$4 -> KOR
B36: theSLAYER | C36: 42858 | D36: 223 | E36: Ash Pikachu III | F36: サトシ | L36: =L$4 -> JPN
B37: theSLAYER | C37: 42861 | D37: 606 | E37: Lycanroc | F37: Rocky | G37: =G$4 -> ENG | I37: =I$4 -> GER | J37: =J$4 -> ITA | K37: =K$4 -> SPA
B38: theSLAYER | C38: 42864 | D38: 606 | E38: Lycanroc | F38: Rocky | H38: =H$4 -> FRE
B39: theSLAYER | C39: 42864 | D39: 1108 | E39: Sandshrew (Alolan) | F39: 썬문 | M39: =M$4 -> KOR
B40: theSLAYER | C40: 42867 | D40: 1611 | E40: Pidgeotite | F40: none | G40: =G$4 -> ENG | H40: =H$4 -> FRE | I40: =I$4 -> GER | J40: =J$4 -> ITA | K40: =K$4 -> SPA | L40: =L$4 -> JPN | M40: =M$4 -> KOR
B41: ReignOfComputer | C41: 42869 | D41: 230 | E41: Glaceon | F41: ポケセン | L41: =L$4 -> JPN
B42: ReignOfComputer | C42: 42869 | D42: 230 | E42: Jolteon | F42: ポケセン | L42: =L$4 -> JPN
B43: ReignOfComputer | C43: 42869 | D43: 230 | E43: Vaporeon | F43: ポケセン | L43: =L$4 -> JPN
B44: ReignOfComputer | C44: 42869 | D44: 230 | E44: Flareon | F44: ポケセン | L44: =L$4 -> JPN
B45: ReignOfComputer | C45: 42869 | D45: 230 | E45: Espeon | F45: ポケセン | L45: =L$4 -> JPN
B46: ReignOfComputer | C46: 42869 | D46: 230 | E46: Umbreon | F46: ポケセン | L46: =L$4 -> JPN
B47: ReignOfComputer | C47: 42869 | D47: 230 | E47: Leafeon | F47: ポケセン | L47: =L$4 -> JPN
B48: ReignOfComputer | C48: 42869 | D48: 230 | E48: Sylveon | F48: ポケセン | L48: =L$4 -> JPN
B49: theSLAYER | C49: 42881 | D49: 1612 | E49: Rare Candy | F49: none | G49: =G$4 -> ENG | H49: =H$4 -> FRE | I49: =I$4 -> GER | J49: =J$4 -> ITA | K49: =K$4 -> SPA | L49: =L$4 -> JPN | M49: =M$4 -> KOR
B50: theSLAYER | C50: 42881 | D50: 223 | E50: Ash Pikachu IV | F50: サトシ | L50: =L$4 -> JPN
B51: theSLAYER | C51: 42885 | D51: 1613 | E51: Sceptilite | F51: none | G51: =G$4 -> ENG | H51: =H$4 -> FRE | I51: =I$4 -> GER | J51: =J$4 -> ITA | K51: =K$4 -> SPA | L51: =L$4 -> JPN | M51: =M$4 -> KOR
B52: theSLAYER | C52: 42893 | D52: 1614 | E52: Tyranitarite | F52: none | G52: =G$4 -> ENG | H52: =H$4 -> FRE | I52: =I$4 -> GER | J52: =J$4 -> ITA | K52: =K$4 -> SPA | L52: =L$4 -> JPN | M52: =M$4 -> KOR
B53: theSLAYER | C53: 42893 | D53: 223 | E53: Ash Pikachu V | F53: サトシ | L53: =L$4 -> JPN
B54: theSLAYER | C54: 42899 | D54: 223 | E54: Ash Pikachu VI | F54: サトシ | L54: =L$4 -> JPN
B55: theSLAYER | C55: 42902 | D55: 234 | E55: Steenee | F55: マオ | L55: =L$4 -> JPN
B56: theSLAYER | C56: 42906 | D56: 1615 | E56: Rare Candy | F56: none | G56: =G$4 -> ENG | H56: =H$4 -> FRE | I56: =I$4 -> GER | J56: =J$4 -> ITA | K56: =K$4 -> SPA | L56: =L$4 -> JPN | M56: =M$4 -> KOR
B57: theSLAYER | C57: 42909 | D57: 1616 | E57: Sceptilite | F57: none | G57: =G$4 -> ENG | H57: =H$4 -> FRE | I57: =I$4 -> GER | J57: =J$4 -> ITA | K57: =K$4 -> SPA | L57: =L$4 -> JPN | M57: =M$4 -> KOR
B58: theSLAYER | C58: 42913 | D58: 235 | E58: Turtonator | F58: カキ | L58: =L$4 -> JPN
B59: theSLAYER | C59: 42913 | D59: 223 | E59: Ash Pikachu VII | F59: サトシ | L59: =L$4 -> JPN
B60: argus1963 | C60: 42916 | D60: 231 | E60: Victini | F60: トウホク | L60: =L$4 -> JPN
B61: Jay (/u/Upper90175) via Kirzi | C61: 42918 | D61: 615 | E61: Arcanine | F61: NA Champs 17 | G61: =G$4 -> ENG | P61: 170701
B62: RustInPeace | C62: 42920 | D62: 1617 | E62: Gardevoirite | F62: none | G62: =G$4 -> ENG
B63: theSLAYER | C63: 42920 | D63: 1617 | E63: Gardevoirite | F63: none | H63: =H$4 -> FRE | I63: =I$4 -> GER | J63: =J$4 -> ITA | K63: =K$4 -> SPA | L63: =L$4 -> JPN | M63: =M$4 -> KOR
B64: theSLAYER | C64: 42921 | D64: 236 | E64: Vulpix (Alola) | F64: リーリエ | L64: =L$4 -> JPN

Sheet Missing Wondercards
F1: Year wanted | G1: all | AD1: ENG | AF1: FRE | AH1: GER | AJ1: ITA | AL1: JPN | AN1: KOR | AP1: SPA | AR1: CHS | AT1: CHT
C2: =MAX(B:B) -> 3 | F2: =IF(H2="","","<tr><td style=""text-align: center;"">"&W2&"</td>"&"<td>"&H2&"</td><td>"&I2&"</td><td>"&J2&"</td><td>"&K2&"</td><td>"&L2&"</td><td>"&M2&"</td><td>"&N2&"</td><td>"&O2&"</td></tr>") -> <tr><td style="text-align: center;"></td><td>Year and Type</td><td>Detail</td><td>Description</td><td>Dates</td><td>WC ID</td><td>TID</td><td>Distribution Type</td><td>Languages Missing</td></tr> | H2: Year and Type | I2: Detail | J2: Description | K2: Dates | L2: WC ID | M2: TID | N2: Distribution Type | O2: Languages Missing | S2: 3 | T2: 6 | U2: 7 | V2: 8 | X2: 30 | Y2: 4 | Z2: 5 | AB2: 20 | AD2: 33 | AF2: 34 | AH2: 35 | AJ2: 36 | AL2: 37 | AN2: 38 | AP2: 39 | AR2: 40 | AT2: 41
A3: 1 | B3: =COUNTIF($C$3:C3,1) -> 0 | C3: =Events!AF10 -> 0 | D3: =A3 -> 1 | F3: =IF(H3="","","<tr><td style=""text-align: center;"">"&W3&"</td>"&"<td>"&H3&"</td><td>"&I3&"</td><td>"&J3&"</td><td>"&K3&"</td><td>"&L3&"</td><td>"&M3&"</td><td>"&N3&"</td><td>"&O3&"</td></tr>") -> <tr><td style="text-align: center;">https://projectpokemon.org/images/mini_sprites/ho-oh.png</td><td>Year 2017: Pkmn</td><td>Ho-Oh</td><td>CoroCoro Giveaway</td><td>Jul 15 - ?</td><td>?</td><td>?</td><td>Serial Code</td><td>JPN</td></tr> | H3: =IF($Q3="","",S3&": "&T3) -> Year 2017: Pkmn | I3: =IF($Q3="","",U3) -> Ho-Oh | J3: =IF($Q3="","",V3) -> CoroCoro Giveaway | K3: =X3 -> Jul 15 - ? | L3: =IF($Q3="","",Y3) -> ? | M3: =IF($Q3="","",Z3) -> ? | N3: =IF($Q3="","",AB3) -> Serial Code | O3: =IF($Q3="","",AD3&AE3&AF3&AG3&AH3&AI3&AJ3&AK3&AL3&AM3&AN3&AO3&AP3) -> JPN | Q3: =IF(ISNA(VLOOKUP(A3,B:D,3,0))=TRUE,"",VLOOKUP(A3,B:D,3,0)) -> 102 | S3: =IF($Q3="","","Year "&VLOOKUP($Q3,Events!A:AM,S$2,0)) -> Year 2017 | T3: =IF($Q3="","",VLOOKUP($Q3,Events!A:AM,T$2,0)) -> Pkmn | U3: =IF($Q3="","",VLOOKUP($Q3,Events!A:AM,U$2,0)) -> Ho-Oh | V3: =IF($Q3="","",VLOOKUP($Q3,Events!A:AM,V$2,0)) -> CoroCoro Giveaway | W3: =IF(Q3="","",(Lower(if(T3="Pkmn",("https://projectpokemon.org/images/mini_sprites/"),"https://projectpokemon.org/images/items/")) & Lower(substitute(substitute(substitute(U3,")",""),"(","")," ","_") & ".png"))) -> https://projectpokemon.org/images/mini_sprites/ho-oh.png | X3: =IF($Q3="","",text(VLOOKUP($Q3,Events!A:AM,X$2,0),"MMM dd")&" "&VLOOKUP($Q3,Events!A:AM,X$2+1,0)) -> Jul 15 - ? | Y3: =IF($Q3="","",TEXT(VLOOKUP($Q3,Events!A:AM,Y$2,0),"0000")) -> ? | Z3: =IF($Q3="","",TEXT(VLOOKUP($Q3,Events!A:AM,Z$2,0),"00000")) -> ? | AA3: =IF($Q3="","","Type:") -> Type: | AB3: =IF($Q3="","",VLOOKUP($Q3,Events!A:AM,AB$2,0)) -> Serial Code | AC3: =IF($Q3="","","Languages: ") -> Languages: | AD3: =IF($Q3="","",IF(VLOOKUP($Q3,Events!A:AQ,AD$2,0)=1,AD$1,"")) | AE3: =IF(AND((AD3=AD$1)=TRUE,($AU3>1)=TRUE)=TRUE,IF(COUNTIF($AC3:AC3," & ")=$AU3-1,""," & "),"") | AF3: =IF($Q3="","",IF(VLOOKUP($Q3,Events!A:AQ,AF$2,0)=1,AF$1,"")) | AG3: =IF(AND((AF3=AF$1)=TRUE,($AU3>1)=TRUE)=TRUE,IF(COUNTIF($AC3:AE3," & ")=$AU3-1,""," & "),"") | AH3: =IF($Q3="","",IF(VLOOKUP($Q3,Events!A:AQ,AH$2,0)=1,AH$1,"")) | AI3: =IF(AND((AH3=AH$1)=TRUE,($AU3>1)=TRUE)=TRUE,IF(COUNTIF($AC3:AG3," & ")=$AU3-1,""," & "),"") | AJ3: =IF($Q3="","",IF(VLOOKUP($Q3,Events!A:AQ,AJ$2,0)=1,AJ$1,"")) | AK3: =IF(AND((AJ3=AJ$1)=TRUE,($AU3>1)=TRUE)=TRUE,IF(COUNTIF($AC3:AI3," & ")=$AU3-1,""," & "),"") | AL3: =IF($Q3="","",IF(VLOOKUP($Q3,Events!A:AQ,AL$2,0)=1,AL$1,"")) -> JPN | AM3: =IF(AND((AL3=AL$1)=TRUE,($AU3>1)=TRUE)=TRUE,IF(COUNTIF($AC3:AK3," & ")=$AU3-1,""," & "),"") | AN3: =IF($Q3="","",IF(VLOOKUP($Q3,Events!A:AQ,AN$2,0)=1,AN$1,"")) | AO3: =IF(AND((AN3=AN$1)=TRUE,($AU3>1)=TRUE)=TRUE,IF(COUNTIF($AC3:AM3," & ")=$AU3-1,""," & "),"") | AP3: =IF($Q3="","",IF(VLOOKUP($Q3,Events!A:AQ,AP$2,0)=1,AP$1,"")) | AQ3: =IF(AND((AP3=AP$1)=TRUE,($AU3>1)=TRUE)=TRUE,IF(COUNTIF($AC3:AO3," & ")=$AU3-1,""," & "),"") | AR3: =IF($Q3="","",IF(VLOOKUP($Q3,Events!A:AQ,AR$2,0)=1,AR$1,"")) | AS3: =IF(AND((AR3=AR$1)=TRUE,($AU3>1)=TRUE)=TRUE,IF(COUNTIF($AC3:AQ3," & ")=$AU3-1,""," & "),"") | AT3: =IF($Q3="","",IF(VLOOKUP($Q3,Events!A:AQ,AT$2,0)=1,AT$1,"")) | AU3: =IF($Q3="","",9-COUNTBLANK(AD3)-COUNTBLANK(AF3)-COUNTBLANK(AH3)-COUNTBLANK(AJ3)-COUNTBLANK(AL3)-COUNTBLANK(AN3)-COUNTBLANK(AP3)-COUNTBLANK(AR3)-COUNTBLANK(AT3)) -> 1
A4: 2 | B4: =COUNTIF($C$3:C4,1) -> 0 | C4: =Events!AF11 -> 0 | D4: =A4 -> 2 | F4: =IF(H4="","","<tr><td style=""text-align: center;"">"&W4&"</td>"&"<td>"&H4&"</td><td>"&I4&"</td><td>"&J4&"</td><td>"&K4&"</td><td>"&L4&"</td><td>"&M4&"</td><td>"&N4&"</td><td>"&O4&"</td></tr>") -> <tr><td style="text-align: center;">https://projectpokemon.org/images/mini_sprites/jirachi.png</td><td>Year 2017: Pkmn</td><td>Jirachi</td><td>Tohoku Pokecen's Tanabata Jirachi</td><td>Aug 06 - Aug 13, 2017</td><td>?</td><td>?</td><td>Local Wireless</td><td>JPN</td></tr> | H4: =IF($Q4="","",S4&": "&T4) -> Year 2017: Pkmn | I4: =IF($Q4="","",U4) -> Jirachi | J4: =IF($Q4="","",V4) -> Tohoku Pokecen's Tanabata Jirachi | K4: =X4 -> Aug 06 - Aug 13, 2017 | L4: =IF($Q4="","",Y4) -> ? | M4: =IF($Q4="","",Z4) -> ? | N4: =IF($Q4="","",AB4) -> Local Wireless | O4: =IF($Q4="","",AD4&AE4&AF4&AG4&AH4&AI4&AJ4&AK4&AL4&AM4&AN4&AO4&AP4) -> JPN | Q4: =IF(ISNA(VLOOKUP(A4,B:D,3,0))=TRUE,"",VLOOKUP(A4,B:D,3,0)) -> 103 | S4: =IF($Q4="","","Year "&VLOOKUP($Q4,Events!A:AM,S$2,0)) -> Year 2017 | T4: =IF($Q4="","",VLOOKUP($Q4,Events!A:AM,T$2,0)) -> Pkmn | U4: =IF($Q4="","",VLOOKUP($Q4,Events!A:AM,U$2,0)) -> Jirachi | V4: =IF($Q4="","",VLOOKUP($Q4,Events!A:AM,V$2,0)) -> Tohoku Pokecen's Tanabata Jirachi | W4: =IF(Q4="","",(Lower(if(T4="Pkmn",("https://projectpokemon.org/images/mini_sprites/"),"https://projectpokemon.org/images/items/")) & Lower(substitute(substitute(substitute(U4,")",""),"(","")," ","_") & ".png"))) -> https://projectpokemon.org/images/mini_sprites/jirachi.png | X4: =IF($Q4="","",text(VLOOKUP($Q4,Events!A:AM,X$2,0),"MMM dd")&" "&VLOOKUP($Q4,Events!A:AM,X$2+1,0)) -> Aug 06 - Aug 13, 2017 | Y4: =IF($Q4="","",TEXT(VLOOKUP($Q4,Events!A:AM,Y$2,0),"0000")) -> ? | Z4: =IF($Q4="","",TEXT(VLOOKUP($Q4,Events!A:AM,Z$2,0),"00000")) -> ? | AA4: =IF($Q4="","","Type:") -> Type: | AB4: =IF($Q4="","",VLOOKUP($Q4,Events!A:AM,AB$2,0)) -> Local Wireless | AC4: =IF($Q4="","","Languages: ") -> Languages: | AD4: =IF($Q4="","",IF(VLOOKUP($Q4,Events!A:AQ,AD$2,0)=1,AD$1,"")) | AE4: =IF(AND((AD4=AD$1)=TRUE,($AU4>1)=TRUE)=TRUE,IF(COUNTIF($AC4:AC4," & ")=$AU4-1,""," & "),"") | AF4: =IF($Q4="","",IF(VLOOKUP($Q4,Events!A:AQ,AF$2,0)=1,AF$1,"")) | AG4: =IF(AND((AF4=AF$1)=TRUE,($AU4>1)=TRUE)=TRUE,IF(COUNTIF($AC4:AE4," & ")=$AU4-1,""," & "),"") | AH4: =IF($Q4="","",IF(VLOOKUP($Q4,Events!A:AQ,AH$2,0)=1,AH$1,"")) | AI4: =IF(AND((AH4=AH$1)=TRUE,($AU4>1)=TRUE)=TRUE,IF(COUNTIF($AC4:AG4," & ")=$AU4-1,""," & "),"") | AJ4: =IF($Q4="","",IF(VLOOKUP($Q4,Events!A:AQ,AJ$2,0)=1,AJ$1,"")) | AK4: =IF(AND((AJ4=AJ$1)=TRUE,($AU4>1)=TRUE)=TRUE,IF(COUNTIF($AC4:AI4," & ")=$AU4-1,""," & "),"") | AL4: =IF($Q4="","",IF(VLOOKUP($Q4,Events!A:AQ,AL$2,0)=1,AL$1,"")) -> JPN | AM4: =IF(AND((AL4=AL$1)=TRUE,($AU4>1)=TRUE)=TRUE,IF(COUNTIF($AC4:AK4," & ")=$AU4-1,""," & "),"") | AN4: =IF($Q4="","",IF(VLOOKUP($Q4,Events!A:AQ,AN$2,0)=1,AN$1,"")) | AO4: =IF(AND((AN4=AN$1)=TRUE,($AU4>1)=TRUE)=TRUE,IF(COUNTIF($AC4:AM4," & ")=$AU4-1,""," & "),"") | AP4: =IF($Q4="","",IF(VLOOKUP($Q4,Events!A:AQ,AP$2,0)=1,AP$1,"")) | AQ4: =IF(AND((AP4=AP$1)=TRUE,($AU4>1)=TRUE)=TRUE,IF(COUNTIF($AC4:AO4," & ")=$AU4-1,""," & "),"") | AR4: =IF($Q4="","",IF(VLOOKUP($Q4,Events!A:AQ,AR$2,0)=1,AR$1,"")) | AS4: =IF(AND((AR4=AR$1)=TRUE,($AU4>1)=TRUE)=TRUE,IF(COUNTIF($AC4:AQ4," & ")=$AU4-1,""," & "),"") | AT4: =IF($Q4="","",IF(VLOOKUP($Q4,Events!A:AQ,AT$2,0)=1,AT$1,"")) | AU4: =IF($Q4="","",9-COUNTBLANK(AD4)-COUNTBLANK(AF4)-COUNTBLANK(AH4)-COUNTBLANK(AJ4)-COUNTBLANK(AL4)-COUNTBLANK(AN4)-COUNTBLANK(AP4)-COUNTBLANK(AR4)-COUNTBLANK(AT4)) -> 1
A5: 3 | B5: =COUNTIF($C$3:C5,1) -> 0 | C5: =Events!AF12 -> 0 | D5: =A5 -> 3 | F5: =IF(H5="","","<tr><td style=""text-align: center;"">"&W5&"</td>"&"<td>"&H5&"</td><td>"&I5&"</td><td>"&J5&"</td><td>"&K5&"</td><td>"&L5&"</td><td>"&M5&"</td><td>"&N5&"</td><td>"&O5&"</td></tr>") -> <tr><td style="text-align: center;">https://projectpokemon.org/images/mini_sprites/salazzle.png</td><td>Year 2017: Pkmn</td><td>Salazzle</td><td>?</td><td>? - ?</td><td>?</td><td>?</td><td>Serial Code</td><td>ENG & FRE & GER & ITA & SPA</td></tr> | H5: =IF($Q5="","",S5&": "&T5) -> Year 2017: Pkmn | I5: =IF($Q5="","",U5) -> Salazzle | J5: =IF($Q5="","",V5) -> ? | K5: =X5 -> ? - ? | L5: =IF($Q5="","",Y5) -> ? | M5: =IF($Q5="","",Z5) -> ? | N5: =IF($Q5="","",AB5) -> Serial Code | O5: =IF($Q5="","",AD5&AE5&AF5&AG5&AH5&AI5&AJ5&AK5&AL5&AM5&AN5&AO5&AP5) -> ENG & FRE & GER & ITA & SPA | Q5: =IF(ISNA(VLOOKUP(A5,B:D,3,0))=TRUE,"",VLOOKUP(A5,B:D,3,0)) -> 104 | S5: =IF($Q5="","","Year "&VLOOKUP($Q5,Events!A:AM,S$2,0)) -> Year 2017 | T5: =IF($Q5="","",VLOOKUP($Q5,Events!A:AM,T$2,0)) -> Pkmn | U5: =IF($Q5="","",VLOOKUP($Q5,Events!A:AM,U$2,0)) -> Salazzle | V5: =IF($Q5="","",VLOOKUP($Q5,Events!A:AM,V$2,0)) -> ? | W5: =IF(Q5="","",(Lower(if(T5="Pkmn",("https://projectpokemon.org/images/mini_sprites/"),"https://projectpokemon.org/images/items/")) & Lower(substitute(substitute(substitute(U5,")",""),"(","")," ","_") & ".png"))) -> https://projectpokemon.org/images/mini_sprites/salazzle.png | X5: =IF($Q5="","",text(VLOOKUP($Q5,Events!A:AM,X$2,0),"MMM dd")&" "&VLOOKUP($Q5,Events!A:AM,X$2+1,0)) -> ? - ? | Y5: =IF($Q5="","",TEXT(VLOOKUP($Q5,Events!A:AM,Y$2,0),"0000")) -> ? | Z5: =IF($Q5="","",TEXT(VLOOKUP($Q5,Events!A:AM,Z$2,0),"00000")) -> ? | AA5: =IF($Q5="","","Type:") -> Type: | AB5: =IF($Q5="","",VLOOKUP($Q5,Events!A:AM,AB$2,0)) -> Serial Code | AC5: =IF($Q5="","","Languages: ") -> Languages: | AD5: =IF($Q5="","",IF(VLOOKUP($Q5,Events!A:AQ,AD$2,0)=1,AD$1,"")) -> ENG | AE5: =IF(AND((AD5=AD$1)=TRUE,($AU5>1)=TRUE)=TRUE,IF(COUNTIF($AC5:AC5," & ")=$AU5-1,""," & "),"") -> & | AF5: =IF($Q5="","",IF(VLOOKUP($Q5,Events!A:AQ,AF$2,0)=1,AF$1,"")) -> FRE | AG5: =IF(AND((AF5=AF$1)=TRUE,($AU5>1)=TRUE)=TRUE,IF(COUNTIF($AC5:AE5," & ")=$AU5-1,""," & "),"") -> & | AH5: =IF($Q5="","",IF(VLOOKUP($Q5,Events!A:AQ,AH$2,0)=1,AH$1,"")) -> GER | AI5: =IF(AND((AH5=AH$1)=TRUE,($AU5>1)=TRUE)=TRUE,IF(COUNTIF($AC5:AG5," & ")=$AU5-1,""," & "),"") -> & | AJ5: =IF($Q5="","",IF(VLOOKUP($Q5,Events!A:AQ,AJ$2,0)=1,AJ$1,"")) -> ITA | AK5: =IF(AND((AJ5=AJ$1)=TRUE,($AU5>1)=TRUE)=TRUE,IF(COUNTIF($AC5:AI5," & ")=$AU5-1,""," & "),"") -> & | AL5: =IF($Q5="","",IF(VLOOKUP($Q5,Events!A:AQ,AL$2,0)=1,AL$1,"")) | AM5: =IF(AND((AL5=AL$1)=TRUE,($AU5>1)=TRUE)=TRUE,IF(COUNTIF($AC5:AK5," & ")=$AU5-1,""," & "),"") | AN5: =IF($Q5="","",IF(VLOOKUP($Q5,Events!A:AQ,AN$2,0)=1,AN$1,"")) | AO5: =IF(AND((AN5=AN$1)=TRUE,($AU5>1)=TRUE)=TRUE,IF(COUNTIF($AC5:AM5," & ")=$AU5-1,""," & "),"") | AP5: =IF($Q5="","",IF(VLOOKUP($Q5,Events!A:AQ,AP$2,0)=1,AP$1,"")) -> SPA | AQ5: =IF(AND((AP5=AP$1)=TRUE,($AU5>1)=TRUE)=TRUE,IF(COUNTIF($AC5:AO5," & ")=$AU5-1,""," & "),"") | AR5: =IF($Q5="","",IF(VLOOKUP($Q5,Events!A:AQ,AR$2,0)=1,AR$1,"")) | AS5: =IF(AND((AR5=AR$1)=TRUE,($AU5>1)=TRUE)=TRUE,IF(COUNTIF($AC5:AQ5," & ")=$AU5-1,""," & "),"") | AT5: =IF($Q5="","",IF(VLOOKUP($Q5,Events!A:AQ,AT$2,0)=1,AT$1,"")) | AU5: =IF($Q5="","",9-COUNTBLANK(AD5)-COUNTBLANK(AF5)-COUNTBLANK(AH5)-COUNTBLANK(AJ5)-COUNTBLANK(AL5)-COUNTBLANK(AN5)-COUNTBLANK(AP5)-COUNTBLANK(AR5)-COUNTBLANK(AT5)) -> 5
A6: 4 | B6: =COUNTIF($C$3:C6,1) -> 0 | C6: =Events!AF13 -> 0 | D6: =A6 -> 4 | F6: =IF(H6="","","<tr><td style=""text-align: center;"">"&W6&"</td>"&"<td>"&H6&"</td><td>"&I6&"</td><td>"&J6&"</td><td>"&K6&"</td><td>"&L6&"</td><td>"&M6&"</td><td>"&N6&"</td><td>"&O6&"</td></tr>") | H6: =IF($Q6="","",S6&": "&T6) | I6: =IF($Q6="","",U6) | J6: =IF($Q6="","",V6) | K6: =X6 | L6: =IF($Q6="","",Y6) | M6: =IF($Q6="","",Z6) | N6: =IF($Q6="","",AB6) | O6: =IF($Q6="","",AD6&AE6&AF6&AG6&AH6&AI6&AJ6&AK6&AL6&AM6&AN6&AO6&AP6) | Q6: =IF(ISNA(VLOOKUP(A6,B:D,3,0))=TRUE,"",VLOOKUP(A6,B:D,3,0)) | S6: =IF($Q6="","","Year "&VLOOKUP($Q6,Events!A:AM,S$2,0)) | T6: =IF($Q6="","",VLOOKUP($Q6,Events!A:AM,T$2,0)) | U6: =IF($Q6="","",VLOOKUP($Q6,Events!A:AM,U$2,0)) | V6: =IF($Q6="","",VLOOKUP($Q6,Events!A:AM,V$2,0)) | W6: =IF(Q6="","",(Lower(if(T6="Pkmn",("https://projectpokemon.org/images/mini_sprites/"),"https://projectpokemon.org/images/items/")) & Lower(substitute(substitute(substitute(U6,")",""),"(","")," ","_") & ".png"))) | X6: =IF($Q6="","",text(VLOOKUP($Q6,Events!A:AM,X$2,0),"MMM dd")&" "&VLOOKUP($Q6,Events!A:AM,X$2+1,0)) | Y6: =IF($Q6="","",TEXT(VLOOKUP($Q6,Events!A:AM,Y$2,0),"0000")) | Z6: =IF($Q6="","",TEXT(VLOOKUP($Q6,Events!A:AM,Z$2,0),"00000")) | AA6: =IF($Q6="","","Type:") | AB6: =IF($Q6="","",VLOOKUP($Q6,Events!A:AM,AB$2,0)) | AC6: =IF($Q6="","","Languages: ") | AD6: =IF($Q6="","",IF(VLOOKUP($Q6,Events!A:AQ,AD$2,0)=1,AD$1,"")) | AE6: =IF(AND((AD6=AD$1)=TRUE,($AU6>1)=TRUE)=TRUE,IF(COUNTIF($AC6:AC6," & ")=$AU6-1,""," & "),"") | AF6: =IF($Q6="","",IF(VLOOKUP($Q6,Events!A:AQ,AF$2,0)=1,AF$1,"")) | AG6: =IF(AND((AF6=AF$1)=TRUE,($AU6>1)=TRUE)=TRUE,IF(COUNTIF($AC6:AE6," & ")=$AU6-1,""," & "),"") | AH6: =IF($Q6="","",IF(VLOOKUP($Q6,Events!A:AQ,AH$2,0)=1,AH$1,"")) | AI6: =IF(AND((AH6=AH$1)=TRUE,($AU6>1)=TRUE)=TRUE,IF(COUNTIF($AC6:AG6," & ")=$AU6-1,""," & "),"") | AJ6: =IF($Q6="","",IF(VLOOKUP($Q6,Events!A:AQ,AJ$2,0)=1,AJ$1,"")) | AK6: =IF(AND((AJ6=AJ$1)=TRUE,($AU6>1)=TRUE)=TRUE,IF(COUNTIF($AC6:AI6," & ")=$AU6-1,""," & "),"") | AL6: =IF($Q6="","",IF(VLOOKUP($Q6,Events!A:AQ,AL$2,0)=1,AL$1,"")) | AM6: =IF(AND((AL6=AL$1)=TRUE,($AU6>1)=TRUE)=TRUE,IF(COUNTIF($AC6:AK6," & ")=$AU6-1,""," & "),"") | AN6: =IF($Q6="","",IF(VLOOKUP($Q6,Events!A:AQ,AN$2,0)=1,AN$1,"")) | AO6: =IF(AND((AN6=AN$1)=TRUE,($AU6>1)=TRUE)=TRUE,IF(COUNTIF($AC6:AM6," & ")=$AU6-1,""," & "),"") | AP6: =IF($Q6="","",IF(VLOOKUP($Q6,Events!A:AQ,AP$2,0)=1,AP$1,"")) | AQ6: =IF(AND((AP6=AP$1)=TRUE,($AU6>1)=TRUE)=TRUE,IF(COUNTIF($AC6:AO6," & ")=$AU6-1,""," & "),"") | AR6: =IF($Q6="","",IF(VLOOKUP($Q6,Events!A:AQ,AR$2,0)=1,AR$1,"")) | AS6: =IF(AND((AR6=AR$1)=TRUE,($AU6>1)=TRUE)=TRUE,IF(COUNTIF($AC6:AQ6," & ")=$AU6-1,""," & "),"") | AT6: =IF($Q6="","",IF(VLOOKUP($Q6,Events!A:AQ,AT$2,0)=1,AT$1,"")) | AU6: =IF($Q6="","",9-COUNTBLANK(AD6)-COUNTBLANK(AF6)-COUNTBLANK(AH6)-COUNTBLANK(AJ6)-COUNTBLANK(AL6)-COUNTBLANK(AN6)-COUNTBLANK(AP6)-COUNTBLANK(AR6)-COUNTBLANK(AT6))
A7: 5 | B7: =COUNTIF($C$3:C7,1) -> 0 | C7: =Events!AF14 -> 0 | D7: =A7 -> 5 | F7: =IF(H7="","","<tr><td style=""text-align: center;"">"&W7&"</td>"&"<td>"&H7&"</td><td>"&I7&"</td><td>"&J7&"</td><td>"&K7&"</td><td>"&L7&"</td><td>"&M7&"</td><td>"&N7&"</td><td>"&O7&"</td></tr>") | H7: =IF($Q7="","",S7&": "&T7) | I7: =IF($Q7="","",U7) | J7: =IF($Q7="","",V7) | K7: =X7 | L7: =IF($Q7="","",Y7) | M7: =IF($Q7="","",Z7) | N7: =IF($Q7="","",AB7) | O7: =IF($Q7="","",AD7&AE7&AF7&AG7&AH7&AI7&AJ7&AK7&AL7&AM7&AN7&AO7&AP7) | Q7: =IF(ISNA(VLOOKUP(A7,B:D,3,0))=TRUE,"",VLOOKUP(A7,B:D,3,0)) | S7: =IF($Q7="","","Year "&VLOOKUP($Q7,Events!A:AM,S$2,0)) | T7: =IF($Q7="","",VLOOKUP($Q7,Events!A:AM,T$2,0)) | U7: =IF($Q7="","",VLOOKUP($Q7,Events!A:AM,U$2,0)) | V7: =IF($Q7="","",VLOOKUP($Q7,Events!A:AM,V$2,0)) | W7: =IF(Q7="","",(Lower(if(T7="Pkmn",("https://projectpokemon.org/images/mini_sprites/"),"https://projectpokemon.org/images/items/")) & Lower(substitute(substitute(substitute(U7,")",""),"(","")," ","_") & ".png"))) | X7: =IF($Q7="","",text(VLOOKUP($Q7,Events!A:AM,X$2,0),"MMM dd")&" "&VLOOKUP($Q7,Events!A:AM,X$2+1,0)) | Y7: =IF($Q7="","",TEXT(VLOOKUP($Q7,Events!A:AM,Y$2,0),"0000")) | Z7: =IF($Q7="","",TEXT(VLOOKUP($Q7,Events!A:AM,Z$2,0),"00000")) | AA7: =IF($Q7="","","Type:") | AB7: =IF($Q7="","",VLOOKUP($Q7,Events!A:AM,AB$2,0)) | AC7: =IF($Q7="","","Languages: ") | AD7: =IF($Q7="","",IF(VLOOKUP($Q7,Events!A:AQ,AD$2,0)=1,AD$1,"")) | AE7: =IF(AND((AD7=AD$1)=TRUE,($AU7>1)=TRUE)=TRUE,IF(COUNTIF($AC7:AC7," & ")=$AU7-1,""," & "),"") | AF7: =IF($Q7="","",IF(VLOOKUP($Q7,Events!A:AQ,AF$2,0)=1,AF$1,"")) | AG7: =IF(AND((AF7=AF$1)=TRUE,($AU7>1)=TRUE)=TRUE,IF(COUNTIF($AC7:AE7," & ")=$AU7-1,""," & "),"") | AH7: =IF($Q7="","",IF(VLOOKUP($Q7,Events!A:AQ,AH$2,0)=1,AH$1,"")) | AI7: =IF(AND((AH7=AH$1)=TRUE,($AU7>1)=TRUE)=TRUE,IF(COUNTIF($AC7:AG7," & ")=$AU7-1,""," & "),"") | AJ7: =IF($Q7="","",IF(VLOOKUP($Q7,Events!A:AQ,AJ$2,0)=1,AJ$1,"")) | AK7: =IF(AND((AJ7=AJ$1)=TRUE,($AU7>1)=TRUE)=TRUE,IF(COUNTIF($AC7:AI7," & ")=$AU7-1,""," & "),"") | AL7: =IF($Q7="","",IF(VLOOKUP($Q7,Events!A:AQ,AL$2,0)=1,AL$1,"")) | AM7: =IF(AND((AL7=AL$1)=TRUE,($AU7>1)=TRUE)=TRUE,IF(COUNTIF($AC7:AK7," & ")=$AU7-1,""," & "),"") | AN7: =IF($Q7="","",IF(VLOOKUP($Q7,Events!A:AQ,AN$2,0)=1,AN$1,"")) | AO7: =IF(AND((AN7=AN$1)=TRUE,($AU7>1)=TRUE)=TRUE,IF(COUNTIF($AC7:AM7," & ")=$AU7-1,""," & "),"") | AP7: =IF($Q7="","",IF(VLOOKUP($Q7,Events!A:AQ,AP$2,0)=1,AP$1,"")) | AQ7: =IF(AND((AP7=AP$1)=TRUE,($AU7>1)=TRUE)=TRUE,IF(COUNTIF($AC7:AO7," & ")=$AU7-1,""," & "),"") | AR7: =IF($Q7="","",IF(VLOOKUP($Q7,Events!A:AQ,AR$2,0)=1,AR$1,"")) | AS7: =IF(AND((AR7=AR$1)=TRUE,($AU7>1)=TRUE)=TRUE,IF(COUNTIF($AC7:AQ7," & ")=$AU7-1,""," & "),"") | AT7: =IF($Q7="","",IF(VLOOKUP($Q7,Events!A:AQ,AT$2,0)=1,AT$1,"")) | AU7: =IF($Q7="","",9-COUNTBLANK(AD7)-COUNTBLANK(AF7)-COUNTBLANK(AH7)-COUNTBLANK(AJ7)-COUNTBLANK(AL7)-COUNTBLANK(AN7)-COUNTBLANK(AP7)-COUNTBLANK(AR7)-COUNTBLANK(AT7))
A8: 6 | B8: =COUNTIF($C$3:C8,1) -> 0 | C8: =Events!AF15 -> 0 | D8: =A8 -> 6 | F8: =IF(H8="","","<tr><td style=""text-align: center;"">"&W8&"</td>"&"<td>"&H8&"</td><td>"&I8&"</td><td>"&J8&"</td><td>"&K8&"</td><td>"&L8&"</td><td>"&M8&"</td><td>"&N8&"</td><td>"&O8&"</td></tr>") | H8: =IF($Q8="","",S8&": "&T8) | I8: =IF($Q8="","",U8) | J8: =IF($Q8="","",V8) | K8: =X8 | L8: =IF($Q8="","",Y8) | M8: =IF($Q8="","",Z8) | N8: =IF($Q8="","",AB8) | O8: =IF($Q8="","",AD8&AE8&AF8&AG8&AH8&AI8&AJ8&AK8&AL8&AM8&AN8&AO8&AP8) | Q8: =IF(ISNA(VLOOKUP(A8,B:D,3,0))=TRUE,"",VLOOKUP(A8,B:D,3,0)) | S8: =IF($Q8="","","Year "&VLOOKUP($Q8,Events!A:AM,S$2,0)) | T8: =IF($Q8="","",VLOOKUP($Q8,Events!A:AM,T$2,0)) | U8: =IF($Q8="","",VLOOKUP($Q8,Events!A:AM,U$2,0)) | V8: =IF($Q8="","",VLOOKUP($Q8,Events!A:AM,V$2,0)) | W8: =IF(Q8="","",(Lower(if(T8="Pkmn",("https://projectpokemon.org/images/mini_sprites/"),"https://projectpokemon.org/images/items/")) & Lower(substitute(substitute(substitute(U8,")",""),"(","")," ","_") & ".png"))) | X8: =IF($Q8="","",text(VLOOKUP($Q8,Events!A:AM,X$2,0),"MMM dd")&" "&VLOOKUP($Q8,Events!A:AM,X$2+1,0)) | Y8: =IF($Q8="","",TEXT(VLOOKUP($Q8,Events!A:AM,Y$2,0),"0000")) | Z8: =IF($Q8="","",TEXT(VLOOKUP($Q8,Events!A:AM,Z$2,0),"00000")) | AA8: =IF($Q8="","","Type:") | AB8: =IF($Q8="","",VLOOKUP($Q8,Events!A:AM,AB$2,0)) | AC8: =IF($Q8="","","Languages: ") | AD8: =IF($Q8="","",IF(VLOOKUP($Q8,Events!A:AQ,AD$2,0)=1,AD$1,"")) | AE8: =IF(AND((AD8=AD$1)=TRUE,($AU8>1)=TRUE)=TRUE,IF(COUNTIF($AC8:AC8," & ")=$AU8-1,""," & "),"") | AF8: =IF($Q8="","",IF(VLOOKUP($Q8,Events!A:AQ,AF$2,0)=1,AF$1,"")) | AG8: =IF(AND((AF8=AF$1)=TRUE,($AU8>1)=TRUE)=TRUE,IF(COUNTIF($AC8:AE8," & ")=$AU8-1,""," & "),"") | AH8: =IF($Q8="","",IF(VLOOKUP($Q8,Events!A:AQ,AH$2,0)=1,AH$1,"")) | AI8: =IF(AND((AH8=AH$1)=TRUE,($AU8>1)=TRUE)=TRUE,IF(COUNTIF($AC8:AG8," & ")=$AU8-1,""," & "),"") | AJ8: =IF($Q8="","",IF(VLOOKUP($Q8,Events!A:AQ,AJ$2,0)=1,AJ$1,"")) | AK8: =IF(AND((AJ8=AJ$1)=TRUE,($AU8>1)=TRUE)=TRUE,IF(COUNTIF($AC8:AI8," & ")=$AU8-1,""," & "),"") | AL8: =IF($Q8="","",IF(VLOOKUP($Q8,Events!A:AQ,AL$2,0)=1,AL$1,"")) | AM8: =IF(AND((AL8=AL$1)=TRUE,($AU8>1)=TRUE)=TRUE,IF(COUNTIF($AC8:AK8," & ")=$AU8-1,""," & "),"") | AN8: =IF($Q8="","",IF(VLOOKUP($Q8,Events!A:AQ,AN$2,0)=1,AN$1,"")) | AO8: =IF(AND((AN8=AN$1)=TRUE,($AU8>1)=TRUE)=TRUE,IF(COUNTIF($AC8:AM8," & ")=$AU8-1,""," & "),"") | AP8: =IF($Q8="","",IF(VLOOKUP($Q8,Events!A:AQ,AP$2,0)=1,AP$1,"")) | AQ8: =IF(AND((AP8=AP$1)=TRUE,($AU8>1)=TRUE)=TRUE,IF(COUNTIF($AC8:AO8," & ")=$AU8-1,""," & "),"") | AR8: =IF($Q8="","",IF(VLOOKUP($Q8,Events!A:AQ,AR$2,0)=1,AR$1,"")) | AS8: =IF(AND((AR8=AR$1)=TRUE,($AU8>1)=TRUE)=TRUE,IF(COUNTIF($AC8:AQ8," & ")=$AU8-1,""," & "),"") | AT8: =IF($Q8="","",IF(VLOOKUP($Q8,Events!A:AQ,AT$2,0)=1,AT$1,"")) | AU8: =IF($Q8="","",9-COUNTBLANK(AD8)-COUNTBLANK(AF8)-COUNTBLANK(AH8)-COUNTBLANK(AJ8)-COUNTBLANK(AL8)-COUNTBLANK(AN8)-COUNTBLANK(AP8)-COUNTBLANK(AR8)-COUNTBLANK(AT8))
A9: 7 | B9: =COUNTIF($C$3:C9,1) -> 0 | C9: =Events!AF16 -> 0 | D9: =A9 -> 7 | F9: =IF(H9="","","<tr><td style=""text-align: center;"">"&W9&"</td>"&"<td>"&H9&"</td><td>"&I9&"</td><td>"&J9&"</td><td>"&K9&"</td><td>"&L9&"</td><td>"&M9&"</td><td>"&N9&"</td><td>"&O9&"</td></tr>") | H9: =IF($Q9="","",S9&": "&T9) | I9: =IF($Q9="","",U9) | J9: =IF($Q9="","",V9) | K9: =X9 | L9: =IF($Q9="","",Y9) | M9: =IF($Q9="","",Z9) | N9: =IF($Q9="","",AB9) | O9: =IF($Q9="","",AD9&AE9&AF9&AG9&AH9&AI9&AJ9&AK9&AL9&AM9&AN9&AO9&AP9) | Q9: =IF(ISNA(VLOOKUP(A9,B:D,3,0))=TRUE,"",VLOOKUP(A9,B:D,3,0)) | S9: =IF($Q9="","","Year "&VLOOKUP($Q9,Events!A:AM,S$2,0)) | T9: =IF($Q9="","",VLOOKUP($Q9,Events!A:AM,T$2,0)) | U9: =IF($Q9="","",VLOOKUP($Q9,Events!A:AM,U$2,0)) | V9: =IF($Q9="","",VLOOKUP($Q9,Events!A:AM,V$2,0)) | W9: =IF(Q9="","",(Lower(if(T9="Pkmn",("https://projectpokemon.org/images/mini_sprites/"),"https://projectpokemon.org/images/items/")) & Lower(substitute(substitute(substitute(U9,")",""),"(","")," ","_") & ".png"))) | X9: =IF($Q9="","",text(VLOOKUP($Q9,Events!A:AM,X$2,0),"MMM dd")&" "&VLOOKUP($Q9,Events!A:AM,X$2+1,0)) | Y9: =IF($Q9="","",TEXT(VLOOKUP($Q9,Events!A:AM,Y$2,0),"0000")) | Z9: =IF($Q9="","",TEXT(VLOOKUP($Q9,Events!A:AM,Z$2,0),"00000")) | AA9: =IF($Q9="","","Type:") | AB9: =IF($Q9="","",VLOOKUP($Q9,Events!A:AM,AB$2,0)) | AC9: =IF($Q9="","","Languages: ") | AD9: =IF($Q9="","",IF(VLOOKUP($Q9,Events!A:AQ,AD$2,0)=1,AD$1,"")) | AE9: =IF(AND((AD9=AD$1)=TRUE,($AU9>1)=TRUE)=TRUE,IF(COUNTIF($AC9:AC9," & ")=$AU9-1,""," & "),"") | AF9: =IF($Q9="","",IF(VLOOKUP($Q9,Events!A:AQ,AF$2,0)=1,AF$1,"")) | AG9: =IF(AND((AF9=AF$1)=TRUE,($AU9>1)=TRUE)=TRUE,IF(COUNTIF($AC9:AE9," & ")=$AU9-1,""," & "),"") | AH9: =IF($Q9="","",IF(VLOOKUP($Q9,Events!A:AQ,AH$2,0)=1,AH$1,"")) | AI9: =IF(AND((AH9=AH$1)=TRUE,($AU9>1)=TRUE)=TRUE,IF(COUNTIF($AC9:AG9," & ")=$AU9-1,""," & "),"") | AJ9: =IF($Q9="","",IF(VLOOKUP($Q9,Events!A:AQ,AJ$2,0)=1,AJ$1,"")) | AK9: =IF(AND((AJ9=AJ$1)=TRUE,($AU9>1)=TRUE)=TRUE,IF(COUNTIF($AC9:AI9," & ")=$AU9-1,""," & "),"") | AL9: =IF($Q9="","",IF(VLOOKUP($Q9,Events!A:AQ,AL$2,0)=1,AL$1,"")) | AM9: =IF(AND((AL9=AL$1)=TRUE,($AU9>1)=TRUE)=TRUE,IF(COUNTIF($AC9:AK9," & ")=$AU9-1,""," & "),"") | AN9: =IF($Q9="","",IF(VLOOKUP($Q9,Events!A:AQ,AN$2,0)=1,AN$1,"")) | AO9: =IF(AND((AN9=AN$1)=TRUE,($AU9>1)=TRUE)=TRUE,IF(COUNTIF($AC9:AM9," & ")=$AU9-1,""," & "),"") | AP9: =IF($Q9="","",IF(VLOOKUP($Q9,Events!A:AQ,AP$2,0)=1,AP$1,"")) | AQ9: =IF(AND((AP9=AP$1)=TRUE,($AU9>1)=TRUE)=TRUE,IF(COUNTIF($AC9:AO9," & ")=$AU9-1,""," & "),"") | AR9: =IF($Q9="","",IF(VLOOKUP($Q9,Events!A:AQ,AR$2,0)=1,AR$1,"")) | AS9: =IF(AND((AR9=AR$1)=TRUE,($AU9>1)=TRUE)=TRUE,IF(COUNTIF($AC9:AQ9," & ")=$AU9-1,""," & "),"") | AT9: =IF($Q9="","",IF(VLOOKUP($Q9,Events!A:AQ,AT$2,0)=1,AT$1,"")) | AU9: =IF($Q9="","",9-COUNTBLANK(AD9)-COUNTBLANK(AF9)-COUNTBLANK(AH9)-COUNTBLANK(AJ9)-COUNTBLANK(AL9)-COUNTBLANK(AN9)-COUNTBLANK(AP9)-COUNTBLANK(AR9)-COUNTBLANK(AT9))
A10: 8 | B10: =COUNTIF($C$3:C10,1) -> 0 | C10: =Events!AF17 -> 0 | D10: =A10 -> 8 | F10: =IF(H10="","","<tr><td style=""text-align: center;"">"&W10&"</td>"&"<td>"&H10&"</td><td>"&I10&"</td><td>"&J10&"</td><td>"&K10&"</td><td>"&L10&"</td><td>"&M10&"</td><td>"&N10&"</td><td>"&O10&"</td></tr>") | H10: =IF($Q10="","",S10&": "&T10) | I10: =IF($Q10="","",U10) | J10: =IF($Q10="","",V10) | K10: =X10 | L10: =IF($Q10="","",Y10) | M10: =IF($Q10="","",Z10) | N10: =IF($Q10="","",AB10) | O10: =IF($Q10="","",AD10&AE10&AF10&AG10&AH10&AI10&AJ10&AK10&AL10&AM10&AN10&AO10&AP10) | Q10: =IF(ISNA(VLOOKUP(A10,B:D,3,0))=TRUE,"",VLOOKUP(A10,B:D,3,0)) | S10: =IF($Q10="","","Year "&VLOOKUP($Q10,Events!A:AM,S$2,0)) | T10: =IF($Q10="","",VLOOKUP($Q10,Events!A:AM,T$2,0)) | U10: =IF($Q10="","",VLOOKUP($Q10,Events!A:AM,U$2,0)) | V10: =IF($Q10="","",VLOOKUP($Q10,Events!A:AM,V$2,0)) | W10: =IF(Q10="","",(Lower(if(T10="Pkmn",("https://projectpokemon.org/images/mini_sprites/"),"https://projectpokemon.org/images/items/")) & Lower(substitute(substitute(substitute(U10,")",""),"(","")," ","_") & ".png"))) | X10: =IF($Q10="","",text(VLOOKUP($Q10,Events!A:AM,X$2,0),"MMM dd")&" "&VLOOKUP($Q10,Events!A:AM,X$2+1,0)) | Y10: =IF($Q10="","",TEXT(VLOOKUP($Q10,Events!A:AM,Y$2,0),"0000")) | Z10: =IF($Q10="","",TEXT(VLOOKUP($Q10,Events!A:AM,Z$2,0),"00000")) | AA10: =IF($Q10="","","Type:") | AB10: =IF($Q10="","",VLOOKUP($Q10,Events!A:AM,AB$2,0)) | AC10: =IF($Q10="","","Languages: ") | AD10: =IF($Q10="","",IF(VLOOKUP($Q10,Events!A:AQ,AD$2,0)=1,AD$1,"")) | AE10: =IF(AND((AD10=AD$1)=TRUE,($AU10>1)=TRUE)=TRUE,IF(COUNTIF($AC10:AC10," & ")=$AU10-1,""," & "),"") | AF10: =IF($Q10="","",IF(VLOOKUP($Q10,Events!A:AQ,AF$2,0)=1,AF$1,"")) | AG10: =IF(AND((AF10=AF$1)=TRUE,($AU10>1)=TRUE)=TRUE,IF(COUNTIF($AC10:AE10," & ")=$AU10-1,""," & "),"") | AH10: =IF($Q10="","",IF(VLOOKUP($Q10,Events!A:AQ,AH$2,0)=1,AH$1,"")) | AI10: =IF(AND((AH10=AH$1)=TRUE,($AU10>1)=TRUE)=TRUE,IF(COUNTIF($AC10:AG10," & ")=$AU10-1,""," & "),"") | AJ10: =IF($Q10="","",IF(VLOOKUP($Q10,Events!A:AQ,AJ$2,0)=1,AJ$1,"")) | AK10: =IF(AND((AJ10=AJ$1)=TRUE,($AU10>1)=TRUE)=TRUE,IF(COUNTIF($AC10:AI10," & ")=$AU10-1,""," & "),"") | AL10: =IF($Q10="","",IF(VLOOKUP($Q10,Events!A:AQ,AL$2,0)=1,AL$1,"")) | AM10: =IF(AND((AL10=AL$1)=TRUE,($AU10>1)=TRUE)=TRUE,IF(COUNTIF($AC10:AK10," & ")=$AU10-1,""," & "),"") | AN10: =IF($Q10="","",IF(VLOOKUP($Q10,Events!A:AQ,AN$2,0)=1,AN$1,"")) | AO10: =IF(AND((AN10=AN$1)=TRUE,($AU10>1)=TRUE)=TRUE,IF(COUNTIF($AC10:AM10," & ")=$AU10-1,""," & "),"") | AP10: =IF($Q10="","",IF(VLOOKUP($Q10,Events!A:AQ,AP$2,0)=1,AP$1,"")) | AQ10: =IF(AND((AP10=AP$1)=TRUE,($AU10>1)=TRUE)=TRUE,IF(COUNTIF($AC10:AO10," & ")=$AU10-1,""," & "),"") | AR10: =IF($Q10="","",IF(VLOOKUP($Q10,Events!A:AQ,AR$2,0)=1,AR$1,"")) | AS10: =IF(AND((AR10=AR$1)=TRUE,($AU10>1)=TRUE)=TRUE,IF(COUNTIF($AC10:AQ10," & ")=$AU10-1,""," & "),"") | AT10: =IF($Q10="","",IF(VLOOKUP($Q10,Events!A:AQ,AT$2,0)=1,AT$1,"")) | AU10: =IF($Q10="","",9-COUNTBLANK(AD10)-COUNTBLANK(AF10)-COUNTBLANK(AH10)-COUNTBLANK(AJ10)-COUNTBLANK(AL10)-COUNTBLANK(AN10)-COUNTBLANK(AP10)-COUNTBLANK(AR10)-COUNTBLANK(AT10))
A11: 9 | B11: =COUNTIF($C$3:C11,1) -> 0 | C11: =Events!AF18 -> 0 | D11: =A11 -> 9 | F11: =IF(H11="","","<tr><td style=""text-align: center;"">"&W11&"</td>"&"<td>"&H11&"</td><td>"&I11&"</td><td>"&J11&"</td><td>"&K11&"</td><td>"&L11&"</td><td>"&M11&"</td><td>"&N11&"</td><td>"&O11&"</td></tr>") | H11: =IF($Q11="","",S11&": "&T11) | I11: =IF($Q11="","",U11) | J11: =IF($Q11="","",V11) | K11: =X11 | L11: =IF($Q11="","",Y11) | M11: =IF($Q11="","",Z11) | N11: =IF($Q11="","",AB11) | O11: =IF($Q11="","",AD11&AE11&AF11&AG11&AH11&AI11&AJ11&AK11&AL11&AM11&AN11&AO11&AP11) | Q11: =IF(ISNA(VLOOKUP(A11,B:D,3,0))=TRUE,"",VLOOKUP(A11,B:D,3,0)) | S11: =IF($Q11="","","Year "&VLOOKUP($Q11,Events!A:AM,S$2,0)) | T11: =IF($Q11="","",VLOOKUP($Q11,Events!A:AM,T$2,0)) | U11: =IF($Q11="","",VLOOKUP($Q11,Events!A:AM,U$2,0)) | V11: =IF($Q11="","",VLOOKUP($Q11,Events!A:AM,V$2,0)) | W11: =IF(Q11="","",(Lower(if(T11="Pkmn",("https://projectpokemon.org/images/mini_sprites/"),"https://projectpokemon.org/images/items/")) & Lower(substitute(substitute(substitute(U11,")",""),"(","")," ","_") & ".png"))) | X11: =IF($Q11="","",text(VLOOKUP($Q11,Events!A:AM,X$2,0),"MMM dd")&" "&VLOOKUP($Q11,Events!A:AM,X$2+1,0)) | Y11: =IF($Q11="","",TEXT(VLOOKUP($Q11,Events!A:AM,Y$2,0),"0000")) | Z11: =IF($Q11="","",TEXT(VLOOKUP($Q11,Events!A:AM,Z$2,0),"00000")) | AA11: =IF($Q11="","","Type:") | AB11: =IF($Q11="","",VLOOKUP($Q11,Events!A:AM,AB$2,0)) | AC11: =IF($Q11="","","Languages: ") | AD11: =IF($Q11="","",IF(VLOOKUP($Q11,Events!A:AQ,AD$2,0)=1,AD$1,"")) | AE11: =IF(AND((AD11=AD$1)=TRUE,($AU11>1)=TRUE)=TRUE,IF(COUNTIF($AC11:AC11," & ")=$AU11-1,""," & "),"") | AF11: =IF($Q11="","",IF(VLOOKUP($Q11,Events!A:AQ,AF$2,0)=1,AF$1,"")) | AG11: =IF(AND((AF11=AF$1)=TRUE,($AU11>1)=TRUE)=TRUE,IF(COUNTIF($AC11:AE11," & ")=$AU11-1,""," & "),"") | AH11: =IF($Q11="","",IF(VLOOKUP($Q11,Events!A:AQ,AH$2,0)=1,AH$1,"")) | AI11: =IF(AND((AH11=AH$1)=TRUE,($AU11>1)=TRUE)=TRUE,IF(COUNTIF($AC11:AG11," & ")=$AU11-1,""," & "),"") | AJ11: =IF($Q11="","",IF(VLOOKUP($Q11,Events!A:AQ,AJ$2,0)=1,AJ$1,"")) | AK11: =IF(AND((AJ11=AJ$1)=TRUE,($AU11>1)=TRUE)=TRUE,IF(COUNTIF($AC11:AI11," & ")=$AU11-1,""," & "),"") | AL11: =IF($Q11="","",IF(VLOOKUP($Q11,Events!A:AQ,AL$2,0)=1,AL$1,"")) | AM11: =IF(AND((AL11=AL$1)=TRUE,($AU11>1)=TRUE)=TRUE,IF(COUNTIF($AC11:AK11," & ")=$AU11-1,""," & "),"") | AN11: =IF($Q11="","",IF(VLOOKUP($Q11,Events!A:AQ,AN$2,0)=1,AN$1,"")) | AO11: =IF(AND((AN11=AN$1)=TRUE,($AU11>1)=TRUE)=TRUE,IF(COUNTIF($AC11:AM11," & ")=$AU11-1,""," & "),"") | AP11: =IF($Q11="","",IF(VLOOKUP($Q11,Events!A:AQ,AP$2,0)=1,AP$1,"")) | AQ11: =IF(AND((AP11=AP$1)=TRUE,($AU11>1)=TRUE)=TRUE,IF(COUNTIF($AC11:AO11," & ")=$AU11-1,""," & "),"") | AR11: =IF($Q11="","",IF(VLOOKUP($Q11,Events!A:AQ,AR$2,0)=1,AR$1,"")) | AS11: =IF(AND((AR11=AR$1)=TRUE,($AU11>1)=TRUE)=TRUE,IF(COUNTIF($AC11:AQ11," & ")=$AU11-1,""," & "),"") | AT11: =IF($Q11="","",IF(VLOOKUP($Q11,Events!A:AQ,AT$2,0)=1,AT$1,"")) | AU11: =IF($Q11="","",9-COUNTBLANK(AD11)-COUNTBLANK(AF11)-COUNTBLANK(AH11)-COUNTBLANK(AJ11)-COUNTBLANK(AL11)-COUNTBLANK(AN11)-COUNTBLANK(AP11)-COUNTBLANK(AR11)-COUNTBLANK(AT11))
A12: 10 | B12: =COUNTIF($C$3:C12,1) -> 0 | C12: =Events!AF19 -> 0 | D12: =A12 -> 10 | F12: =IF(H12="","","<tr><td style=""text-align: center;"">"&W12&"</td>"&"<td>"&H12&"</td><td>"&I12&"</td><td>"&J12&"</td><td>"&K12&"</td><td>"&L12&"</td><td>"&M12&"</td><td>"&N12&"</td><td>"&O12&"</td></tr>") | H12: =IF($Q12="","",S12&": "&T12) | I12: =IF($Q12="","",U12) | J12: =IF($Q12="","",V12) | K12: =X12 | L12: =IF($Q12="","",Y12) | M12: =IF($Q12="","",Z12) | N12: =IF($Q12="","",AB12) | O12: =IF($Q12="","",AD12&AE12&AF12&AG12&AH12&AI12&AJ12&AK12&AL12&AM12&AN12&AO12&AP12) | Q12: =IF(ISNA(VLOOKUP(A12,B:D,3,0))=TRUE,"",VLOOKUP(A12,B:D,3,0)) | S12: =IF($Q12="","","Year "&VLOOKUP($Q12,Events!A:AM,S$2,0)) | T12: =IF($Q12="","",VLOOKUP($Q12,Events!A:AM,T$2,0)) | U12: =IF($Q12="","",VLOOKUP($Q12,Events!A:AM,U$2,0)) | V12: =IF($Q12="","",VLOOKUP($Q12,Events!A:AM,V$2,0)) | W12: =IF(Q12="","",(Lower(if(T12="Pkmn",("https://projectpokemon.org/images/mini_sprites/"),"https://projectpokemon.org/images/items/")) & Lower(substitute(substitute(substitute(U12,")",""),"(","")," ","_") & ".png"))) | X12: =IF($Q12="","",text(VLOOKUP($Q12,Events!A:AM,X$2,0),"MMM dd")&" "&VLOOKUP($Q12,Events!A:AM,X$2+1,0)) | Y12: =IF($Q12="","",TEXT(VLOOKUP($Q12,Events!A:AM,Y$2,0),"0000")) | Z12: =IF($Q12="","",TEXT(VLOOKUP($Q12,Events!A:AM,Z$2,0),"00000")) | AA12: =IF($Q12="","","Type:") | AB12: =IF($Q12="","",VLOOKUP($Q12,Events!A:AM,AB$2,0)) | AC12: =IF($Q12="","","Languages: ") | AD12: =IF($Q12="","",IF(VLOOKUP($Q12,Events!A:AQ,AD$2,0)=1,AD$1,"")) | AE12: =IF(AND((AD12=AD$1)=TRUE,($AU12>1)=TRUE)=TRUE,IF(COUNTIF($AC12:AC12," & ")=$AU12-1,""," & "),"") | AF12: =IF($Q12="","",IF(VLOOKUP($Q12,Events!A:AQ,AF$2,0)=1,AF$1,"")) | AG12: =IF(AND((AF12=AF$1)=TRUE,($AU12>1)=TRUE)=TRUE,IF(COUNTIF($AC12:AE12," & ")=$AU12-1,""," & "),"") | AH12: =IF($Q12="","",IF(VLOOKUP($Q12,Events!A:AQ,AH$2,0)=1,AH$1,"")) | AI12: =IF(AND((AH12=AH$1)=TRUE,($AU12>1)=TRUE)=TRUE,IF(COUNTIF($AC12:AG12," & ")=$AU12-1,""," & "),"") | AJ12: =IF($Q12="","",IF(VLOOKUP($Q12,Events!A:AQ,AJ$2,0)=1,AJ$1,"")) | AK12: =IF(AND((AJ12=AJ$1)=TRUE,($AU12>1)=TRUE)=TRUE,IF(COUNTIF($AC12:AI12," & ")=$AU12-1,""," & "),"") | AL12: =IF($Q12="","",IF(VLOOKUP($Q12,Events!A:AQ,AL$2,0)=1,AL$1,"")) | AM12: =IF(AND((AL12=AL$1)=TRUE,($AU12>1)=TRUE)=TRUE,IF(COUNTIF($AC12:AK12," & ")=$AU12-1,""," & "),"") | AN12: =IF($Q12="","",IF(VLOOKUP($Q12,Events!A:AQ,AN$2,0)=1,AN$1,"")) | AO12: =IF(AND((AN12=AN$1)=TRUE,($AU12>1)=TRUE)=TRUE,IF(COUNTIF($AC12:AM12," & ")=$AU12-1,""," & "),"") | AP12: =IF($Q12="","",IF(VLOOKUP($Q12,Events!A:AQ,AP$2,0)=1,AP$1,"")) | AQ12: =IF(AND((AP12=AP$1)=TRUE,($AU12>1)=TRUE)=TRUE,IF(COUNTIF($AC12:AO12," & ")=$AU12-1,""," & "),"") | AR12: =IF($Q12="","",IF(VLOOKUP($Q12,Events!A:AQ,AR$2,0)=1,AR$1,"")) | AS12: =IF(AND((AR12=AR$1)=TRUE,($AU12>1)=TRUE)=TRUE,IF(COUNTIF($AC12:AQ12," & ")=$AU12-1,""," & "),"") | AT12: =IF($Q12="","",IF(VLOOKUP($Q12,Events!A:AQ,AT$2,0)=1,AT$1,"")) | AU12: =IF($Q12="","",9-COUNTBLANK(AD12)-COUNTBLANK(AF12)-COUNTBLANK(AH12)-COUNTBLANK(AJ12)-COUNTBLANK(AL12)-COUNTBLANK(AN12)-COUNTBLANK(AP12)-COUNTBLANK(AR12)-COUNTBLANK(AT12))
A13: 11 | B13: =COUNTIF($C$3:C13,1) -> 0 | C13: =Events!AF20 -> 0 | D13: =A13 -> 11 | F13: =IF(H13="","","<tr><td style=""text-align: center;"">"&W13&"</td>"&"<td>"&H13&"</td><td>"&I13&"</td><td>"&J13&"</td><td>"&K13&"</td><td>"&L13&"</td><td>"&M13&"</td><td>"&N13&"</td><td>"&O13&"</td></tr>") | H13: =IF($Q13="","",S13&": "&T13) | I13: =IF($Q13="","",U13) | J13: =IF($Q13="","",V13) | K13: =X13 | L13: =IF($Q13="","",Y13) | M13: =IF($Q13="","",Z13) | N13: =IF($Q13="","",AB13) | O13: =IF($Q13="","",AD13&AE13&AF13&AG13&AH13&AI13&AJ13&AK13&AL13&AM13&AN13&AO13&AP13) | Q13: =IF(ISNA(VLOOKUP(A13,B:D,3,0))=TRUE,"",VLOOKUP(A13,B:D,3,0)) | S13: =IF($Q13="","","Year "&VLOOKUP($Q13,Events!A:AM,S$2,0)) | T13: =IF($Q13="","",VLOOKUP($Q13,Events!A:AM,T$2,0)) | U13: =IF($Q13="","",VLOOKUP($Q13,Events!A:AM,U$2,0)) | V13: =IF($Q13="","",VLOOKUP($Q13,Events!A:AM,V$2,0)) | W13: =IF(Q13="","",(Lower(if(T13="Pkmn",("https://projectpokemon.org/images/mini_sprites/"),"https://projectpokemon.org/images/items/")) & Lower(substitute(substitute(substitute(U13,")",""),"(","")," ","_") & ".png"))) | X13: =IF($Q13="","",text(VLOOKUP($Q13,Events!A:AM,X$2,0),"MMM dd")&" "&VLOOKUP($Q13,Events!A:AM,X$2+1,0)) | Y13: =IF($Q13="","",TEXT(VLOOKUP($Q13,Events!A:AM,Y$2,0),"0000")) | Z13: =IF($Q13="","",TEXT(VLOOKUP($Q13,Events!A:AM,Z$2,0),"00000")) | AA13: =IF($Q13="","","Type:") | AB13: =IF($Q13="","",VLOOKUP($Q13,Events!A:AM,AB$2,0)) | AC13: =IF($Q13="","","Languages: ") | AD13: =IF($Q13="","",IF(VLOOKUP($Q13,Events!A:AQ,AD$2,0)=1,AD$1,"")) | AE13: =IF(AND((AD13=AD$1)=TRUE,($AU13>1)=TRUE)=TRUE,IF(COUNTIF($AC13:AC13," & ")=$AU13-1,""," & "),"") | AF13: =IF($Q13="","",IF(VLOOKUP($Q13,Events!A:AQ,AF$2,0)=1,AF$1,"")) | AG13: =IF(AND((AF13=AF$1)=TRUE,($AU13>1)=TRUE)=TRUE,IF(COUNTIF($AC13:AE13," & ")=$AU13-1,""," & "),"") | AH13: =IF($Q13="","",IF(VLOOKUP($Q13,Events!A:AQ,AH$2,0)=1,AH$1,"")) | AI13: =IF(AND((AH13=AH$1)=TRUE,($AU13>1)=TRUE)=TRUE,IF(COUNTIF($AC13:AG13," & ")=$AU13-1,""," & "),"") | AJ13: =IF($Q13="","",IF(VLOOKUP($Q13,Events!A:AQ,AJ$2,0)=1,AJ$1,"")) | AK13: =IF(AND((AJ13=AJ$1)=TRUE,($AU13>1)=TRUE)=TRUE,IF(COUNTIF($AC13:AI13," & ")=$AU13-1,""," & "),"") | AL13: =IF($Q13="","",IF(VLOOKUP($Q13,Events!A:AQ,AL$2,0)=1,AL$1,"")) | AM13: =IF(AND((AL13=AL$1)=TRUE,($AU13>1)=TRUE)=TRUE,IF(COUNTIF($AC13:AK13," & ")=$AU13-1,""," & "),"") | AN13: =IF($Q13="","",IF(VLOOKUP($Q13,Events!A:AQ,AN$2,0)=1,AN$1,"")) | AO13: =IF(AND((AN13=AN$1)=TRUE,($AU13>1)=TRUE)=TRUE,IF(COUNTIF($AC13:AM13," & ")=$AU13-1,""," & "),"") | AP13: =IF($Q13="","",IF(VLOOKUP($Q13,Events!A:AQ,AP$2,0)=1,AP$1,"")) | AQ13: =IF(AND((AP13=AP$1)=TRUE,($AU13>1)=TRUE)=TRUE,IF(COUNTIF($AC13:AO13," & ")=$AU13-1,""," & "),"") | AR13: =IF($Q13="","",IF(VLOOKUP($Q13,Events!A:AQ,AR$2,0)=1,AR$1,"")) | AS13: =IF(AND((AR13=AR$1)=TRUE,($AU13>1)=TRUE)=TRUE,IF(COUNTIF($AC13:AQ13," & ")=$AU13-1,""," & "),"") | AT13: =IF($Q13="","",IF(VLOOKUP($Q13,Events!A:AQ,AT$2,0)=1,AT$1,"")) | AU13: =IF($Q13="","",9-COUNTBLANK(AD13)-COUNTBLANK(AF13)-COUNTBLANK(AH13)-COUNTBLANK(AJ13)-COUNTBLANK(AL13)-COUNTBLANK(AN13)-COUNTBLANK(AP13)-COUNTBLANK(AR13)-COUNTBLANK(AT13))
A14: 12 | B14: =COUNTIF($C$3:C14,1) -> 0 | C14: =Events!AF21 -> 0 | D14: =A14 -> 12 | F14: =IF(H14="","","<tr><td style=""text-align: center;"">"&W14&"</td>"&"<td>"&H14&"</td><td>"&I14&"</td><td>"&J14&"</td><td>"&K14&"</td><td>"&L14&"</td><td>"&M14&"</td><td>"&N14&"</td><td>"&O14&"</td></tr>") | H14: =IF($Q14="","",S14&": "&T14) | I14: =IF($Q14="","",U14) | J14: =IF($Q14="","",V14) | K14: =X14 | L14: =IF($Q14="","",Y14) | M14: =IF($Q14="","",Z14) | N14: =IF($Q14="","",AB14) | O14: =IF($Q14="","",AD14&AE14&AF14&AG14&AH14&AI14&AJ14&AK14&AL14&AM14&AN14&AO14&AP14) | Q14: =IF(ISNA(VLOOKUP(A14,B:D,3,0))=TRUE,"",VLOOKUP(A14,B:D,3,0)) | S14: =IF($Q14="","","Year "&VLOOKUP($Q14,Events!A:AM,S$2,0)) | T14: =IF($Q14="","",VLOOKUP($Q14,Events!A:AM,T$2,0)) | U14: =IF($Q14="","",VLOOKUP($Q14,Events!A:AM,U$2,0)) | V14: =IF($Q14="","",VLOOKUP($Q14,Events!A:AM,V$2,0)) | W14: =IF(Q14="","",(Lower(if(T14="Pkmn",("https://projectpokemon.org/images/mini_sprites/"),"https://projectpokemon.org/images/items/")) & Lower(substitute(substitute(substitute(U14,")",""),"(","")," ","_") & ".png"))) | X14: =IF($Q14="","",text(VLOOKUP($Q14,Events!A:AM,X$2,0),"MMM dd")&" "&VLOOKUP($Q14,Events!A:AM,X$2+1,0)) | Y14: =IF($Q14="","",TEXT(VLOOKUP($Q14,Events!A:AM,Y$2,0),"0000")) | Z14: =IF($Q14="","",TEXT(VLOOKUP($Q14,Events!A:AM,Z$2,0),"00000")) | AA14: =IF($Q14="","","Type:") | AB14: =IF($Q14="","",VLOOKUP($Q14,Events!A:AM,AB$2,0)) | AC14: =IF($Q14="","","Languages: ") | AD14: =IF($Q14="","",IF(VLOOKUP($Q14,Events!A:AQ,AD$2,0)=1,AD$1,"")) | AE14: =IF(AND((AD14=AD$1)=TRUE,($AU14>1)=TRUE)=TRUE,IF(COUNTIF($AC14:AC14," & ")=$AU14-1,""," & "),"") | AF14: =IF($Q14="","",IF(VLOOKUP($Q14,Events!A:AQ,AF$2,0)=1,AF$1,"")) | AG14: =IF(AND((AF14=AF$1)=TRUE,($AU14>1)=TRUE)=TRUE,IF(COUNTIF($AC14:AE14," & ")=$AU14-1,""," & "),"") | AH14: =IF($Q14="","",IF(VLOOKUP($Q14,Events!A:AQ,AH$2,0)=1,AH$1,"")) | AI14: =IF(AND((AH14=AH$1)=TRUE,($AU14>1)=TRUE)=TRUE,IF(COUNTIF($AC14:AG14," & ")=$AU14-1,""," & "),"") | AJ14: =IF($Q14="","",IF(VLOOKUP($Q14,Events!A:AQ,AJ$2,0)=1,AJ$1,"")) | AK14: =IF(AND((AJ14=AJ$1)=TRUE,($AU14>1)=TRUE)=TRUE,IF(COUNTIF($AC14:AI14," & ")=$AU14-1,""," & "),"") | AL14: =IF($Q14="","",IF(VLOOKUP($Q14,Events!A:AQ,AL$2,0)=1,AL$1,"")) | AM14: =IF(AND((AL14=AL$1)=TRUE,($AU14>1)=TRUE)=TRUE,IF(COUNTIF($AC14:AK14," & ")=$AU14-1,""," & "),"") | AN14: =IF($Q14="","",IF(VLOOKUP($Q14,Events!A:AQ,AN$2,0)=1,AN$1,"")) | AO14: =IF(AND((AN14=AN$1)=TRUE,($AU14>1)=TRUE)=TRUE,IF(COUNTIF($AC14:AM14," & ")=$AU14-1,""," & "),"") | AP14: =IF($Q14="","",IF(VLOOKUP($Q14,Events!A:AQ,AP$2,0)=1,AP$1,"")) | AQ14: =IF(AND((AP14=AP$1)=TRUE,($AU14>1)=TRUE)=TRUE,IF(COUNTIF($AC14:AO14," & ")=$AU14-1,""," & "),"") | AR14: =IF($Q14="","",IF(VLOOKUP($Q14,Events!A:AQ,AR$2,0)=1,AR$1,"")) | AS14: =IF(AND((AR14=AR$1)=TRUE,($AU14>1)=TRUE)=TRUE,IF(COUNTIF($AC14:AQ14," & ")=$AU14-1,""," & "),"") | AT14: =IF($Q14="","",IF(VLOOKUP($Q14,Events!A:AQ,AT$2,0)=1,AT$1,"")) | AU14: =IF($Q14="","",9-COUNTBLANK(AD14)-COUNTBLANK(AF14)-COUNTBLANK(AH14)-COUNTBLANK(AJ14)-COUNTBLANK(AL14)-COUNTBLANK(AN14)-COUNTBLANK(AP14)-COUNTBLANK(AR14)-COUNTBLANK(AT14))
... A307: 305 | B307: =COUNTIF($C$3:C307,1) -> 3 | C307: =Events!AF314 | D307: =A307 -> 305 | F307: =IF(H307="","","<tr><td style=""text-align: center;"">"&W307&"</td>"&"<td>"&H307&"</td><td>"&I307&"</td><td>"&J307&"</td><td>"&K307&"</td><td>"&L307&"</td><td>"&M307&"</td><td>"&N307&"</td><td>"&O307&"</td></tr>") | H307: =IF($Q307="","",S307&": "&T307) | I307: =IF($Q307="","",U307) | J307: =IF($Q307="","",V307) | K307: =X307 | L307: =IF($Q307="","",Y307) | M307: =IF($Q307="","",Z307) | N307: =IF($Q307="","",AB307) | O307: =IF($Q307="","",AD307&AE307&AF307&AG307&AH307&AI307&AJ307&AK307&AL307&AM307&AN307&AO307&AP307) | Q307: =IF(ISNA(VLOOKUP(A307,B:D,3,0))=TRUE,"",VLOOKUP(A307,B:D,3,0)) | S307: =IF($Q307="","","Year "&VLOOKUP($Q307,Events!A:AM,S$2,0)) | T307: =IF($Q307="","",VLOOKUP($Q307,Events!A:AM,T$2,0)) | U307: =IF($Q307="","",VLOOKUP($Q307,Events!A:AM,U$2,0)) | V307: =IF($Q307="","",VLOOKUP($Q307,Events!A:AM,V$2,0)) | W307: =IF(Q307="","",(Lower(if(T307="Pkmn",("https://projectpokemon.org/images/mini_sprites/"),"https://projectpokemon.org/images/items/")) & Lower(substitute(substitute(substitute(U307,")",""),"(","")," ","_") & ".png"))) | X307: =IF($Q307="","",text(VLOOKUP($Q307,Events!A:AM,X$2,0),"MMM dd")&" "&VLOOKUP($Q307,Events!A:AM,X$2+1,0)) | Y307: =IF($Q307="","",TEXT(VLOOKUP($Q307,Events!A:AM,Y$2,0),"0000")) | Z307: =IF($Q307="","",TEXT(VLOOKUP($Q307,Events!A:AM,Z$2,0),"00000")) | AA307: =IF($Q307="","","Type:") | AB307: =IF($Q307="","",VLOOKUP($Q307,Events!A:AM,AB$2,0)) | AC307: =IF($Q307="","","Languages: ") | AD307: =IF($Q307="","",IF(VLOOKUP($Q307,Events!A:AQ,AD$2,0)=1,AD$1,"")) | AE307: =IF(AND((AD307=AD$1)=TRUE,($AU307>1)=TRUE)=TRUE,IF(COUNTIF($AC307:AC307," & ")=$AU307-1,""," & "),"") | AF307: =IF($Q307="","",IF(VLOOKUP($Q307,Events!A:AQ,AF$2,0)=1,AF$1,"")) | AG307: =IF(AND((AF307=AF$1)=TRUE,($AU307>1)=TRUE)=TRUE,IF(COUNTIF($AC307:AE307," & ")=$AU307-1,""," & "),"") | AH307: =IF($Q307="","",IF(VLOOKUP($Q307,Events!A:AQ,AH$2,0)=1,AH$1,"")) | AI307: =IF(AND((AH307=AH$1)=TRUE,($AU307>1)=TRUE)=TRUE,IF(COUNTIF($AC307:AG307," & ")=$AU307-1,""," & "),"") | AJ307: =IF($Q307="","",IF(VLOOKUP($Q307,Events!A:AQ,AJ$2,0)=1,AJ$1,"")) | AK307: =IF(AND((AJ307=AJ$1)=TRUE,($AU307>1)=TRUE)=TRUE,IF(COUNTIF($AC307:AI307," & ")=$AU307-1,""," & "),"") | AL307: =IF($Q307="","",IF(VLOOKUP($Q307,Events!A:AQ,AL$2,0)=1,AL$1,"")) | AM307: =IF(AND((AL307=AL$1)=TRUE,($AU307>1)=TRUE)=TRUE,IF(COUNTIF($AC307:AK307," & ")=$AU307-1,""," & "),"") | AN307: =IF($Q307="","",IF(VLOOKUP($Q307,Events!A:AQ,AN$2,0)=1,AN$1,"")) | AO307: =IF(AND((AN307=AN$1)=TRUE,($AU307>1)=TRUE)=TRUE,IF(COUNTIF($AC307:AM307," & ")=$AU307-1,""," & "),"") | AP307: =IF($Q307="","",IF(VLOOKUP($Q307,Events!A:AQ,AP$2,0)=1,AP$1,"")) | AQ307: =IF(AND((AP307=AP$1)=TRUE,($AU307>1)=TRUE)=TRUE,IF(COUNTIF($AC307:AO307," & ")=$AU307-1,""," & "),"") | AR307: =IF($Q307="","",IF(VLOOKUP($Q307,Events!A:AQ,AR$2,0)=1,AR$1,"")) | AS307: =IF(AND((AR307=AR$1)=TRUE,($AU307>1)=TRUE)=TRUE,IF(COUNTIF($AC307:AQ307," & ")=$AU307-1,""," & "),"") | AT307: =IF($Q307="","",IF(VLOOKUP($Q307,Events!A:AQ,AT$2,0)=1,AT$1,"")) | AU307: =IF($Q307="","",9-COUNTBLANK(AD307)-COUNTBLANK(AF307)-COUNTBLANK(AH307)-COUNTBLANK(AJ307)-COUNTBLANK(AL307)-COUNTBLANK(AN307)-COUNTBLANK(AP307)-COUNTBLANK(AR307)-COUNTBLANK(AT307))
A308: 306 | B308: =COUNTIF($C$3:C308,1) -> 3 | C308: =Events!AF315 | D308: =A308 -> 306 | F308: =IF(H308="","","<tr><td style=""text-align: center;"">"&W308&"</td>"&"<td>"&H308&"</td><td>"&I308&"</td><td>"&J308&"</td><td>"&K308&"</td><td>"&L308&"</td><td>"&M308&"</td><td>"&N308&"</td><td>"&O308&"</td></tr>") | K308: =X308
A309: 307 | B309: =COUNTIF($C$3:C309,1) -> 3 | C309: =Events!AF316 | D309: =A309 -> 307
A310: 308 | B310: =COUNTIF($C$3:C310,1) -> 3 | C310: =Events!AF317 | D310: =A310 -> 308
A311: 309 | B311: =COUNTIF($C$3:C311,1) -> 3 | C311: =Events!AF318 | D311: =A311 -> 309
A312: 310 | B312: =COUNTIF($C$3:C312,1) -> 3 | C312: =Events!AF319 | D312: =A312 -> 310
A313: 311 | B313: =COUNTIF($C$3:C313,1) -> 3 | C313: =Events!AF320 | D313: =A313 -> 311
A314: 312 | B314: =COUNTIF($C$3:C314,1) -> 3 | C314: =Events!AF321 | D314: =A314 -> 312
A315: 313 | B315: =COUNTIF($C$3:C315,1) -> 3 | C315: =Events!AF322 | D315: =A315 -> 313
A316: 314 | B316: =COUNTIF($C$3:C316,1) -> 3 | C316: =Events!AF323 | D316: =A316 -> 314
A317: 315 | B317: =COUNTIF($C$3:C317,1) -> 3 | C317: =Events!AF324 | D317: =A317 -> 315
A318: 316 | B318: =COUNTIF($C$3:C318,1) -> 3 | C318: =Events!AF325 | D318: =A318 -> 316
A319: 317 | B319: =COUNTIF($C$3:C319,1) -> 3 | C319: =Events!AF326 | D319: =A319 -> 317
A320: 318 | B320: =COUNTIF($C$3:C320,1) -> 3 | C320: =Events!AF327 | D320: =A320 -> 318
... A499: 497 | B499: =COUNTIF($C$3:C499,1) -> 3 | C499: =Events!AF506 | D499: =A499 -> 497

Sheet Mega Stones
B2: Updated as of 24-Jun-17
B4: =sum(C4:F4)&"/47 | Count:" -> 47/47 | Count: | C4: =sum(C6:C52) -> 20 | D4: =sum(D6:D52) -> 21 | E4: =sum(E6:E52) -> 4 | F4: =sum(F6:F52) -> 2
B5: Name | C5: Found in games | D5: Released as Event | E5: Announced | F5: Unobtainable | G5: Remarks
B6: Abomasite | D6: 1 | G6: 1614 (2017 International Challenge May)
B7: Absolite | C7: 1 | G7: Battle Tree
B8: Aerodactylite | C8: 1 | G8: Battle Tree
B9: Aggronite | F9: 1
B10: Alakazite | C10: 1 | G10: Ancient Poni Path (from Dexio after becoming Champion), Battle Tree
B11: Altarianite | E11: 1
B12: Ampharosite | E12: 1
B13: Audinite | D13: 1 | G13: 1609 (April Mega Stone Gift)
B14: Banettite | D14: 1 | G14: 1616 (June Mega Stone Gift)
B15: Beedrillite | D15: 1 | G15: 1606 & 1609 (2017 International Challenge Feb & April Mega Stone Gift)
B16: Blastoisnite | C16: 1 | G16: Battle Tree (From Red after winning against him in Single Challenge)
B17: Blazikenite | D17: 1 | G17: 1613 & 1616 (Int Chal Apr '17 & June MSG)
B18: Cameruptite | D18: 1 | G18: 1616 (Jun'17 MSG)
B19: Charizardite X | C19: 1 | G19: Battle Tree (From Red after winning against him in Single Challenge)
B20: Charizardite Y | C20: 1 | G20: Battle Tree (From Red after winning against him in Single Challenge)
B21: Diancite | F21: 1
B22: Galladite | D22: 1 | G22: 1617 Int Cha Jun'17 <Tiny Tourney>
B23: Garchompite | C23: 1 | G23: Battle Tree
B24: Gardevoirite | D24: 1 | G24: 1617 Int Cha Jun'17 <Tiny Tourney>
B25: Gengarite | C25: 1 | G25: Battle Tree
B26: Glalitite | C26: 1 | G26: Battle Tree
B27: Gyaradosite | C27: 1 | G27: Battle Tree
B28: Heracronite | D28: 1 | G28: 1611 (May'17 MSG)
B29: Houndoominite | D29: 1 | G29: 1611 (May'17 MSG)
B30: Kangaskhan | C30: 1 | G30: Battle Tree
B31: Latiasite | E31: 1
B32: Latiosite | E32: 1
B33: Lopunnite | D33: 1 | G33: 1617 Int Cha Jun'17 <Tiny Tourney>
B34: Lucarionite | C34: 1 | G34: Battle Tree
B35: Manectite | D35: 1 | G35: 1614 (Int Cha May'17)
B36: Mawilite | D36: 1 | G36: 1606 & 1609 (Int Cha Feb'17 & Apr'17 MSG)
B37: Medichamite | D37: 1 | G37: 1609 (Apr'17 MSG)
B38: Metagrossite | C38: 1 | G38: Battle Tree
B39: Mewtwonite X | D39: 1 | G39: 1605 (Mar'17 MSG)
B40: Mewtwonite Y | D40: 1 | G40: 1605 (Mar'17 MSG)
B41: Pidgeotite | D41: 1 | G41: 1608 & 1611 (Int Cha Mar'17 & May'17 MSG)
B42: Pinsirite | C42: 1 | G42: Battle Tree
B43: Sablenite | C43: 1 | G43: Battle Tree
B44: Salamencite | C44: 1 | G44: Battle Tree
B45: Sceptilite | D45: 1 | G45: 1613 & 1616 (Int Cha Apr'17 & Jun'17 MSG)
B46: Scizorite | C46: 1 | G46: Battle Tree
B47: Sharpedonite | C47: 1 | G47: Battle Tree
B48: Slowbronite | C48: 1 | G48: Battle Tree
B49: Steelixite | D49: 1 | G49: 1608 & 1611 (Int Cha Mar'17 & May'17 MSG)
B50: Swampertite | D50: 1 | G50: 1613 & 1616 (Int Cha Apr'17 & Jun'17 MSG)
B51: Tyranitarite | D51: 1 | G51: 1614 (Int Cha May'17)
B52: Venusaurite | C52: 1 | G52: Battle Tree (From Red after winning against him in Single Challenge)

Sheet Sheet1
A2: Server List
A3: prev | B3: 6b250a38a5a6fb4c02101e66d3795ad9c5193c8d | C3: 5369be5cee9cc9ccec99341ecb9777d0b47c3076
B4: 0a5ce09a5d0ce381e6e9c6acbf56ec94b6c6d3ca | C4: 2bdab2354cbbb0485dc4a04e7d4955874cd05d98 | G4: index | J4: the four wondercard IDS | O4: smallest to largest | P4: entries online | Q4: entries in files | R4: entries in file | S4: exceptions | U4: not in files
B5: 807 | C5: 807 | U5: =IF(ISERROR(LARGE(U6:U461,1))=TRUE,"",LARGE(U6:U461,1))
A6: 1 | B6: 0202_TWHK_revivalherb_EU_E SER_EU_E 202 784 1479034294 | C6: 0202_TWHK_revivalherb_EU_E SER_EU_E 202 784 1479034334 | G6: 1 | J6: =IF(B6="","",IF(LEFT(B6,FIND("_",B6,1)-1)="battle","",IF(LEFT(B6,FIND("_",B6,1)-1)="cup","",IF(LEFT(B6,FIND("_",B6,1)-1)="rate","",VALUE(LEFT(B6,FIND("_",B6,1)-1)))))) -> 202 | K6: =IF(C6="","",IF(LEFT(C6,FIND("_",C6,1)-1)="battle","",IF(LEFT(C6,FIND("_",C6,1)-1)="cup","",IF(LEFT(C6,FIND("_",C6,1)-1)="rate","",VALUE(LEFT(C6,FIND("_",C6,1)-1)))))) -> 202 | L6: =IF(D6="","",IF(LEFT(D6,FIND("_",D6,1)-1)="battle","",IF(LEFT(D6,FIND("_",D6,1)-1)="cup","",VALUE(LEFT(D6,FIND("_",D6,1)-1))))) | M6: =IF(E6="","",IF(LEFT(E6,FIND("_",E6,1)-1)="battle","",IF(LEFT(E6,FIND("_",E6,1)-1)="cup","",VALUE(LEFT(E6,FIND("_",E6,1)-1))))) | O6: =IF(ISERROR(SMALL($J$6:$M$620,G6))=TRUE,"",IF(COUNTIF($O$5:O5,SMALL($J$6:$M$620,G6))>0,"",SMALL($J$6:$M$620,G6))) -> 202 | P6: =IF(ISERROR(SMALL($O$6:$O$620,G6))=TRUE,"",SMALL($O$6:$O$620,G6)) -> 202 | Q6: =IF(ISERROR(SMALL(Events!$D$10:$D$550,G6))=TRUE,"",IF(COUNTIF($Q$5:Q5,SMALL(Events!$D$10:$D$550,G6))>0,"",SMALL(Events!$D$10:$D$550,G6))) -> 0 | R6: =IF(ISERROR(SMALL($Q$6:$Q$620,G6))=TRUE,"",SMALL($Q$6:$Q$620,G6)) -> 0 | U6: =IF(ISERROR(MATCH(P6,$R$6:$R$620,0))=TRUE,IF(ISERROR(MATCH(P6,$S$6:$S$620,0))=TRUE,P6,""),"")
A7: 2 | B7: 0202_TWHK_revivalherb_JP_J SER_JP_J 202 784 1479034293 | C7: 0202_TWHK_revivalherb_JP_J SER_JP_J 202 784 1479034333 | G7: 2 | J7: =IF(B7="","",IF(LEFT(B7,FIND("_",B7,1)-1)="battle","",IF(LEFT(B7,FIND("_",B7,1)-1)="cup","",IF(LEFT(B7,FIND("_",B7,1)-1)="rate","",VALUE(LEFT(B7,FIND("_",B7,1)-1)))))) -> 202 | K7: =IF(C7="","",IF(LEFT(C7,FIND("_",C7,1)-1)="battle","",IF(LEFT(C7,FIND("_",C7,1)-1)="cup","",IF(LEFT(C7,FIND("_",C7,1)-1)="rate","",VALUE(LEFT(C7,FIND("_",C7,1)-1)))))) -> 202 | L7: =IF(D7="","",IF(LEFT(D7,FIND("_",D7,1)-1)="battle","",IF(LEFT(D7,FIND("_",D7,1)-1)="cup","",VALUE(LEFT(D7,FIND("_",D7,1)-1))))) | M7: =IF(E7="","",IF(LEFT(E7,FIND("_",E7,1)-1)="battle","",IF(LEFT(E7,FIND("_",E7,1)-1)="cup","",VALUE(LEFT(E7,FIND("_",E7,1)-1))))) | O7: =IF(ISERROR(SMALL($J$6:$M$620,G7))=TRUE,"",IF(COUNTIF($O$5:O6,SMALL($J$6:$M$620,G7))>0,"",SMALL($J$6:$M$620,G7))) | P7: =IF(ISERROR(SMALL($O$6:$O$620,G7))=TRUE,"",SMALL($O$6:$O$620,G7)) -> 1602 | Q7: =IF(ISERROR(SMALL(Events!$D$10:$D$550,G7))=TRUE,"",IF(COUNTIF($Q$5:Q6,SMALL(Events!$D$10:$D$550,G7))>0,"",SMALL(Events!$D$10:$D$550,G7))) -> 201 | R7: =IF(ISERROR(SMALL($Q$6:$Q$620,G7))=TRUE,"",SMALL($Q$6:$Q$620,G7)) -> 201 | U7: =IF(ISERROR(MATCH(P7,$R$6:$R$620,0))=TRUE,IF(ISERROR(MATCH(P7,$S$6:$S$620,0))=TRUE,P7,""),"")
A8: 3 | B8: 1602_quickball_EU_E SER_EU_E 1602 784 1478073442 | C8: 1602_quickball_EU_E SER_EU_E 1602 784 1478073302 | G8: 3 | J8: =IF(B8="","",IF(LEFT(B8,FIND("_",B8,1)-1)="battle","",IF(LEFT(B8,FIND("_",B8,1)-1)="cup","",IF(LEFT(B8,FIND("_",B8,1)-1)="rate","",VALUE(LEFT(B8,FIND("_",B8,1)-1)))))) -> 1602 | K8: =IF(C8="","",IF(LEFT(C8,FIND("_",C8,1)-1)="battle","",IF(LEFT(C8,FIND("_",C8,1)-1)="cup","",IF(LEFT(C8,FIND("_",C8,1)-1)="rate","",VALUE(LEFT(C8,FIND("_",C8,1)-1)))))) -> 1602 | L8: =IF(D8="","",IF(LEFT(D8,FIND("_",D8,1)-1)="battle","",IF(LEFT(D8,FIND("_",D8,1)-1)="cup","",VALUE(LEFT(D8,FIND("_",D8,1)-1))))) | M8: =IF(E8="","",IF(LEFT(E8,FIND("_",E8,1)-1)="battle","",IF(LEFT(E8,FIND("_",E8,1)-1)="cup","",VALUE(LEFT(E8,FIND("_",E8,1)-1))))) | O8: =IF(ISERROR(SMALL($J$6:$M$620,G8))=TRUE,"",IF(COUNTIF($O$5:O7,SMALL($J$6:$M$620,G8))>0,"",SMALL($J$6:$M$620,G8))) | P8: =IF(ISERROR(SMALL($O$6:$O$620,G8))=TRUE,"",SMALL($O$6:$O$620,G8)) -> 1603 | Q8: =IF(ISERROR(SMALL(Events!$D$10:$D$550,G8))=TRUE,"",IF(COUNTIF($Q$5:Q7,SMALL(Events!$D$10:$D$550,G8))>0,"",SMALL(Events!$D$10:$D$550,G8))) | R8: =IF(ISERROR(SMALL($Q$6:$Q$620,G8))=TRUE,"",SMALL($Q$6:$Q$620,G8)) -> 202 | U8: =IF(ISERROR(MATCH(P8,$R$6:$R$620,0))=TRUE,IF(ISERROR(MATCH(P8,$S$6:$S$620,0))=TRUE,P8,""),"")
A9: 4 | B9: 1602_quickball_EU_F SER_EU_F 1602 784 1478073443 | C9: 1602_quickball_EU_F SER_EU_F 1602 784 1478073303 | G9: 4 | J9: =IF(B9="","",IF(LEFT(B9,FIND("_",B9,1)-1)="battle","",IF(LEFT(B9,FIND("_",B9,1)-1)="cup","",IF(LEFT(B9,FIND("_",B9,1)-1)="rate","",VALUE(LEFT(B9,FIND("_",B9,1)-1)))))) -> 1602 | K9: =IF(C9="","",IF(LEFT(C9,FIND("_",C9,1)-1)="battle","",IF(LEFT(C9,FIND("_",C9,1)-1)="cup","",IF(LEFT(C9,FIND("_",C9,1)-1)="rate","",VALUE(LEFT(C9,FIND("_",C9,1)-1)))))) -> 1602 | L9: =IF(D9="","",IF(LEFT(D9,FIND("_",D9,1)-1)="battle","",IF(LEFT(D9,FIND("_",D9,1)-1)="cup","",VALUE(LEFT(D9,FIND("_",D9,1)-1))))) | M9: =IF(E9="","",IF(LEFT(E9,FIND("_",E9,1)-1)="battle","",IF(LEFT(E9,FIND("_",E9,1)-1)="cup","",VALUE(LEFT(E9,FIND("_",E9,1)-1))))) | O9: =IF(ISERROR(SMALL($J$6:$M$620,G9))=TRUE,"",IF(COUNTIF($O$5:O8,SMALL($J$6:$M$620,G9))>0,"",SMALL($J$6:$M$620,G9))) | P9: =IF(ISERROR(SMALL($O$6:$O$620,G9))=TRUE,"",SMALL($O$6:$O$620,G9)) | Q9: =IF(ISERROR(SMALL(Events!$D$10:$D$550,G9))=TRUE,"",IF(COUNTIF($Q$5:Q8,SMALL(Events!$D$10:$D$550,G9))>0,"",SMALL(Events!$D$10:$D$550,G9))) | R9: =IF(ISERROR(SMALL($Q$6:$Q$620,G9))=TRUE,"",SMALL($Q$6:$Q$620,G9)) -> 203 | U9: =IF(ISERROR(MATCH(P9,$R$6:$R$620,0))=TRUE,IF(ISERROR(MATCH(P9,$S$6:$S$620,0))=TRUE,P9,""),"")
A10: 5 | B10: 1602_quickball_EU_G SER_EU_G 1602 784 1478073444 | C10: 1602_quickball_EU_G SER_EU_G 1602 784 1478073304 | G10: 5 | J10: =IF(B10="","",IF(LEFT(B10,FIND("_",B10,1)-1)="battle","",IF(LEFT(B10,FIND("_",B10,1)-1)="cup","",IF(LEFT(B10,FIND("_",B10,1)-1)="rate","",VALUE(LEFT(B10,FIND("_",B10,1)-1)))))) -> 1602 | K10: =IF(C10="","",IF(LEFT(C10,FIND("_",C10,1)-1)="battle","",IF(LEFT(C10,FIND("_",C10,1)-1)="cup","",IF(LEFT(C10,FIND("_",C10,1)-1)="rate","",VALUE(LEFT(C10,FIND("_",C10,1)-1)))))) -> 1602 | L10: =IF(D10="","",IF(LEFT(D10,FIND("_",D10,1)-1)="battle","",IF(LEFT(D10,FIND("_",D10,1)-1)="cup","",VALUE(LEFT(D10,FIND("_",D10,1)-1))))) | M10: =IF(E10="","",IF(LEFT(E10,FIND("_",E10,1)-1)="battle","",IF(LEFT(E10,FIND("_",E10,1)-1)="cup","",VALUE(LEFT(E10,FIND("_",E10,1)-1))))) | O10: =IF(ISERROR(SMALL($J$6:$M$620,G10))=TRUE,"",IF(COUNTIF($O$5:O9,SMALL($J$6:$M$620,G10))>0,"",SMALL($J$6:$M$620,G10))) -> 1602 | P10: =IF(ISERROR(SMALL($O$6:$O$620,G10))=TRUE,"",SMALL($O$6:$O$620,G10)) | Q10: =IF(ISERROR(SMALL(Events!$D$10:$D$550,G10))=TRUE,"",IF(COUNTIF($Q$5:Q9,SMALL(Events!$D$10:$D$550,G10))>0,"",SMALL(Events!$D$10:$D$550,G10))) -> 202 | R10: =IF(ISERROR(SMALL($Q$6:$Q$620,G10))=TRUE,"",SMALL($Q$6:$Q$620,G10)) -> 204 | U10: =IF(ISERROR(MATCH(P10,$R$6:$R$620,0))=TRUE,IF(ISERROR(MATCH(P10,$S$6:$S$620,0))=TRUE,P10,""),"")
A11: 6 | B11: 1602_quickball_EU_I SER_EU_I 1602 784 1478073443 | C11: 1602_quickball_EU_I SER_EU_I 1602 784 1478073304 | G11: 6 | J11: =IF(B11="","",IF(LEFT(B11,FIND("_",B11,1)-1)="battle","",IF(LEFT(B11,FIND("_",B11,1)-1)="cup","",IF(LEFT(B11,FIND("_",B11,1)-1)="rate","",VALUE(LEFT(B11,FIND("_",B11,1)-1)))))) -> 1602 | K11: =IF(C11="","",IF(LEFT(C11,FIND("_",C11,1)-1)="battle","",IF(LEFT(C11,FIND("_",C11,1)-1)="cup","",IF(LEFT(C11,FIND("_",C11,1)-1)="rate","",VALUE(LEFT(C11,FIND("_",C11,1)-1)))))) -> 1602 | L11: =IF(D11="","",IF(LEFT(D11,FIND("_",D11,1)-1)="battle","",IF(LEFT(D11,FIND("_",D11,1)-1)="cup","",VALUE(LEFT(D11,FIND("_",D11,1)-1))))) | M11: =IF(E11="","",IF(LEFT(E11,FIND("_",E11,1)-1)="battle","",IF(LEFT(E11,FIND("_",E11,1)-1)="cup","",VALUE(LEFT(E11,FIND("_",E11,1)-1))))) | O11: =IF(ISERROR(SMALL($J$6:$M$620,G11))=TRUE,"",IF(COUNTIF($O$5:O10,SMALL($J$6:$M$620,G11))>0,"",SMALL($J$6:$M$620,G11))) | P11: =IF(ISERROR(SMALL($O$6:$O$620,G11))=TRUE,"",SMALL($O$6:$O$620,G11)) | Q11: =IF(ISERROR(SMALL(Events!$D$10:$D$550,G11))=TRUE,"",IF(COUNTIF($Q$5:Q10,SMALL(Events!$D$10:$D$550,G11))>0,"",SMALL(Events!$D$10:$D$550,G11))) -> 203 | R11: =IF(ISERROR(SMALL($Q$6:$Q$620,G11))=TRUE,"",SMALL($Q$6:$Q$620,G11)) -> 205 | U11: =IF(ISERROR(MATCH(P11,$R$6:$R$620,0))=TRUE,IF(ISERROR(MATCH(P11,$S$6:$S$620,0))=TRUE,P11,""),"")
